BEGIN:VCALENDAR
VERSION:2.0
PRODID:-//GARDEN SHALA - ECPv6.7.1//NONSGML v1.0//EN
CALSCALE:GREGORIAN
METHOD:PUBLISH
X-WR-CALNAME:GARDEN SHALA
X-ORIGINAL-URL:https://gardenshala.pl
X-WR-CALDESC:Events for GARDEN SHALA
REFRESH-INTERVAL;VALUE=DURATION:PT1H
X-Robots-Tag:noindex
X-PUBLISHED-TTL:PT1H
BEGIN:VTIMEZONE
TZID:Europe/Helsinki
BEGIN:DAYLIGHT
TZOFFSETFROM:+0200
TZOFFSETTO:+0300
TZNAME:EEST
DTSTART:20240331T010000
END:DAYLIGHT
BEGIN:STANDARD
TZOFFSETFROM:+0300
TZOFFSETTO:+0200
TZNAME:EET
DTSTART:20241027T010000
END:STANDARD
END:VTIMEZONE
BEGIN:VEVENT
DTSTART;TZID=Europe/Helsinki:20241007T173000
DTEND;TZID=Europe/Helsinki:20241007T184500
DTSTAMP:20260422T075953
CREATED:20241024T124934Z
LAST-MODIFIED:20241024T131626Z
UID:10000001-1728322200-1728326700@gardenshala.pl
SUMMARY:VINYASA
DESCRIPTION:
URL:https://gardenshala.pl/yoga/vinyasa/
LOCATION:Garden Shala\, Czołgistów 13\, Łódź\, 94-217\, Poland
END:VEVENT
BEGIN:VEVENT
DTSTART;TZID=Europe/Helsinki:20241007T185000
DTEND;TZID=Europe/Helsinki:20241007T202000
DTSTAMP:20260422T075953
CREATED:20241024T130642Z
LAST-MODIFIED:20241024T130642Z
UID:10000005-1728327000-1728332400@gardenshala.pl
SUMMARY:HATHA
DESCRIPTION:Joga ogólna
URL:https://gardenshala.pl/yoga/hatha/
LOCATION:Garden Shala\, Czołgistów 13\, Łódź\, 94-217\, Poland
END:VEVENT
END:VCALENDAR