BEGIN:VCALENDAR
VERSION:2.0
PRODID:-//GARDEN SHALA - ECPv6.7.1//NONSGML v1.0//EN
CALSCALE:GREGORIAN
METHOD:PUBLISH
X-ORIGINAL-URL:https://gardenshala.pl
X-WR-CALDESC:Events for GARDEN SHALA
REFRESH-INTERVAL;VALUE=DURATION:PT1H
X-Robots-Tag:noindex
X-PUBLISHED-TTL:PT1H
BEGIN:VTIMEZONE
TZID:Europe/Helsinki
BEGIN:DAYLIGHT
TZOFFSETFROM:+0200
TZOFFSETTO:+0300
TZNAME:EEST
DTSTART:20240331T010000
END:DAYLIGHT
BEGIN:STANDARD
TZOFFSETFROM:+0300
TZOFFSETTO:+0200
TZNAME:EET
DTSTART:20241027T010000
END:STANDARD
END:VTIMEZONE
BEGIN:VEVENT
DTSTART;TZID=Europe/Helsinki:20241008T173000
DTEND;TZID=Europe/Helsinki:20241008T184500
DTSTAMP:20260422T080111
CREATED:20241024T131704Z
LAST-MODIFIED:20241024T131704Z
UID:10000010-1728408600-1728413100@gardenshala.pl
SUMMARY:ASHTANGA
DESCRIPTION:Intro do I serii
URL:https://gardenshala.pl/yoga/ashtanga-2/
LOCATION:Garden Shala\, Czołgistów 13\, Łódź\, 94-217\, Poland
END:VEVENT
BEGIN:VEVENT
DTSTART;TZID=Europe/Helsinki:20241008T185000
DTEND;TZID=Europe/Helsinki:20241008T202000
DTSTAMP:20260422T080111
CREATED:20241024T132613Z
LAST-MODIFIED:20241024T132613Z
UID:10000016-1728413400-1728418800@gardenshala.pl
SUMMARY:ASHTANGA
DESCRIPTION:Mysore
URL:https://gardenshala.pl/yoga/ashtanga-7/
LOCATION:Garden Shala\, Czołgistów 13\, Łódź\, 94-217\, Poland
END:VEVENT
END:VCALENDAR