BEGIN:VCALENDAR
VERSION:2.0
PRODID:-//GARDEN SHALA - ECPv6.7.1//NONSGML v1.0//EN
CALSCALE:GREGORIAN
METHOD:PUBLISH
X-ORIGINAL-URL:https://gardenshala.pl
X-WR-CALDESC:Events for GARDEN SHALA
REFRESH-INTERVAL;VALUE=DURATION:PT1H
X-Robots-Tag:noindex
X-PUBLISHED-TTL:PT1H
BEGIN:VTIMEZONE
TZID:Europe/Helsinki
BEGIN:DAYLIGHT
TZOFFSETFROM:+0200
TZOFFSETTO:+0300
TZNAME:EEST
DTSTART:20240331T010000
END:DAYLIGHT
BEGIN:STANDARD
TZOFFSETFROM:+0300
TZOFFSETTO:+0200
TZNAME:EET
DTSTART:20241027T010000
END:STANDARD
END:VTIMEZONE
BEGIN:VEVENT
DTSTART;TZID=Europe/Helsinki:20241026T090000
DTEND;TZID=Europe/Helsinki:20241026T104500
DTSTAMP:20260422T080157
CREATED:20241024T135601Z
LAST-MODIFIED:20241024T135601Z
UID:10000043-1729933200-1729939500@gardenshala.pl
SUMMARY:ASHTANGA
DESCRIPTION:Mysore
URL:https://gardenshala.pl/yoga/ashtanga-29/
LOCATION:Garden Shala\, Czołgistów 13\, Łódź\, 94-217\, Poland
END:VEVENT
BEGIN:VEVENT
DTSTART;TZID=Europe/Helsinki:20241026T113000
DTEND;TZID=Europe/Helsinki:20241026T130000
DTSTAMP:20260422T080157
CREATED:20241024T140033Z
LAST-MODIFIED:20241024T140937Z
UID:10000048-1729942200-1729947600@gardenshala.pl
SUMMARY:MASTER CLASS
DESCRIPTION:
URL:https://gardenshala.pl/yoga/master-class-4/
LOCATION:Garden Shala\, Czołgistów 13\, Łódź\, 94-217\, Poland
END:VEVENT
END:VCALENDAR