BEGIN:VCALENDAR
VERSION:2.0
PRODID:-//GARDEN SHALA - ECPv6.7.1//NONSGML v1.0//EN
CALSCALE:GREGORIAN
METHOD:PUBLISH
X-ORIGINAL-URL:https://gardenshala.pl
X-WR-CALDESC:Events for GARDEN SHALA
REFRESH-INTERVAL;VALUE=DURATION:PT1H
X-Robots-Tag:noindex
X-PUBLISHED-TTL:PT1H
BEGIN:VTIMEZONE
TZID:Europe/Helsinki
BEGIN:DAYLIGHT
TZOFFSETFROM:+0200
TZOFFSETTO:+0300
TZNAME:EEST
DTSTART:20240331T010000
END:DAYLIGHT
BEGIN:STANDARD
TZOFFSETFROM:+0300
TZOFFSETTO:+0200
TZNAME:EET
DTSTART:20241027T010000
END:STANDARD
END:VTIMEZONE
BEGIN:VEVENT
DTSTART;TZID=Europe/Helsinki:20241109T090000
DTEND;TZID=Europe/Helsinki:20241109T104500
DTSTAMP:20260422T063824
CREATED:20241031T111122Z
LAST-MODIFIED:20241031T111122Z
UID:10000066-1731142800-1731149100@gardenshala.pl
SUMMARY:ASHTANGA
DESCRIPTION:Mysore – praktyka własna pod przewodnictwem nauczyciela \nProwadząca: Julia
URL:https://gardenshala.pl/yoga/ashtanga-37/
LOCATION:Garden Shala\, Czołgistów 13\, Łódź\, 94-217\, Poland
END:VEVENT
BEGIN:VEVENT
DTSTART;TZID=Europe/Helsinki:20241109T113000
DTEND;TZID=Europe/Helsinki:20241109T130000
DTSTAMP:20260422T063824
CREATED:20241031T111405Z
LAST-MODIFIED:20241031T111405Z
UID:10000067-1731151800-1731157200@gardenshala.pl
SUMMARY:MASTER CLASS
DESCRIPTION:Zajęcia poświęcone na doskonalenie praktyki asan i technik ich wykonywania. \nNa zajęciach omawiamy często bardziej skomplikowane asany\, czy vinyasy\, które wymagają większej uwagi. \nProwadząca: Julia
URL:https://gardenshala.pl/yoga/master-class-6/
LOCATION:Garden Shala\, Czołgistów 13\, Łódź\, 94-217\, Poland
END:VEVENT
BEGIN:VEVENT
DTSTART;TZID=Europe/Helsinki:20241109T173000
DTEND;TZID=Europe/Helsinki:20241109T193000
DTSTAMP:20260422T063824
CREATED:20241031T112105Z
LAST-MODIFIED:20241031T112105Z
UID:10000069-1731173400-1731180600@gardenshala.pl
SUMMARY:JESIENNE OTULENIE - Rozgrzej się Jesienią
DESCRIPTION:Joga rozgrzewająca\, dynamiczna praktyka asan\, zakończona wydłużoną Savasaną. \nPo praktyce zapraszamy na rozgrzewająca zupę dyniową i rozgrzewającą herbatę!. \nProwadząca: Julia \nZajęcia płatne po za karnetem: 65 zł
URL:https://gardenshala.pl/yoga/jesienne-otulenie-rozgrzej-sie-jesienia/
LOCATION:Garden Shala\, Czołgistów 13\, Łódź\, 94-217\, Poland
END:VEVENT
END:VCALENDAR