BEGIN:VCALENDAR
VERSION:2.0
PRODID:-//GARDEN SHALA - ECPv6.7.1//NONSGML v1.0//EN
CALSCALE:GREGORIAN
METHOD:PUBLISH
X-WR-CALNAME:GARDEN SHALA
X-ORIGINAL-URL:https://gardenshala.pl
X-WR-CALDESC:Events for GARDEN SHALA
REFRESH-INTERVAL;VALUE=DURATION:PT1H
X-Robots-Tag:noindex
X-PUBLISHED-TTL:PT1H
BEGIN:VTIMEZONE
TZID:Europe/Helsinki
BEGIN:DAYLIGHT
TZOFFSETFROM:+0200
TZOFFSETTO:+0300
TZNAME:EEST
DTSTART:20240331T010000
END:DAYLIGHT
BEGIN:STANDARD
TZOFFSETFROM:+0300
TZOFFSETTO:+0200
TZNAME:EET
DTSTART:20241027T010000
END:STANDARD
END:VTIMEZONE
BEGIN:VEVENT
DTSTART;TZID=Europe/Helsinki:20241118T173000
DTEND;TZID=Europe/Helsinki:20241118T184500
DTSTAMP:20260422T063645
CREATED:20241031T142128Z
LAST-MODIFIED:20241031T142128Z
UID:10000080-1731951000-1731955500@gardenshala.pl
SUMMARY:VINYASA
DESCRIPTION:Płynna praktyka asan\, połączona z oddechem. \nMedytacja w ruchu. \nPrwadząca: Ola
URL:https://gardenshala.pl/yoga/vinyasa-13/
LOCATION:Garden Shala\, Czołgistów 13\, Łódź\, 94-217\, Poland
END:VEVENT
BEGIN:VEVENT
DTSTART;TZID=Europe/Helsinki:20241118T185000
DTEND;TZID=Europe/Helsinki:20241118T202000
DTSTAMP:20260422T063645
CREATED:20241031T142149Z
LAST-MODIFIED:20241031T142149Z
UID:10000081-1731955800-1731961200@gardenshala.pl
SUMMARY:HATHA
DESCRIPTION:Joga ogólna \nProwadząca: Ola
URL:https://gardenshala.pl/yoga/hatha-13/
LOCATION:Garden Shala\, Czołgistów 13\, Łódź\, 94-217\, Poland
END:VEVENT
END:VCALENDAR