BEGIN:VCALENDAR
VERSION:2.0
PRODID:-//GARDEN SHALA - ECPv6.7.1//NONSGML v1.0//EN
CALSCALE:GREGORIAN
METHOD:PUBLISH
X-ORIGINAL-URL:https://gardenshala.pl
X-WR-CALDESC:Events for GARDEN SHALA
REFRESH-INTERVAL;VALUE=DURATION:PT1H
X-Robots-Tag:noindex
X-PUBLISHED-TTL:PT1H
BEGIN:VTIMEZONE
TZID:Europe/Helsinki
BEGIN:DAYLIGHT
TZOFFSETFROM:+0200
TZOFFSETTO:+0300
TZNAME:EEST
DTSTART:20240331T010000
END:DAYLIGHT
BEGIN:STANDARD
TZOFFSETFROM:+0300
TZOFFSETTO:+0200
TZNAME:EET
DTSTART:20241027T010000
END:STANDARD
END:VTIMEZONE
BEGIN:VEVENT
DTSTART;TZID=Europe/Helsinki:20241123T090000
DTEND;TZID=Europe/Helsinki:20241123T104500
DTSTAMP:20260422T063751
CREATED:20241031T142605Z
LAST-MODIFIED:20241031T142605Z
UID:10000088-1732352400-1732358700@gardenshala.pl
SUMMARY:ASHTANGA
DESCRIPTION:Mysore – praktyka własna pod przewodnictwem nauczyciela \nProwadząca: Julia
URL:https://gardenshala.pl/yoga/ashtanga-46/
LOCATION:Garden Shala\, Czołgistów 13\, Łódź\, 94-217\, Poland
END:VEVENT
BEGIN:VEVENT
DTSTART;TZID=Europe/Helsinki:20241123T113000
DTEND;TZID=Europe/Helsinki:20241123T130000
DTSTAMP:20260422T063751
CREATED:20241031T142629Z
LAST-MODIFIED:20241031T142629Z
UID:10000089-1732361400-1732366800@gardenshala.pl
SUMMARY:MASTER CLASS
DESCRIPTION:Zajęcia poświęcone na doskonalenie praktyki asan i technik ich wykonywania. \nNa zajęciach omawiamy często bardziej skomplikowane asany\, czy vinyasy\, które wymagają większej uwagi. \nProwadząca: Julia
URL:https://gardenshala.pl/yoga/master-class-8/
LOCATION:Garden Shala\, Czołgistów 13\, Łódź\, 94-217\, Poland
END:VEVENT
END:VCALENDAR