BEGIN:VCALENDAR
VERSION:2.0
PRODID:-//GARDEN SHALA - ECPv6.7.1//NONSGML v1.0//EN
CALSCALE:GREGORIAN
METHOD:PUBLISH
X-WR-CALNAME:GARDEN SHALA
X-ORIGINAL-URL:https://gardenshala.pl
X-WR-CALDESC:Events for GARDEN SHALA
REFRESH-INTERVAL;VALUE=DURATION:PT1H
X-Robots-Tag:noindex
X-PUBLISHED-TTL:PT1H
BEGIN:VTIMEZONE
TZID:Europe/Helsinki
BEGIN:DAYLIGHT
TZOFFSETFROM:+0200
TZOFFSETTO:+0300
TZNAME:EEST
DTSTART:20240331T010000
END:DAYLIGHT
BEGIN:STANDARD
TZOFFSETFROM:+0300
TZOFFSETTO:+0200
TZNAME:EET
DTSTART:20241027T010000
END:STANDARD
END:VTIMEZONE
BEGIN:VEVENT
DTSTART;TZID=Europe/Helsinki:20241126T173000
DTEND;TZID=Europe/Helsinki:20241126T184500
DTSTAMP:20260422T050343
CREATED:20241031T143434Z
LAST-MODIFIED:20241031T143434Z
UID:10000096-1732642200-1732646700@gardenshala.pl
SUMMARY:ASHTANGA
DESCRIPTION:Wprowadzenie do I serii Ashtanga Jogi \nProwadząca: Agnieszka
URL:https://gardenshala.pl/yoga/ashtanga-52/
LOCATION:Garden Shala\, Czołgistów 13\, Łódź\, 94-217\, Poland
END:VEVENT
BEGIN:VEVENT
DTSTART;TZID=Europe/Helsinki:20241126T185000
DTEND;TZID=Europe/Helsinki:20241126T202000
DTSTAMP:20260422T050343
CREATED:20241031T143451Z
LAST-MODIFIED:20241031T143451Z
UID:10000097-1732647000-1732652400@gardenshala.pl
SUMMARY:ASHTANGA
DESCRIPTION:Mysore – praktyka własna Ashtanga Jogi pod przewodnictwem nauczyciela \nProwadząca: Agnieszka
URL:https://gardenshala.pl/yoga/ashtanga-53/
LOCATION:Garden Shala\, Czołgistów 13\, Łódź\, 94-217\, Poland
END:VEVENT
END:VCALENDAR