BEGIN:VCALENDAR
VERSION:2.0
PRODID:-//GARDEN SHALA - ECPv6.7.1//NONSGML v1.0//EN
CALSCALE:GREGORIAN
METHOD:PUBLISH
X-ORIGINAL-URL:https://gardenshala.pl
X-WR-CALDESC:Events for GARDEN SHALA
REFRESH-INTERVAL;VALUE=DURATION:PT1H
X-Robots-Tag:noindex
X-PUBLISHED-TTL:PT1H
BEGIN:VTIMEZONE
TZID:Europe/Helsinki
BEGIN:DAYLIGHT
TZOFFSETFROM:+0200
TZOFFSETTO:+0300
TZNAME:EEST
DTSTART:20240331T010000
END:DAYLIGHT
BEGIN:STANDARD
TZOFFSETFROM:+0300
TZOFFSETTO:+0200
TZNAME:EET
DTSTART:20241027T010000
END:STANDARD
END:VTIMEZONE
BEGIN:VEVENT
DTSTART;TZID=Europe/Helsinki:20241128T173000
DTEND;TZID=Europe/Helsinki:20241128T184500
DTSTAMP:20260422T045745
CREATED:20241031T143621Z
LAST-MODIFIED:20241031T143621Z
UID:10000098-1732815000-1732819500@gardenshala.pl
SUMMARY:HATHA
DESCRIPTION:Joga ogólna \nProwadząca: Weronika
URL:https://gardenshala.pl/yoga/hatha-16/
LOCATION:Garden Shala\, Czołgistów 13\, Łódź\, 94-217\, Poland
END:VEVENT
BEGIN:VEVENT
DTSTART;TZID=Europe/Helsinki:20241128T185000
DTEND;TZID=Europe/Helsinki:20241128T200500
DTSTAMP:20260422T045745
CREATED:20241031T141347Z
LAST-MODIFIED:20241031T143054Z
UID:10000074-1732819800-1732824300@gardenshala.pl
SUMMARY:ASHTANGA
DESCRIPTION:Wprowadzenie do I serii Ashtanga Jogi \nProwadząca: Weronika
URL:https://gardenshala.pl/yoga/ashtanga-40/
LOCATION:Garden Shala\, Czołgistów 13\, Łódź\, 94-217\, Poland
END:VEVENT
END:VCALENDAR