BEGIN:VCALENDAR
VERSION:2.0
PRODID:-//GARDEN SHALA - ECPv6.7.1//NONSGML v1.0//EN
CALSCALE:GREGORIAN
METHOD:PUBLISH
X-ORIGINAL-URL:https://gardenshala.pl
X-WR-CALDESC:Events for GARDEN SHALA
REFRESH-INTERVAL;VALUE=DURATION:PT1H
X-Robots-Tag:noindex
X-PUBLISHED-TTL:PT1H
BEGIN:VTIMEZONE
TZID:Europe/Helsinki
BEGIN:DAYLIGHT
TZOFFSETFROM:+0200
TZOFFSETTO:+0300
TZNAME:EEST
DTSTART:20240331T010000
END:DAYLIGHT
BEGIN:STANDARD
TZOFFSETFROM:+0300
TZOFFSETTO:+0200
TZNAME:EET
DTSTART:20241027T010000
END:STANDARD
END:VTIMEZONE
BEGIN:VEVENT
DTSTART;TZID=Europe/Helsinki:20241209T173000
DTEND;TZID=Europe/Helsinki:20241209T184500
DTSTAMP:20260422T045805
CREATED:20241126T141246Z
LAST-MODIFIED:20241126T141246Z
UID:10000115-1733765400-1733769900@gardenshala.pl
SUMMARY:VINYASA
DESCRIPTION:Płynna praktyka pozycji jogi (asan)\, ruch poączony z oddechem. \nMedytacja w ruchu. \nProwadząca: Ola
URL:https://gardenshala.pl/yoga/vinyasa-19/
LOCATION:Garden Shala\, Czołgistów 13\, Łódź\, 94-217\, Poland
END:VEVENT
BEGIN:VEVENT
DTSTART;TZID=Europe/Helsinki:20241209T185000
DTEND;TZID=Europe/Helsinki:20241209T202000
DTSTAMP:20260422T045805
CREATED:20241126T141314Z
LAST-MODIFIED:20241126T141314Z
UID:10000116-1733770200-1733775600@gardenshala.pl
SUMMARY:HATHA
DESCRIPTION:Statyczna praktyka pozycji jogi z elementami technik oddechowych i medytacji. \nJoga ogólna \nProwadząca: Ola
URL:https://gardenshala.pl/yoga/hatha-20/
LOCATION:Garden Shala\, Czołgistów 13\, Łódź\, 94-217\, Poland
END:VEVENT
END:VCALENDAR