BEGIN:VCALENDAR
VERSION:2.0
PRODID:-//GARDEN SHALA - ECPv6.7.1//NONSGML v1.0//EN
CALSCALE:GREGORIAN
METHOD:PUBLISH
X-ORIGINAL-URL:https://gardenshala.pl
X-WR-CALDESC:Events for GARDEN SHALA
REFRESH-INTERVAL;VALUE=DURATION:PT1H
X-Robots-Tag:noindex
X-PUBLISHED-TTL:PT1H
BEGIN:VTIMEZONE
TZID:Europe/Warsaw
BEGIN:DAYLIGHT
TZOFFSETFROM:+0100
TZOFFSETTO:+0200
TZNAME:CEST
DTSTART:20250330T010000
END:DAYLIGHT
BEGIN:STANDARD
TZOFFSETFROM:+0200
TZOFFSETTO:+0100
TZNAME:CET
DTSTART:20251026T010000
END:STANDARD
TZID:Europe/Helsinki
BEGIN:DAYLIGHT
TZOFFSETFROM:+0200
TZOFFSETTO:+0300
TZNAME:EEST
DTSTART:20250330T010000
END:DAYLIGHT
BEGIN:STANDARD
TZOFFSETFROM:+0300
TZOFFSETTO:+0200
TZNAME:EET
DTSTART:20251026T010000
END:STANDARD
END:VTIMEZONE
BEGIN:VEVENT
DTSTART;TZID=Europe/Warsaw:20250117T173000
DTEND;TZID=Europe/Warsaw:20250117T184500
DTSTAMP:20260422T033222
CREATED:20241214T181624Z
LAST-MODIFIED:20250115T083825Z
UID:10000188-1737135000-1737139500@gardenshala.pl
SUMMARY:WSTĘP DO JOGI - Kurs
DESCRIPTION:WSTĘP DO JOGI \n2-miesięczny Kurs wprowadzający do jogi z Olą Wietechą-Drobik \nZagłąb się w filozofii jogi i wykorzystaj jej bogactwo w praktyce oraz życiu codziennym!
URL:https://gardenshala.pl/yoga/wstep-do-jogi-kurs/
LOCATION:Garden Shala\, Czołgistów 13\, Łódź\, 94-217\, Poland
END:VEVENT
BEGIN:VEVENT
DTSTART;TZID=Europe/Helsinki:20250117T185000
DTEND;TZID=Europe/Helsinki:20250117T202000
DTSTAMP:20260422T033222
CREATED:20241214T183309Z
LAST-MODIFIED:20241214T183309Z
UID:10000209-1737139800-1737145200@gardenshala.pl
SUMMARY:ASHTANGA
DESCRIPTION:Wprowadzenie do II serii Ashtanga Jogi \nProwadząca: Julia
URL:https://gardenshala.pl/yoga/ashtanga-90/
LOCATION:Garden Shala\, Czołgistów 13\, Łódź\, 94-217\, Poland
END:VEVENT
END:VCALENDAR