BEGIN:VCALENDAR
VERSION:2.0
PRODID:-//GARDEN SHALA - ECPv6.7.1//NONSGML v1.0//EN
CALSCALE:GREGORIAN
METHOD:PUBLISH
X-ORIGINAL-URL:https://gardenshala.pl
X-WR-CALDESC:Events for GARDEN SHALA
REFRESH-INTERVAL;VALUE=DURATION:PT1H
X-Robots-Tag:noindex
X-PUBLISHED-TTL:PT1H
BEGIN:VTIMEZONE
TZID:Europe/Helsinki
BEGIN:DAYLIGHT
TZOFFSETFROM:+0200
TZOFFSETTO:+0300
TZNAME:EEST
DTSTART:20250330T010000
END:DAYLIGHT
BEGIN:STANDARD
TZOFFSETFROM:+0300
TZOFFSETTO:+0200
TZNAME:EET
DTSTART:20251026T010000
END:STANDARD
TZID:Europe/Warsaw
BEGIN:DAYLIGHT
TZOFFSETFROM:+0100
TZOFFSETTO:+0200
TZNAME:CEST
DTSTART:20250330T010000
END:DAYLIGHT
BEGIN:STANDARD
TZOFFSETFROM:+0200
TZOFFSETTO:+0100
TZNAME:CET
DTSTART:20251026T010000
END:STANDARD
END:VTIMEZONE
BEGIN:VEVENT
DTSTART;TZID=Europe/Helsinki:20250126T090000
DTEND;TZID=Europe/Helsinki:20250126T100000
DTSTAMP:20260422T031737
CREATED:20241214T182623Z
LAST-MODIFIED:20241214T182623Z
UID:10000200-1737882000-1737885600@gardenshala.pl
SUMMARY:MEDYTACJA & PRANA
DESCRIPTION:Praktyka mindfulness (uważności) i medytacji\, połączona wraz z technikami oddechowymi. \nProwadząca: Julia \n 
URL:https://gardenshala.pl/yoga/medytacja-prana-13/
LOCATION:Garden Shala\, Czołgistów 13\, Łódź\, 94-217\, Poland
END:VEVENT
BEGIN:VEVENT
DTSTART;TZID=Europe/Helsinki:20250126T101000
DTEND;TZID=Europe/Helsinki:20250126T112500
DTSTAMP:20260422T031737
CREATED:20241214T182645Z
LAST-MODIFIED:20241214T182645Z
UID:10000201-1737886200-1737890700@gardenshala.pl
SUMMARY:VINYASA
DESCRIPTION:Energia i Pobudzenie \nPraktyka jogi mająca na celu rozbudzenie ciała i umysłu – czyli idealny sposób na rozpoczęcie niedzieli! \nProwadząca: Julia
URL:https://gardenshala.pl/yoga/vinyasa-32/
LOCATION:Garden Shala\, Czołgistów 13\, Łódź\, 94-217\, Poland
END:VEVENT
BEGIN:VEVENT
DTSTART;TZID=Europe/Warsaw:20250126T183000
DTEND;TZID=Europe/Warsaw:20250126T200000
DTSTAMP:20260422T031737
CREATED:20241229T190606Z
LAST-MODIFIED:20250113T121113Z
UID:10000224-1737916200-1737921600@gardenshala.pl
SUMMARY:MOC WIBRACJI - Relaks przy dźwiękach miś
DESCRIPTION:Głęboka relaksacja przy dźwiękach miś tybetańskich \nProwadząca: Agnieszka Kauer \nWstęp: 50 zł
URL:https://gardenshala.pl/yoga/moc-wibracji-relaks-przy-dzwiekach-mis/
LOCATION:Garden Shala\, Czołgistów 13\, Łódź\, 94-217\, Poland
END:VEVENT
END:VCALENDAR