BEGIN:VCALENDAR
VERSION:2.0
PRODID:-//GARDEN SHALA - ECPv6.7.1//NONSGML v1.0//EN
CALSCALE:GREGORIAN
METHOD:PUBLISH
X-WR-CALNAME:GARDEN SHALA
X-ORIGINAL-URL:https://gardenshala.pl
X-WR-CALDESC:Events for GARDEN SHALA
REFRESH-INTERVAL;VALUE=DURATION:PT1H
X-Robots-Tag:noindex
X-PUBLISHED-TTL:PT1H
BEGIN:VTIMEZONE
TZID:Europe/Helsinki
BEGIN:DAYLIGHT
TZOFFSETFROM:+0200
TZOFFSETTO:+0300
TZNAME:EEST
DTSTART:20250330T010000
END:DAYLIGHT
BEGIN:STANDARD
TZOFFSETFROM:+0300
TZOFFSETTO:+0200
TZNAME:EET
DTSTART:20251026T010000
END:STANDARD
END:VTIMEZONE
BEGIN:VEVENT
DTSTART;TZID=Europe/Helsinki:20250127T173000
DTEND;TZID=Europe/Helsinki:20250127T184500
DTSTAMP:20260422T001557
CREATED:20241214T182950Z
LAST-MODIFIED:20241214T182950Z
UID:10000202-1737999000-1738003500@gardenshala.pl
SUMMARY:VINYASA
DESCRIPTION:Płynna praktyka pozycji jogi (asan)\, ruch poączony z oddechem. \nMedytacja w ruchu. \nProwadząca: Ola
URL:https://gardenshala.pl/yoga/vinyasa-33/
LOCATION:Garden Shala\, Czołgistów 13\, Łódź\, 94-217\, Poland
END:VEVENT
BEGIN:VEVENT
DTSTART;TZID=Europe/Helsinki:20250127T185000
DTEND;TZID=Europe/Helsinki:20250127T202000
DTSTAMP:20260422T001557
CREATED:20241214T182959Z
LAST-MODIFIED:20241214T182959Z
UID:10000203-1738003800-1738009200@gardenshala.pl
SUMMARY:HATHA
DESCRIPTION:Statyczna praktyka pozycji jogi z elementami technik oddechowych i medytacji. \nJoga ogólna \nProwadząca: Ola
URL:https://gardenshala.pl/yoga/hatha-40/
LOCATION:Garden Shala\, Czołgistów 13\, Łódź\, 94-217\, Poland
END:VEVENT
END:VCALENDAR