BEGIN:VCALENDAR
VERSION:2.0
PRODID:-//GARDEN SHALA - ECPv6.7.1//NONSGML v1.0//EN
CALSCALE:GREGORIAN
METHOD:PUBLISH
X-WR-CALNAME:GARDEN SHALA
X-ORIGINAL-URL:https://gardenshala.pl
X-WR-CALDESC:Events for GARDEN SHALA
REFRESH-INTERVAL;VALUE=DURATION:PT1H
X-Robots-Tag:noindex
X-PUBLISHED-TTL:PT1H
BEGIN:VTIMEZONE
TZID:Europe/Helsinki
BEGIN:DAYLIGHT
TZOFFSETFROM:+0200
TZOFFSETTO:+0300
TZNAME:EEST
DTSTART:20250330T010000
END:DAYLIGHT
BEGIN:STANDARD
TZOFFSETFROM:+0300
TZOFFSETTO:+0200
TZNAME:EET
DTSTART:20251026T010000
END:STANDARD
TZID:Europe/Warsaw
BEGIN:DAYLIGHT
TZOFFSETFROM:+0100
TZOFFSETTO:+0200
TZNAME:CEST
DTSTART:20250330T010000
END:DAYLIGHT
BEGIN:STANDARD
TZOFFSETFROM:+0200
TZOFFSETTO:+0100
TZNAME:CET
DTSTART:20251026T010000
END:STANDARD
END:VTIMEZONE
BEGIN:VEVENT
DTSTART;TZID=Europe/Helsinki:20250209T100000
DTEND;TZID=Europe/Helsinki:20250209T111500
DTSTAMP:20260422T001853
CREATED:20250123T190742Z
LAST-MODIFIED:20250130T172608Z
UID:10000238-1739095200-1739099700@gardenshala.pl
SUMMARY:Vinyasa joga
DESCRIPTION:Energia i Pobudzenie \nPraktyka jogi mająca na celu rozbudzenie ciała i umysłu – czyli idealny sposób na rozpoczęcie niedzieli! \nProwadząca: Julia
URL:https://gardenshala.pl/yoga/vinyasa-36/
LOCATION:Garden Shala\, Czołgistów 13\, Łódź\, 94-217\, Poland
END:VEVENT
BEGIN:VEVENT
DTSTART;TZID=Europe/Warsaw:20250209T112500
DTEND;TZID=Europe/Warsaw:20250209T124000
DTSTAMP:20260422T001853
CREATED:20250129T121202Z
LAST-MODIFIED:20250208T142749Z
UID:10000262-1739100300-1739104800@gardenshala.pl
SUMMARY:Łagoda Vinyasa & Joga Nidra
DESCRIPTION:Łagodny\, płynny ruch połączony z oddechem. \nPraktyka zakończona głęboką relaksacją jogi nidry. \nProwadząca: Julia Zabost
URL:https://gardenshala.pl/yoga/vinyasa-joga-nidra-2/
LOCATION:Garden Shala\, Czołgistów 13\, Łódź\, 94-217\, Poland
END:VEVENT
BEGIN:VEVENT
DTSTART;TZID=Europe/Warsaw:20250209T183000
DTEND;TZID=Europe/Warsaw:20250209T200000
DTSTAMP:20260422T001853
CREATED:20250123T185517Z
LAST-MODIFIED:20250123T185517Z
UID:10000226-1739125800-1739131200@gardenshala.pl
SUMMARY:MOC WIBRACJI - Relaks przy dźwiękach miś
DESCRIPTION:Głęboka relaksacja przy dźwiękach miś tybetańskich \nProwadząca: Agnieszka Kauer \nWstęp: 50 zł
URL:https://gardenshala.pl/yoga/moc-wibracji-relaks-przy-dzwiekach-mis-2/
LOCATION:Garden Shala\, Czołgistów 13\, Łódź\, 94-217\, Poland
END:VEVENT
END:VCALENDAR