BEGIN:VCALENDAR
VERSION:2.0
PRODID:-//GARDEN SHALA - ECPv6.7.1//NONSGML v1.0//EN
CALSCALE:GREGORIAN
METHOD:PUBLISH
X-WR-CALNAME:GARDEN SHALA
X-ORIGINAL-URL:https://gardenshala.pl
X-WR-CALDESC:Events for GARDEN SHALA
REFRESH-INTERVAL;VALUE=DURATION:PT1H
X-Robots-Tag:noindex
X-PUBLISHED-TTL:PT1H
BEGIN:VTIMEZONE
TZID:Europe/Warsaw
BEGIN:DAYLIGHT
TZOFFSETFROM:+0100
TZOFFSETTO:+0200
TZNAME:CEST
DTSTART:20250330T010000
END:DAYLIGHT
BEGIN:STANDARD
TZOFFSETFROM:+0200
TZOFFSETTO:+0100
TZNAME:CET
DTSTART:20251026T010000
END:STANDARD
END:VTIMEZONE
BEGIN:VEVENT
DTSTART;TZID=Europe/Warsaw:20250219T171500
DTEND;TZID=Europe/Warsaw:20250219T183000
DTSTAMP:20260422T015214
CREATED:20241220T084216Z
LAST-MODIFIED:20241220T084216Z
UID:10000214-1739985300-1739989800@gardenshala.pl
SUMMARY:ODKRYJ ASHTANGĘ - kurs
DESCRIPTION:ODKRYJ ASHTANGĘ – 2-miesięczny kurs wprowadzający do Ashtanga jogi z Julią Zabost \nOdkryj świat ashtangi\, jej filozofię\, najważniejsze aspekty i zanurz się w ruchu połączonym z oddechem.
URL:https://gardenshala.pl/yoga/odkryj-ashtange-kurs-5/
LOCATION:Garden Shala\, Czołgistów 13\, Łódź\, 94-217\, Poland
END:VEVENT
BEGIN:VEVENT
DTSTART;TZID=Europe/Warsaw:20250219T184000
DTEND;TZID=Europe/Warsaw:20250219T195500
DTSTAMP:20260422T015214
CREATED:20250129T121635Z
LAST-MODIFIED:20250130T181042Z
UID:10000267-1739990400-1739994900@gardenshala.pl
SUMMARY:Vinyasa Joga
DESCRIPTION:Power Vinyasa \nDynamiczna praktyka asan – rozgrzewająca i wzmacniająca ciało\, przeplatana płynnymi przejściami.  \nProwadząca: Julia Zabost
URL:https://gardenshala.pl/yoga/vinyasa-41/
LOCATION:Garden Shala\, Czołgistów 13\, Łódź\, 94-217\, Poland
END:VEVENT
END:VCALENDAR