BEGIN:VCALENDAR
VERSION:2.0
PRODID:-//GARDEN SHALA - ECPv6.7.1//NONSGML v1.0//EN
CALSCALE:GREGORIAN
METHOD:PUBLISH
X-ORIGINAL-URL:https://gardenshala.pl
X-WR-CALDESC:Events for GARDEN SHALA
REFRESH-INTERVAL;VALUE=DURATION:PT1H
X-Robots-Tag:noindex
X-PUBLISHED-TTL:PT1H
BEGIN:VTIMEZONE
TZID:Europe/Helsinki
BEGIN:DAYLIGHT
TZOFFSETFROM:+0200
TZOFFSETTO:+0300
TZNAME:EEST
DTSTART:20250330T010000
END:DAYLIGHT
BEGIN:STANDARD
TZOFFSETFROM:+0300
TZOFFSETTO:+0200
TZNAME:EET
DTSTART:20251026T010000
END:STANDARD
END:VTIMEZONE
BEGIN:VEVENT
DTSTART;TZID=Europe/Helsinki:20250227T173000
DTEND;TZID=Europe/Helsinki:20250227T184500
DTSTAMP:20260421T223319
CREATED:20250129T115840Z
LAST-MODIFIED:20250130T181545Z
UID:10000256-1740677400-1740681900@gardenshala.pl
SUMMARY:Hatha Joga
DESCRIPTION:Statyczna praktyka pozycji jogi z elementami technik oddechowych i medytacji. \nJoga ogólna. \nProwadząca: Weronika
URL:https://gardenshala.pl/yoga/hatha-48/
LOCATION:Garden Shala\, Czołgistów 13\, Łódź\, 94-217\, Poland
END:VEVENT
BEGIN:VEVENT
DTSTART;TZID=Europe/Helsinki:20250227T185000
DTEND;TZID=Europe/Helsinki:20250227T200000
DTSTAMP:20260421T223319
CREATED:20250129T115822Z
LAST-MODIFIED:20250219T195832Z
UID:10000257-1740682200-1740686400@gardenshala.pl
SUMMARY:Ashtanga dla początkujących
DESCRIPTION:Wprowadzenie do I serii Ashtanga Jogi \nProwadząca: Mariana
URL:https://gardenshala.pl/yoga/ashtanga-111/
LOCATION:Garden Shala\, Czołgistów 13\, Łódź\, 94-217\, Poland
END:VEVENT
BEGIN:VEVENT
DTSTART;TZID=Europe/Helsinki:20250227T200500
DTEND;TZID=Europe/Helsinki:20250227T210500
DTSTAMP:20260421T223319
CREATED:20250129T122201Z
LAST-MODIFIED:20250130T181627Z
UID:10000271-1740686700-1740690300@gardenshala.pl
SUMMARY:Pranayama & Medytacja
DESCRIPTION:Praktyka mindfulness (uważności) i medytacji\, połączona wraz z technikami oddechowymi. \nProwadząca: Mariana Krulikovska
URL:https://gardenshala.pl/yoga/medytacja-pranayama-4/
LOCATION:Garden Shala\, Czołgistów 13\, Łódź\, 94-217\, Poland
END:VEVENT
END:VCALENDAR