BEGIN:VCALENDAR
VERSION:2.0
PRODID:-//GARDEN SHALA - ECPv6.7.1//NONSGML v1.0//EN
CALSCALE:GREGORIAN
METHOD:PUBLISH
X-ORIGINAL-URL:https://gardenshala.pl
X-WR-CALDESC:Events for GARDEN SHALA
REFRESH-INTERVAL;VALUE=DURATION:PT1H
X-Robots-Tag:noindex
X-PUBLISHED-TTL:PT1H
BEGIN:VTIMEZONE
TZID:Europe/Helsinki
BEGIN:DAYLIGHT
TZOFFSETFROM:+0200
TZOFFSETTO:+0300
TZNAME:EEST
DTSTART:20250330T010000
END:DAYLIGHT
BEGIN:STANDARD
TZOFFSETFROM:+0300
TZOFFSETTO:+0200
TZNAME:EET
DTSTART:20251026T010000
END:STANDARD
END:VTIMEZONE
BEGIN:VEVENT
DTSTART;TZID=Europe/Helsinki:20250410T173000
DTEND;TZID=Europe/Helsinki:20250410T184500
DTSTAMP:20260421T205601
CREATED:20250324T123452Z
LAST-MODIFIED:20250324T123452Z
UID:10000357-1744306200-1744310700@gardenshala.pl
SUMMARY:Hatha Joga
DESCRIPTION:Statyczna praktyka pozycji jogi z elementami technik oddechowych i medytacji. \nJoga ogólna. \nProwadząca: Weronika
URL:https://gardenshala.pl/yoga/hatha-joga-13/
LOCATION:Garden Shala\, Czołgistów 13\, Łódź\, 94-217\, Poland
END:VEVENT
BEGIN:VEVENT
DTSTART;TZID=Europe/Helsinki:20250410T190000
DTEND;TZID=Europe/Helsinki:20250410T203000
DTSTAMP:20260421T205601
CREATED:20250324T123512Z
LAST-MODIFIED:20250324T123512Z
UID:10000358-1744311600-1744317000@gardenshala.pl
SUMMARY:Ashtanga dla początkujących
DESCRIPTION:Wprowadzenie do I serii Ashtanga Jogi \nProwadząca: Mariana
URL:https://gardenshala.pl/yoga/ashtanga-dla-poczatkujacych-13/
LOCATION:Garden Shala\, Czołgistów 13\, Łódź\, 94-217\, Poland
END:VEVENT
BEGIN:VEVENT
DTSTART;TZID=Europe/Helsinki:20250410T204000
DTEND;TZID=Europe/Helsinki:20250410T214000
DTSTAMP:20260421T205601
CREATED:20250222T174640Z
LAST-MODIFIED:20250324T122259Z
UID:10000327-1744317600-1744321200@gardenshala.pl
SUMMARY:Pranayama & Medytacja
DESCRIPTION:Praktyka mindfulness (uważności) i medytacji\, połączona wraz z technikami oddechowymi. \nProwadząca: Mariana Krulikovska
URL:https://gardenshala.pl/yoga/pranayama-medytacja-5/
LOCATION:Garden Shala\, Czołgistów 13\, Łódź\, 94-217\, Poland
END:VEVENT
END:VCALENDAR