BEGIN:VCALENDAR
VERSION:2.0
PRODID:-//GARDEN SHALA - ECPv6.7.1//NONSGML v1.0//EN
CALSCALE:GREGORIAN
METHOD:PUBLISH
X-ORIGINAL-URL:https://gardenshala.pl
X-WR-CALDESC:Events for GARDEN SHALA
REFRESH-INTERVAL;VALUE=DURATION:PT1H
X-Robots-Tag:noindex
X-PUBLISHED-TTL:PT1H
BEGIN:VTIMEZONE
TZID:Europe/Helsinki
BEGIN:DAYLIGHT
TZOFFSETFROM:+0200
TZOFFSETTO:+0300
TZNAME:EEST
DTSTART:20250330T010000
END:DAYLIGHT
BEGIN:STANDARD
TZOFFSETFROM:+0300
TZOFFSETTO:+0200
TZNAME:EET
DTSTART:20251026T010000
END:STANDARD
TZID:Europe/Warsaw
BEGIN:DAYLIGHT
TZOFFSETFROM:+0100
TZOFFSETTO:+0200
TZNAME:CEST
DTSTART:20250330T010000
END:DAYLIGHT
BEGIN:STANDARD
TZOFFSETFROM:+0200
TZOFFSETTO:+0100
TZNAME:CET
DTSTART:20251026T010000
END:STANDARD
END:VTIMEZONE
BEGIN:VEVENT
DTSTART;TZID=Europe/Helsinki:20250426T090000
DTEND;TZID=Europe/Helsinki:20250426T104500
DTSTAMP:20260421T223321
CREATED:20250324T130406Z
LAST-MODIFIED:20250324T130406Z
UID:10000387-1745658000-1745664300@gardenshala.pl
SUMMARY:Ashtanga Mysore
DESCRIPTION:Mysore – praktyka własna pod przewodnictwem nauczyciela \nProwadząca: Julia
URL:https://gardenshala.pl/yoga/ashtanga-mysore-17/
LOCATION:Garden Shala\, Czołgistów 13\, Łódź\, 94-217\, Poland
END:VEVENT
BEGIN:VEVENT
DTSTART;TZID=Europe/Warsaw:20250426T180000
DTEND;TZID=Europe/Warsaw:20250426T193000
DTSTAMP:20260421T223321
CREATED:20250417T083442Z
LAST-MODIFIED:20250417T083511Z
UID:10000397-1745690400-1745695800@gardenshala.pl
SUMMARY:Sunset Yoga & Chill w ogrodzie
DESCRIPTION:Praktyka jogi w ogrodzie & chili na hamakach\, przy zachodzącym słońcu! \nInwestycja: 40 zł \nPłatność na miejscu lub na BLIK 690399514 \nProwadząca: Julia Zabost
URL:https://gardenshala.pl/yoga/sunset-yoga-chill/
LOCATION:Garden Shala\, Czołgistów 13\, Łódź\, 94-217\, Poland
END:VEVENT
END:VCALENDAR