BEGIN:VCALENDAR
VERSION:2.0
PRODID:-//GARDEN SHALA - ECPv6.7.1//NONSGML v1.0//EN
CALSCALE:GREGORIAN
METHOD:PUBLISH
X-WR-CALNAME:GARDEN SHALA
X-ORIGINAL-URL:https://gardenshala.pl
X-WR-CALDESC:Events for GARDEN SHALA
REFRESH-INTERVAL;VALUE=DURATION:PT1H
X-Robots-Tag:noindex
X-PUBLISHED-TTL:PT1H
BEGIN:VTIMEZONE
TZID:Europe/Warsaw
BEGIN:DAYLIGHT
TZOFFSETFROM:+0100
TZOFFSETTO:+0200
TZNAME:CEST
DTSTART:20250330T010000
END:DAYLIGHT
BEGIN:STANDARD
TZOFFSETFROM:+0200
TZOFFSETTO:+0100
TZNAME:CET
DTSTART:20251026T010000
END:STANDARD
END:VTIMEZONE
BEGIN:VEVENT
DTSTART;TZID=Europe/Warsaw:20250525T100000
DTEND;TZID=Europe/Warsaw:20250525T173000
DTSTAMP:20260421T174858
CREATED:20250427T131249Z
LAST-MODIFIED:20250427T131249Z
UID:10000460-1748167200-1748194200@gardenshala.pl
SUMMARY:Dni Otwarte Garden Shali!
DESCRIPTION:Zapraszamy na Dni Otwarte w Garden Shali! \nOdwiedź naszą przestrzeń\, poznaj naszych nauczycieli i zajęcia\, które oferujemy! \nWstęp wolny
URL:https://gardenshala.pl/yoga/dni-otwarte-garden-shali/
LOCATION:Garden Shala\, Czołgistów 13\, Łódź\, 94-217\, Poland
END:VEVENT
END:VCALENDAR