BEGIN:VCALENDAR
VERSION:2.0
PRODID:-//GARDEN SHALA - ECPv6.7.1//NONSGML v1.0//EN
CALSCALE:GREGORIAN
METHOD:PUBLISH
X-ORIGINAL-URL:https://gardenshala.pl
X-WR-CALDESC:Events for GARDEN SHALA
REFRESH-INTERVAL;VALUE=DURATION:PT1H
X-Robots-Tag:noindex
X-PUBLISHED-TTL:PT1H
BEGIN:VTIMEZONE
TZID:Europe/Helsinki
BEGIN:DAYLIGHT
TZOFFSETFROM:+0200
TZOFFSETTO:+0300
TZNAME:EEST
DTSTART:20250330T010000
END:DAYLIGHT
BEGIN:STANDARD
TZOFFSETFROM:+0300
TZOFFSETTO:+0200
TZNAME:EET
DTSTART:20251026T010000
END:STANDARD
TZID:Europe/Warsaw
BEGIN:DAYLIGHT
TZOFFSETFROM:+0100
TZOFFSETTO:+0200
TZNAME:CEST
DTSTART:20250330T010000
END:DAYLIGHT
BEGIN:STANDARD
TZOFFSETFROM:+0200
TZOFFSETTO:+0100
TZNAME:CET
DTSTART:20251026T010000
END:STANDARD
END:VTIMEZONE
BEGIN:VEVENT
DTSTART;TZID=Europe/Helsinki:20250621T090000
DTEND;TZID=Europe/Helsinki:20250621T104500
DTSTAMP:20260421T161543
CREATED:20250526T091909Z
LAST-MODIFIED:20250526T091909Z
UID:10000502-1750496400-1750502700@gardenshala.pl
SUMMARY:Ashtanga Mysore
DESCRIPTION:Mysore – praktyka własna pod przewodnictwem nauczyciela \nProwadząca: Julia
URL:https://gardenshala.pl/yoga/ashtanga-mysore-33/
LOCATION:Garden Shala\, Czołgistów 13\, Łódź\, 94-217\, Poland
END:VEVENT
BEGIN:VEVENT
DTSTART;TZID=Europe/Warsaw:20250621T110000
DTEND;TZID=Europe/Warsaw:20250621T133000
DTSTAMP:20260421T161543
CREATED:20250607T182815Z
LAST-MODIFIED:20250607T182815Z
UID:10000534-1750503600-1750512600@gardenshala.pl
SUMMARY:Międzynarodowy Dzień Jogi - Taniec Smoka
DESCRIPTION:Sekwencja Smoka wraz z legendą \nPraktyka jogi\, oddechu i medytacji \nProwadzące: \nAleksandra Wietecha i Julia Zabost \nkoszt: 140 zł (50% kwoty płatne przy zapisie\, gwarancja rezerwacji miejsca)
URL:https://gardenshala.pl/yoga/miedzynarodowy-dzien-jogi-taniec-smoka/
LOCATION:Garden Shala\, Czołgistów 13\, Łódź\, 94-217\, Poland
END:VEVENT
END:VCALENDAR