BEGIN:VCALENDAR
VERSION:2.0
PRODID:-//GARDEN SHALA - ECPv6.7.1//NONSGML v1.0//EN
CALSCALE:GREGORIAN
METHOD:PUBLISH
X-WR-CALNAME:GARDEN SHALA
X-ORIGINAL-URL:https://gardenshala.pl
X-WR-CALDESC:Events for GARDEN SHALA
REFRESH-INTERVAL;VALUE=DURATION:PT1H
X-Robots-Tag:noindex
X-PUBLISHED-TTL:PT1H
BEGIN:VTIMEZONE
TZID:Europe/Warsaw
BEGIN:DAYLIGHT
TZOFFSETFROM:+0100
TZOFFSETTO:+0200
TZNAME:CEST
DTSTART:20250330T010000
END:DAYLIGHT
BEGIN:STANDARD
TZOFFSETFROM:+0200
TZOFFSETTO:+0100
TZNAME:CET
DTSTART:20251026T010000
END:STANDARD
END:VTIMEZONE
BEGIN:VEVENT
DTSTART;TZID=Europe/Warsaw:20251011T090000
DTEND;TZID=Europe/Warsaw:20251011T110000
DTSTAMP:20260421T094045
CREATED:20250628T084437Z
LAST-MODIFIED:20250628T084437Z
UID:10000608-1760173200-1760180400@gardenshala.pl
SUMMARY:Mysore z Karoliną Sumińską
DESCRIPTION:Mysore \nKoszt: 60 zł
URL:https://gardenshala.pl/yoga/mysore-z-karolina-suminska/
LOCATION:Garden Shala\, Czołgistów 13\, Łódź\, 94-217\, Poland
END:VEVENT
BEGIN:VEVENT
DTSTART;TZID=Europe/Warsaw:20251011T113000
DTEND;TZID=Europe/Warsaw:20251011T133000
DTSTAMP:20260421T094045
CREATED:20250628T084705Z
LAST-MODIFIED:20250628T084742Z
UID:10000610-1760182200-1760189400@gardenshala.pl
SUMMARY:Warsztaty z Karoliną Sumińską
DESCRIPTION:Oddech\, Praną\, Energia życiowa \n 
URL:https://gardenshala.pl/yoga/warsztaty-z-karolina-suminska-2/
LOCATION:Garden Shala\, Czołgistów 13\, Łódź\, 94-217\, Poland
END:VEVENT
END:VCALENDAR