BEGIN:VCALENDAR
VERSION:2.0
PRODID:-//GARDEN SHALA - ECPv6.7.1//NONSGML v1.0//EN
CALSCALE:GREGORIAN
METHOD:PUBLISH
X-WR-CALNAME:GARDEN SHALA
X-ORIGINAL-URL:https://gardenshala.pl
X-WR-CALDESC:Events for GARDEN SHALA
REFRESH-INTERVAL;VALUE=DURATION:PT1H
X-Robots-Tag:noindex
X-PUBLISHED-TTL:PT1H
BEGIN:VTIMEZONE
TZID:Europe/Warsaw
BEGIN:DAYLIGHT
TZOFFSETFROM:+0100
TZOFFSETTO:+0200
TZNAME:CEST
DTSTART:20250330T010000
END:DAYLIGHT
BEGIN:STANDARD
TZOFFSETFROM:+0200
TZOFFSETTO:+0100
TZNAME:CET
DTSTART:20251026T010000
END:STANDARD
END:VTIMEZONE
BEGIN:VEVENT
DTSTART;TZID=Europe/Warsaw:20251107T180000
DTEND;TZID=Europe/Warsaw:20251107T210000
DTSTAMP:20260421T075812
CREATED:20250710T163336Z
LAST-MODIFIED:20250710T164151Z
UID:10000625-1762538400-1762549200@gardenshala.pl
SUMMARY:Workshops with Eyal Chehanowski
DESCRIPTION:Workshops with Eyal Chehanowski \nSubject: Hatha Yoga Pradipika \nEarly Bird: 950 PLN \nRegular price: 1100 PLN \nSingle workshop: 320 PLN
URL:https://gardenshala.pl/yoga/workshops-with-eyal-chehanowski/
LOCATION:Garden Shala\, Czołgistów 13\, Łódź\, 94-217\, Poland
END:VEVENT
END:VCALENDAR