BEGIN:VCALENDAR
VERSION:2.0
PRODID:-//GARDEN SHALA - ECPv6.7.1//NONSGML v1.0//EN
CALSCALE:GREGORIAN
METHOD:PUBLISH
X-ORIGINAL-URL:https://gardenshala.pl
X-WR-CALDESC:Events for GARDEN SHALA
REFRESH-INTERVAL;VALUE=DURATION:PT1H
X-Robots-Tag:noindex
X-PUBLISHED-TTL:PT1H
BEGIN:VTIMEZONE
TZID:Europe/Warsaw
BEGIN:DAYLIGHT
TZOFFSETFROM:+0100
TZOFFSETTO:+0200
TZNAME:CEST
DTSTART:20250330T010000
END:DAYLIGHT
BEGIN:STANDARD
TZOFFSETFROM:+0200
TZOFFSETTO:+0100
TZNAME:CET
DTSTART:20251026T010000
END:STANDARD
END:VTIMEZONE
BEGIN:VEVENT
DTSTART;TZID=Europe/Warsaw:20251126T173000
DTEND;TZID=Europe/Warsaw:20251126T184500
DTSTAMP:20260421T044448
CREATED:20251018T182542Z
LAST-MODIFIED:20251018T182542Z
UID:10000858-1764178200-1764182700@gardenshala.pl
SUMMARY:Joga dla początkujących
DESCRIPTION:Łagodne i płynne wejście w praktykę jogi z Gosią.
URL:https://gardenshala.pl/yoga/joga-dla-poczatkujacych-74/
LOCATION:Garden Shala\, Czołgistów 13\, Łódź\, 94-217\, Poland
END:VEVENT
BEGIN:VEVENT
DTSTART;TZID=Europe/Warsaw:20251126T190000
DTEND;TZID=Europe/Warsaw:20251126T201500
DTSTAMP:20260421T044448
CREATED:20251102T211446Z
LAST-MODIFIED:20251102T211446Z
UID:10000895-1764183600-1764188100@gardenshala.pl
SUMMARY:Magiczna Praktyka Jogi? Spotkanie z Jogą Nidrą
DESCRIPTION:Zapraszamy na otwarte zajęcia Joga Nidra. Przedstawiamy na nich\, czym jest\, jak działa i dlaczego stała się odrębną gałęzią jogi. \nNajpierw zagłębimy się w ożywiającej dyskusji\, by następnie doświadczyć magii tej kojącej praktyki. \nProwadzące: Małgosia i Julia \nWstęp wolny
URL:https://gardenshala.pl/yoga/magiczna-praktyka-jogi-spotkanie-z-joga-nidra/
LOCATION:Garden Shala\, Czołgistów 13\, Łódź\, 94-217\, Poland
END:VEVENT
END:VCALENDAR