BEGIN:VCALENDAR
VERSION:2.0
PRODID:-//GARDEN SHALA - ECPv6.7.1//NONSGML v1.0//EN
CALSCALE:GREGORIAN
METHOD:PUBLISH
X-WR-CALNAME:GARDEN SHALA
X-ORIGINAL-URL:https://gardenshala.pl
X-WR-CALDESC:Events for GARDEN SHALA
REFRESH-INTERVAL;VALUE=DURATION:PT1H
X-Robots-Tag:noindex
X-PUBLISHED-TTL:PT1H
BEGIN:VTIMEZONE
TZID:Europe/Warsaw
BEGIN:DAYLIGHT
TZOFFSETFROM:+0100
TZOFFSETTO:+0200
TZNAME:CEST
DTSTART:20250330T010000
END:DAYLIGHT
BEGIN:STANDARD
TZOFFSETFROM:+0200
TZOFFSETTO:+0100
TZNAME:CET
DTSTART:20251026T010000
END:STANDARD
END:VTIMEZONE
BEGIN:VEVENT
DTSTART;TZID=Europe/Warsaw:20251217T173000
DTEND;TZID=Europe/Warsaw:20251217T183000
DTSTAMP:20260421T003511
CREATED:20251128T124623Z
LAST-MODIFIED:20251128T124623Z
UID:10000912-1765992600-1765996200@gardenshala.pl
SUMMARY:Joga dla początkujących
DESCRIPTION:Łagodne i płynne wejście w praktykę jogi z Gosią.
URL:https://gardenshala.pl/yoga/joga-dla-poczatkujacych-80/
LOCATION:Garden Shala\, Czołgistów 13\, Łódź\, 94-217\, Poland
END:VEVENT
BEGIN:VEVENT
DTSTART;TZID=Europe/Warsaw:20251217T184500
DTEND;TZID=Europe/Warsaw:20251217T200000
DTSTAMP:20260421T003511
CREATED:20251128T124653Z
LAST-MODIFIED:20251128T124653Z
UID:10000913-1765997100-1766001600@gardenshala.pl
SUMMARY:Joga Ogólna
DESCRIPTION:Harmonijna praktyka jogi\, która wprowadzi więcej swobody i wzmocnienia do Twojego ciała. Wspiera budowanie uważności i wewnętrznej równowagi. \nProwadząca: Małgosia
URL:https://gardenshala.pl/yoga/joga-ogolna-3/
LOCATION:Garden Shala\, Czołgistów 13\, Łódź\, 94-217\, Poland
END:VEVENT
BEGIN:VEVENT
DTSTART;TZID=Europe/Warsaw:20251217T201500
DTEND;TZID=Europe/Warsaw:20251217T211500
DTSTAMP:20260421T003511
CREATED:20251128T125552Z
LAST-MODIFIED:20251128T125700Z
UID:10000931-1766002500-1766006100@gardenshala.pl
SUMMARY:Wieczorna Joga Nidra
DESCRIPTION:Joga nidra\, określana także jogą snu. \nPraktyka bezwysiłkowa\, prowadząca do głębokiej relaksacji. \nProwadząca: Gosia
URL:https://gardenshala.pl/yoga/wieczorna-joga-nidra-11/
LOCATION:Garden Shala\, Czołgistów 13\, Łódź\, 94-217\, Poland
END:VEVENT
END:VCALENDAR