BEGIN:VCALENDAR
VERSION:2.0
PRODID:-//GARDEN SHALA - ECPv6.7.1//NONSGML v1.0//EN
CALSCALE:GREGORIAN
METHOD:PUBLISH
X-ORIGINAL-URL:https://gardenshala.pl
X-WR-CALDESC:Events for GARDEN SHALA
REFRESH-INTERVAL;VALUE=DURATION:PT1H
X-Robots-Tag:noindex
X-PUBLISHED-TTL:PT1H
BEGIN:VTIMEZONE
TZID:Europe/Warsaw
BEGIN:DAYLIGHT
TZOFFSETFROM:+0100
TZOFFSETTO:+0200
TZNAME:CEST
DTSTART:20250330T010000
END:DAYLIGHT
BEGIN:STANDARD
TZOFFSETFROM:+0200
TZOFFSETTO:+0100
TZNAME:CET
DTSTART:20251026T010000
END:STANDARD
END:VTIMEZONE
BEGIN:VEVENT
DTSTART;TZID=Europe/Warsaw:20251224T090000
DTEND;TZID=Europe/Warsaw:20251224T103000
DTSTAMP:20260421T003805
CREATED:20251221T132612Z
LAST-MODIFIED:20251221T132612Z
UID:10000937-1766566800-1766572200@gardenshala.pl
SUMMARY:Joga Świąteczna z Gosią
DESCRIPTION:Zadbaj o siebie\, swój dobrobyt i dobre samopoczucie przed świętami\, \npoprzez praktykę jogi i medytacji. \nPoziom otwarty \nProwadząca: Gosia
URL:https://gardenshala.pl/yoga/joga-swiateczna-z-gosia/
LOCATION:Garden Shala\, Czołgistów 13\, Łódź\, 94-217\, Poland
END:VEVENT
END:VCALENDAR