BEGIN:VCALENDAR
VERSION:2.0
PRODID:-//GARDEN SHALA - ECPv6.7.1//NONSGML v1.0//EN
CALSCALE:GREGORIAN
METHOD:PUBLISH
X-WR-CALNAME:GARDEN SHALA
X-ORIGINAL-URL:https://gardenshala.pl
X-WR-CALDESC:Events for GARDEN SHALA
REFRESH-INTERVAL;VALUE=DURATION:PT1H
X-Robots-Tag:noindex
X-PUBLISHED-TTL:PT1H
BEGIN:VTIMEZONE
TZID:Europe/Warsaw
BEGIN:DAYLIGHT
TZOFFSETFROM:+0100
TZOFFSETTO:+0200
TZNAME:CEST
DTSTART:20260329T010000
END:DAYLIGHT
BEGIN:STANDARD
TZOFFSETFROM:+0200
TZOFFSETTO:+0100
TZNAME:CET
DTSTART:20261025T010000
END:STANDARD
END:VTIMEZONE
BEGIN:VEVENT
DTSTART;TZID=Europe/Warsaw:20260107T173000
DTEND;TZID=Europe/Warsaw:20260107T183000
DTSTAMP:20260420T225401
CREATED:20251227T134352Z
LAST-MODIFIED:20251227T134352Z
UID:10000939-1767807000-1767810600@gardenshala.pl
SUMMARY:Joga dla początkujących
DESCRIPTION:Łagodne i płynne wejście w praktykę jogi z Gosią.
URL:https://gardenshala.pl/yoga/joga-dla-poczatkujacych-83/
LOCATION:Garden Shala\, Czołgistów 13\, Łódź\, 94-217\, Poland
END:VEVENT
BEGIN:VEVENT
DTSTART;TZID=Europe/Warsaw:20260107T184500
DTEND;TZID=Europe/Warsaw:20260107T200000
DTSTAMP:20260420T225401
CREATED:20251227T134411Z
LAST-MODIFIED:20251227T134411Z
UID:10000940-1767811500-1767816000@gardenshala.pl
SUMMARY:Joga Ogólna
DESCRIPTION:Harmonijna praktyka jogi\, która wprowadzi więcej swobody i wzmocnienia do Twojego ciała. Wspiera budowanie uważności i wewnętrznej równowagi. \nProwadząca: Małgosia
URL:https://gardenshala.pl/yoga/joga-ogolna-4/
LOCATION:Garden Shala\, Czołgistów 13\, Łódź\, 94-217\, Poland
END:VEVENT
BEGIN:VEVENT
DTSTART;TZID=Europe/Warsaw:20260107T201500
DTEND;TZID=Europe/Warsaw:20260107T211500
DTSTAMP:20260420T225401
CREATED:20251227T134438Z
LAST-MODIFIED:20251227T134438Z
UID:10000941-1767816900-1767820500@gardenshala.pl
SUMMARY:Wieczorna Joga Nidra
DESCRIPTION:Joga nidra\, określana także jogą snu. \nPraktyka bezwysiłkowa\, prowadząca do głębokiej relaksacji. \nProwadząca: Gosia
URL:https://gardenshala.pl/yoga/wieczorna-joga-nidra-12/
LOCATION:Garden Shala\, Czołgistów 13\, Łódź\, 94-217\, Poland
END:VEVENT
END:VCALENDAR