BEGIN:VCALENDAR
VERSION:2.0
PRODID:-//GARDEN SHALA - ECPv6.7.1//NONSGML v1.0//EN
CALSCALE:GREGORIAN
METHOD:PUBLISH
X-ORIGINAL-URL:https://gardenshala.pl
X-WR-CALDESC:Events for GARDEN SHALA
REFRESH-INTERVAL;VALUE=DURATION:PT1H
X-Robots-Tag:noindex
X-PUBLISHED-TTL:PT1H
BEGIN:VTIMEZONE
TZID:Europe/Helsinki
BEGIN:DAYLIGHT
TZOFFSETFROM:+0200
TZOFFSETTO:+0300
TZNAME:EEST
DTSTART:20260329T010000
END:DAYLIGHT
BEGIN:STANDARD
TZOFFSETFROM:+0300
TZOFFSETTO:+0200
TZNAME:EET
DTSTART:20261025T010000
END:STANDARD
TZID:Europe/Warsaw
BEGIN:DAYLIGHT
TZOFFSETFROM:+0100
TZOFFSETTO:+0200
TZNAME:CEST
DTSTART:20260329T010000
END:DAYLIGHT
BEGIN:STANDARD
TZOFFSETFROM:+0200
TZOFFSETTO:+0100
TZNAME:CET
DTSTART:20261025T010000
END:STANDARD
END:VTIMEZONE
BEGIN:VEVENT
DTSTART;TZID=Europe/Helsinki:20260210T173000
DTEND;TZID=Europe/Helsinki:20260210T183000
DTSTAMP:20260420T212634
CREATED:20260130T153258Z
LAST-MODIFIED:20260130T153258Z
UID:10001030-1770744600-1770748200@gardenshala.pl
SUMMARY:Ashtanga dla początkujących
DESCRIPTION:Wprowadzenie do I serii Ashtanga Jogi \nProwadząca: Julia
URL:https://gardenshala.pl/yoga/ashtanga-dla-poczatkujacych-94/
LOCATION:Garden Shala\, Czołgistów 13\, Łódź\, 94-217\, Poland
END:VEVENT
BEGIN:VEVENT
DTSTART;TZID=Europe/Helsinki:20260210T184000
DTEND;TZID=Europe/Helsinki:20260210T201000
DTSTAMP:20260420T212634
CREATED:20260130T153323Z
LAST-MODIFIED:20260130T153323Z
UID:10001031-1770748800-1770754200@gardenshala.pl
SUMMARY:Ashtanga Mysore
DESCRIPTION:Mysore – praktyka własna Ashtanga Jogi pod przewodnictwem nauczyciela. \nProwadząca: Julia
URL:https://gardenshala.pl/yoga/ashtanga-mysore-101/
LOCATION:Garden Shala\, Czołgistów 13\, Łódź\, 94-217\, Poland
END:VEVENT
BEGIN:VEVENT
DTSTART;TZID=Europe/Warsaw:20260210T202000
DTEND;TZID=Europe/Warsaw:20260210T213500
DTSTAMP:20260420T212634
CREATED:20260130T153347Z
LAST-MODIFIED:20260130T153347Z
UID:10001032-1770754800-1770759300@gardenshala.pl
SUMMARY:Zdrowy Kręgosłup
DESCRIPTION:Zajęcia Zdrowy Kręgosłup to połączenie jogi\, gimnastyki i świadomego ruchu\, stworzone z myślą o zdrowych plecach\, poprawie postawy i codziennym komforcie. \nProwadzący: Tomek
URL:https://gardenshala.pl/yoga/zdrowy-kregoslup-8/
LOCATION:Garden Shala\, Czołgistów 13\, Łódź\, 94-217\, Poland
END:VEVENT
END:VCALENDAR