BEGIN:VCALENDAR
VERSION:2.0
PRODID:-//GARDEN SHALA - ECPv6.7.1//NONSGML v1.0//EN
CALSCALE:GREGORIAN
METHOD:PUBLISH
X-ORIGINAL-URL:https://gardenshala.pl
X-WR-CALDESC:Events for GARDEN SHALA
REFRESH-INTERVAL;VALUE=DURATION:PT1H
X-Robots-Tag:noindex
X-PUBLISHED-TTL:PT1H
BEGIN:VTIMEZONE
TZID:Europe/Helsinki
BEGIN:DAYLIGHT
TZOFFSETFROM:+0200
TZOFFSETTO:+0300
TZNAME:EEST
DTSTART:20260329T010000
END:DAYLIGHT
BEGIN:STANDARD
TZOFFSETFROM:+0300
TZOFFSETTO:+0200
TZNAME:EET
DTSTART:20261025T010000
END:STANDARD
TZID:Europe/Warsaw
BEGIN:DAYLIGHT
TZOFFSETFROM:+0100
TZOFFSETTO:+0200
TZNAME:CEST
DTSTART:20260329T010000
END:DAYLIGHT
BEGIN:STANDARD
TZOFFSETFROM:+0200
TZOFFSETTO:+0100
TZNAME:CET
DTSTART:20261025T010000
END:STANDARD
END:VTIMEZONE
BEGIN:VEVENT
DTSTART;TZID=Europe/Helsinki:20260217T173000
DTEND;TZID=Europe/Helsinki:20260217T183000
DTSTAMP:20260420T212033
CREATED:20260214T203618Z
LAST-MODIFIED:20260214T203618Z
UID:10001045-1771349400-1771353000@gardenshala.pl
SUMMARY:Ashtanga dla początkujących
DESCRIPTION:Wprowadzenie do I serii Ashtanga Jogi \nProwadząca: Julia
URL:https://gardenshala.pl/yoga/ashtanga-dla-poczatkujacych-96/
LOCATION:Garden Shala\, Czołgistów 13\, Łódź\, 94-217\, Poland
END:VEVENT
BEGIN:VEVENT
DTSTART;TZID=Europe/Helsinki:20260217T184000
DTEND;TZID=Europe/Helsinki:20260217T201000
DTSTAMP:20260420T212033
CREATED:20260214T203636Z
LAST-MODIFIED:20260214T203636Z
UID:10001046-1771353600-1771359000@gardenshala.pl
SUMMARY:Ashtanga Mysore
DESCRIPTION:Mysore – praktyka własna Ashtanga Jogi pod przewodnictwem nauczyciela. \nProwadząca: Julia
URL:https://gardenshala.pl/yoga/ashtanga-mysore-103/
LOCATION:Garden Shala\, Czołgistów 13\, Łódź\, 94-217\, Poland
END:VEVENT
BEGIN:VEVENT
DTSTART;TZID=Europe/Warsaw:20260217T202000
DTEND;TZID=Europe/Warsaw:20260217T213500
DTSTAMP:20260420T212033
CREATED:20260214T203654Z
LAST-MODIFIED:20260214T203654Z
UID:10001047-1771359600-1771364100@gardenshala.pl
SUMMARY:Zdrowy Kręgosłup
DESCRIPTION:Zajęcia Zdrowy Kręgosłup to połączenie jogi\, gimnastyki i świadomego ruchu\, stworzone z myślą o zdrowych plecach\, poprawie postawy i codziennym komforcie. \nProwadzący: Tomek
URL:https://gardenshala.pl/yoga/zdrowy-kregoslup-10/
LOCATION:Garden Shala\, Czołgistów 13\, Łódź\, 94-217\, Poland
END:VEVENT
END:VCALENDAR