BEGIN:VCALENDAR
VERSION:2.0
PRODID:-//GARDEN SHALA - ECPv6.7.1//NONSGML v1.0//EN
CALSCALE:GREGORIAN
METHOD:PUBLISH
X-WR-CALNAME:GARDEN SHALA
X-ORIGINAL-URL:https://gardenshala.pl
X-WR-CALDESC:Events for GARDEN SHALA
REFRESH-INTERVAL;VALUE=DURATION:PT1H
X-Robots-Tag:noindex
X-PUBLISHED-TTL:PT1H
BEGIN:VTIMEZONE
TZID:Europe/Helsinki
BEGIN:DAYLIGHT
TZOFFSETFROM:+0200
TZOFFSETTO:+0300
TZNAME:EEST
DTSTART:20250330T010000
END:DAYLIGHT
BEGIN:STANDARD
TZOFFSETFROM:+0300
TZOFFSETTO:+0200
TZNAME:EET
DTSTART:20251026T010000
END:STANDARD
TZID:Europe/Warsaw
BEGIN:DAYLIGHT
TZOFFSETFROM:+0100
TZOFFSETTO:+0200
TZNAME:CEST
DTSTART:20250330T010000
END:DAYLIGHT
BEGIN:STANDARD
TZOFFSETFROM:+0200
TZOFFSETTO:+0100
TZNAME:CET
DTSTART:20251026T010000
END:STANDARD
END:VTIMEZONE
BEGIN:VEVENT
DTSTART;TZID=Europe/Helsinki:20250127T173000
DTEND;TZID=Europe/Helsinki:20250127T184500
DTSTAMP:20260422T032038
CREATED:20241214T182950Z
LAST-MODIFIED:20241214T182950Z
UID:10000202-1737999000-1738003500@gardenshala.pl
SUMMARY:VINYASA
DESCRIPTION:Płynna praktyka pozycji jogi (asan)\, ruch poączony z oddechem. \nMedytacja w ruchu. \nProwadząca: Ola
URL:https://gardenshala.pl/yoga/vinyasa-33/
LOCATION:Garden Shala\, Czołgistów 13\, Łódź\, 94-217\, Poland
END:VEVENT
BEGIN:VEVENT
DTSTART;TZID=Europe/Helsinki:20250127T185000
DTEND;TZID=Europe/Helsinki:20250127T202000
DTSTAMP:20260422T032038
CREATED:20241214T182959Z
LAST-MODIFIED:20241214T182959Z
UID:10000203-1738003800-1738009200@gardenshala.pl
SUMMARY:HATHA
DESCRIPTION:Statyczna praktyka pozycji jogi z elementami technik oddechowych i medytacji. \nJoga ogólna \nProwadząca: Ola
URL:https://gardenshala.pl/yoga/hatha-40/
LOCATION:Garden Shala\, Czołgistów 13\, Łódź\, 94-217\, Poland
END:VEVENT
BEGIN:VEVENT
DTSTART;TZID=Europe/Helsinki:20250128T173000
DTEND;TZID=Europe/Helsinki:20250128T183000
DTSTAMP:20260422T032038
CREATED:20241214T183108Z
LAST-MODIFIED:20241214T183108Z
UID:10000205-1738085400-1738089000@gardenshala.pl
SUMMARY:ASHTANGA
DESCRIPTION:Wprowadzenie do I serii Ashtanga Jogi \nProwadząca: Agnieszka
URL:https://gardenshala.pl/yoga/ashtanga-88/
LOCATION:Garden Shala\, Czołgistów 13\, Łódź\, 94-217\, Poland
END:VEVENT
BEGIN:VEVENT
DTSTART;TZID=Europe/Helsinki:20250128T184500
DTEND;TZID=Europe/Helsinki:20250128T201500
DTSTAMP:20260422T032038
CREATED:20241214T183115Z
LAST-MODIFIED:20241214T183115Z
UID:10000206-1738089900-1738095300@gardenshala.pl
SUMMARY:ASHTANGA
DESCRIPTION:Mysore – praktyka własna Ashtanga Jogi pod przewodnictwem nauczyciela. \nProwadząca: Agnieszka
URL:https://gardenshala.pl/yoga/ashtanga-89/
LOCATION:Garden Shala\, Czołgistów 13\, Łódź\, 94-217\, Poland
END:VEVENT
BEGIN:VEVENT
DTSTART;TZID=Europe/Warsaw:20250129T171500
DTEND;TZID=Europe/Warsaw:20250129T183000
DTSTAMP:20260422T032038
CREATED:20241220T083642Z
LAST-MODIFIED:20241220T083642Z
UID:10000211-1738170900-1738175400@gardenshala.pl
SUMMARY:ODKRYJ ASHTANGĘ - kurs
DESCRIPTION:ODKRYJ ASHTANGĘ – 2-miesięczny kurs wprowadzający do Ashtanga jogi z Julią Zabost \nOdkryj świat ashtangi\, jej filozofię\, najważniejsze aspekty i zanurz się w ruchu połączonym z oddechem.
URL:https://gardenshala.pl/yoga/odkryj-ashtange-kurs-2/
LOCATION:Garden Shala\, Czołgistów 13\, Łódź\, 94-217\, Poland
END:VEVENT
BEGIN:VEVENT
DTSTART;TZID=Europe/Helsinki:20250129T183000
DTEND;TZID=Europe/Helsinki:20250129T200000
DTSTAMP:20260422T032038
CREATED:20241214T183200Z
LAST-MODIFIED:20241214T183200Z
UID:10000207-1738175400-1738180800@gardenshala.pl
SUMMARY:ASHTANGA - LED
DESCRIPTION:I seria Ashtanga Jogi – prowadzona \nZaprszamy wszystkie osoby znające pozyzcje stojące I serii. \nProwadząca: Julia
URL:https://gardenshala.pl/yoga/ashtanga-led-6/
LOCATION:Garden Shala\, Czołgistów 13\, Łódź\, 94-217\, Poland
END:VEVENT
BEGIN:VEVENT
DTSTART;TZID=Europe/Helsinki:20250129T200500
DTEND;TZID=Europe/Helsinki:20250129T210500
DTSTAMP:20260422T032038
CREATED:20241214T183205Z
LAST-MODIFIED:20241214T183205Z
UID:10000208-1738181100-1738184700@gardenshala.pl
SUMMARY:MEDYTACJA & PRANA
DESCRIPTION:Praktyka mindfulness (uważności) i medytacji\, połączona wraz z technikami oddechowymi. \nProwadząca: Julia \n 
URL:https://gardenshala.pl/yoga/medytacja-prana-14/
LOCATION:Garden Shala\, Czołgistów 13\, Łódź\, 94-217\, Poland
END:VEVENT
BEGIN:VEVENT
DTSTART;TZID=Europe/Helsinki:20250130T173000
DTEND;TZID=Europe/Helsinki:20250130T184500
DTSTAMP:20260422T032038
CREATED:20241214T182303Z
LAST-MODIFIED:20241214T182303Z
UID:10000195-1738258200-1738262700@gardenshala.pl
SUMMARY:HATHA
DESCRIPTION:Statyczna praktyka pozycji jogi z elementami technik oddechowych i medytacji. \nJoga ogólna. \nProwadząca: Weronika
URL:https://gardenshala.pl/yoga/hatha-38/
LOCATION:Garden Shala\, Czołgistów 13\, Łódź\, 94-217\, Poland
END:VEVENT
BEGIN:VEVENT
DTSTART;TZID=Europe/Helsinki:20250130T185000
DTEND;TZID=Europe/Helsinki:20250130T200000
DTSTAMP:20260422T032038
CREATED:20241126T142315Z
LAST-MODIFIED:20241214T180954Z
UID:10000131-1738263000-1738267200@gardenshala.pl
SUMMARY:ASHTANGA
DESCRIPTION:Wprowadzenie do I serii Ashtanga Jogi \nProwadząca: Weronika
URL:https://gardenshala.pl/yoga/ashtanga-64/
LOCATION:Garden Shala\, Czołgistów 13\, Łódź\, 94-217\, Poland
END:VEVENT
BEGIN:VEVENT
DTSTART;TZID=Europe/Warsaw:20250131T173000
DTEND;TZID=Europe/Warsaw:20250131T184500
DTSTAMP:20260422T032038
CREATED:20241214T183024Z
LAST-MODIFIED:20241214T183024Z
UID:10000204-1738344600-1738349100@gardenshala.pl
SUMMARY:WSTĘP DO JOGI - Kurs
DESCRIPTION:WSTĘP DO JOGI \n2-miesięczny Kurs wprowadzający do jogi z Olą Wietechą-Drobik \nZagłąb się w filozofii jogi i wykorzystaj jej bogactwo w praktyce oraz życiu codziennym! \n 
URL:https://gardenshala.pl/yoga/wstep-do-jogi-kurs-3/
LOCATION:Garden Shala\, Czołgistów 13\, Łódź\, 94-217\, Poland
END:VEVENT
BEGIN:VEVENT
DTSTART;TZID=Europe/Helsinki:20250131T185000
DTEND;TZID=Europe/Helsinki:20250131T202000
DTSTAMP:20260422T032038
CREATED:20241214T180811Z
LAST-MODIFIED:20241214T182349Z
UID:10000184-1738349400-1738354800@gardenshala.pl
SUMMARY:ASHTANGA
DESCRIPTION:Wprowadzenie do II serii Ashtanga Jogi \nProwadząca: Julia
URL:https://gardenshala.pl/yoga/ashtanga-83/
LOCATION:Garden Shala\, Czołgistów 13\, Łódź\, 94-217\, Poland
END:VEVENT
BEGIN:VEVENT
DTSTART;TZID=Europe/Helsinki:20250201T090000
DTEND;TZID=Europe/Helsinki:20250201T104500
DTSTAMP:20260422T032038
CREATED:20250123T190131Z
LAST-MODIFIED:20250130T171922Z
UID:10000231-1738400400-1738406700@gardenshala.pl
SUMMARY:Ashtanga Mysore
DESCRIPTION:Mysore – praktyka własna pod przewodnictwem nauczyciela \nProwadząca: Julia
URL:https://gardenshala.pl/yoga/ashtanga-96/
LOCATION:Garden Shala\, Czołgistów 13\, Łódź\, 94-217\, Poland
END:VEVENT
BEGIN:VEVENT
DTSTART;TZID=Europe/Helsinki:20250202T101000
DTEND;TZID=Europe/Helsinki:20250202T112500
DTSTAMP:20260422T032038
CREATED:20250123T190235Z
LAST-MODIFIED:20250130T172017Z
UID:10000232-1738491000-1738495500@gardenshala.pl
SUMMARY:Vinyasa Joga
DESCRIPTION:Energia i Pobudzenie \nPraktyka jogi rozbudzająca ciało i umysł – idealny sposób na rozpoczęcie niedzieli! \nProwadząca: Julia
URL:https://gardenshala.pl/yoga/vinyasa-35/
LOCATION:Garden Shala\, Czołgistów 13\, Łódź\, 94-217\, Poland
END:VEVENT
BEGIN:VEVENT
DTSTART;TZID=Europe/Warsaw:20250202T112500
DTEND;TZID=Europe/Warsaw:20250202T124000
DTSTAMP:20260422T032038
CREATED:20250129T120832Z
LAST-MODIFIED:20250201T150120Z
UID:10000261-1738495500-1738500000@gardenshala.pl
SUMMARY:Łagodna Vinyasa & Joga Nidra
DESCRIPTION:Łagodny\, płynny ruch połączony z oddechem. \nPraktyka zakończona głęboką relaksacją jogi nidry. \nProwadząca: Julia Zabost
URL:https://gardenshala.pl/yoga/vinyasa-joga-nidra/
LOCATION:Garden Shala\, Czołgistów 13\, Łódź\, 94-217\, Poland
END:VEVENT
BEGIN:VEVENT
DTSTART;TZID=Europe/Warsaw:20250203T173000
DTEND;TZID=Europe/Warsaw:20250203T184500
DTSTAMP:20260422T032038
CREATED:20250130T170907Z
LAST-MODIFIED:20250130T172039Z
UID:10000272-1738603800-1738608300@gardenshala.pl
SUMMARY:Joga dla początkujących
DESCRIPTION:Solidna podstawa do praktyki jogi\, prawidłowego wykonywania asan oraz pracy z oddechem.  \nProwadząca: Ola Wietecha-Drobik
URL:https://gardenshala.pl/yoga/joga-dla-poczatkujacych/
LOCATION:Garden Shala\, Czołgistów 13\, Łódź\, 94-217\, Poland
END:VEVENT
BEGIN:VEVENT
DTSTART;TZID=Europe/Helsinki:20250203T185000
DTEND;TZID=Europe/Helsinki:20250203T202000
DTSTAMP:20260422T032038
CREATED:20250123T185634Z
LAST-MODIFIED:20250201T150157Z
UID:10000227-1738608600-1738614000@gardenshala.pl
SUMMARY:Hatha Joga
DESCRIPTION:Statyczna praktyka pozycji jogi z elementami technik oddechowych i medytacji. \nProwadząca: Ola
URL:https://gardenshala.pl/yoga/hatha-41/
LOCATION:Garden Shala\, Czołgistów 13\, Łódź\, 94-217\, Poland
END:VEVENT
BEGIN:VEVENT
DTSTART;TZID=Europe/Helsinki:20250204T173000
DTEND;TZID=Europe/Helsinki:20250204T183000
DTSTAMP:20260422T032038
CREATED:20250123T185721Z
LAST-MODIFIED:20250201T150250Z
UID:10000228-1738690200-1738693800@gardenshala.pl
SUMMARY:Ashtanga dla początkujących
DESCRIPTION:Wprowadzenie do I serii Ashtanga Jogi \nProwadząca: Agnieszka
URL:https://gardenshala.pl/yoga/ashtanga-93/
LOCATION:Garden Shala\, Czołgistów 13\, Łódź\, 94-217\, Poland
END:VEVENT
BEGIN:VEVENT
DTSTART;TZID=Europe/Helsinki:20250204T184500
DTEND;TZID=Europe/Helsinki:20250204T201500
DTSTAMP:20260422T032038
CREATED:20250123T185813Z
LAST-MODIFIED:20250201T150329Z
UID:10000229-1738694700-1738700100@gardenshala.pl
SUMMARY:Ashtanga Mysore
DESCRIPTION:Mysore – praktyka własna Ashtanga Jogi pod przewodnictwem nauczyciela. \nProwadząca: Agnieszka
URL:https://gardenshala.pl/yoga/ashtanga-94/
LOCATION:Garden Shala\, Czołgistów 13\, Łódź\, 94-217\, Poland
END:VEVENT
BEGIN:VEVENT
DTSTART;TZID=Europe/Warsaw:20250205T171500
DTEND;TZID=Europe/Warsaw:20250205T183000
DTSTAMP:20260422T032038
CREATED:20241220T083730Z
LAST-MODIFIED:20241220T083730Z
UID:10000212-1738775700-1738780200@gardenshala.pl
SUMMARY:ODKRYJ ASHTANGĘ - kurs
DESCRIPTION:ODKRYJ ASHTANGĘ – 2-miesięczny kurs wprowadzający do Ashtanga jogi z Julią Zabost \nOdkryj świat ashtangi\, jej filozofię\, najważniejsze aspekty i zanurz się w ruchu połączonym z oddechem.
URL:https://gardenshala.pl/yoga/odkryj-ashtange-kurs-3/
LOCATION:Garden Shala\, Czołgistów 13\, Łódź\, 94-217\, Poland
END:VEVENT
BEGIN:VEVENT
DTSTART;TZID=Europe/Warsaw:20250205T184000
DTEND;TZID=Europe/Warsaw:20250205T195500
DTSTAMP:20260422T032038
CREATED:20250129T120545Z
LAST-MODIFIED:20250130T172415Z
UID:10000260-1738780800-1738785300@gardenshala.pl
SUMMARY:Vinyasa Joga
DESCRIPTION:Power Vinyasa \nDynamiczna praktyka asan – rozgrzewająca i wzmacniająca ciało\, przeplatana płynnymi przejściami.  \nProwadząca: Julia Zabost
URL:https://gardenshala.pl/yoga/vinyasa-39/
LOCATION:Garden Shala\, Czołgistów 13\, Łódź\, 94-217\, Poland
END:VEVENT
BEGIN:VEVENT
DTSTART;TZID=Europe/Helsinki:20250206T173000
DTEND;TZID=Europe/Helsinki:20250206T184500
DTSTAMP:20260422T032038
CREATED:20250129T113913Z
LAST-MODIFIED:20250130T172422Z
UID:10000239-1738863000-1738867500@gardenshala.pl
SUMMARY:Hatha Joga
DESCRIPTION:Statyczna praktyka pozycji jogi z elementami technik oddechowych i medytacji. \nJoga ogólna. \nProwadząca: Weronika
URL:https://gardenshala.pl/yoga/hatha-43/
LOCATION:Garden Shala\, Czołgistów 13\, Łódź\, 94-217\, Poland
END:VEVENT
BEGIN:VEVENT
DTSTART;TZID=Europe/Helsinki:20250206T185000
DTEND;TZID=Europe/Helsinki:20250206T200000
DTSTAMP:20260422T032038
CREATED:20250129T114008Z
LAST-MODIFIED:20250130T172443Z
UID:10000240-1738867800-1738872000@gardenshala.pl
SUMMARY:Ashtanga dla początkujących
DESCRIPTION:Wprowadzenie do I serii Ashtanga Jogi \nProwadząca: Weronika
URL:https://gardenshala.pl/yoga/ashtanga-101/
LOCATION:Garden Shala\, Czołgistów 13\, Łódź\, 94-217\, Poland
END:VEVENT
BEGIN:VEVENT
DTSTART;TZID=Europe/Helsinki:20250206T200500
DTEND;TZID=Europe/Helsinki:20250206T210500
DTSTAMP:20260422T032038
CREATED:20250129T121845Z
LAST-MODIFIED:20250130T181727Z
UID:10000268-1738872300-1738875900@gardenshala.pl
SUMMARY:Pranayama & Medytacja
DESCRIPTION:Praktyka mindfulness (uważności) i medytacji\, połączona wraz z technikami oddechowymi. \nProwadząca: Mariana Krulikovska
URL:https://gardenshala.pl/yoga/medytacja-pranayama/
LOCATION:Garden Shala\, Czołgistów 13\, Łódź\, 94-217\, Poland
END:VEVENT
BEGIN:VEVENT
DTSTART;TZID=Europe/Warsaw:20250207T173000
DTEND;TZID=Europe/Warsaw:20250207T184500
DTSTAMP:20260422T032038
CREATED:20241220T084547Z
LAST-MODIFIED:20241220T084547Z
UID:10000218-1738949400-1738953900@gardenshala.pl
SUMMARY:WSTĘP DO JOGI - Kurs
DESCRIPTION:WSTĘP DO JOGI \n2-miesięczny Kurs wprowadzający do jogi z Olą Wietechą-Drobik \nZagłąb się w filozofii jogi i wykorzystaj jej bogactwo w praktyce oraz życiu codziennym! \n 
URL:https://gardenshala.pl/yoga/wstep-do-jogi-kurs-4/
LOCATION:Garden Shala\, Czołgistów 13\, Łódź\, 94-217\, Poland
END:VEVENT
BEGIN:VEVENT
DTSTART;TZID=Europe/Helsinki:20250207T185000
DTEND;TZID=Europe/Helsinki:20250207T202000
DTSTAMP:20260422T032038
CREATED:20250123T190025Z
LAST-MODIFIED:20250130T172534Z
UID:10000230-1738954200-1738959600@gardenshala.pl
SUMMARY:Ashtanga - wstęp do II serii
DESCRIPTION:Wprowadzenie do II serii Ashtanga Jogi \nProwadząca: Julia
URL:https://gardenshala.pl/yoga/ashtanga-95/
LOCATION:Garden Shala\, Czołgistów 13\, Łódź\, 94-217\, Poland
END:VEVENT
BEGIN:VEVENT
DTSTART;TZID=Europe/Helsinki:20250208T090000
DTEND;TZID=Europe/Helsinki:20250208T104500
DTSTAMP:20260422T032038
CREATED:20250123T190720Z
LAST-MODIFIED:20250130T172542Z
UID:10000237-1739005200-1739011500@gardenshala.pl
SUMMARY:Ashtanga Mysore
DESCRIPTION:Mysore – praktyka własna pod przewodnictwem nauczyciela \nProwadząca: Julia
URL:https://gardenshala.pl/yoga/ashtanga-100/
LOCATION:Garden Shala\, Czołgistów 13\, Łódź\, 94-217\, Poland
END:VEVENT
BEGIN:VEVENT
DTSTART;TZID=Europe/Helsinki:20250209T100000
DTEND;TZID=Europe/Helsinki:20250209T111500
DTSTAMP:20260422T032038
CREATED:20250123T190742Z
LAST-MODIFIED:20250130T172608Z
UID:10000238-1739095200-1739099700@gardenshala.pl
SUMMARY:Vinyasa joga
DESCRIPTION:Energia i Pobudzenie \nPraktyka jogi mająca na celu rozbudzenie ciała i umysłu – czyli idealny sposób na rozpoczęcie niedzieli! \nProwadząca: Julia
URL:https://gardenshala.pl/yoga/vinyasa-36/
LOCATION:Garden Shala\, Czołgistów 13\, Łódź\, 94-217\, Poland
END:VEVENT
BEGIN:VEVENT
DTSTART;TZID=Europe/Warsaw:20250209T112500
DTEND;TZID=Europe/Warsaw:20250209T124000
DTSTAMP:20260422T032038
CREATED:20250129T121202Z
LAST-MODIFIED:20250208T142749Z
UID:10000262-1739100300-1739104800@gardenshala.pl
SUMMARY:Łagoda Vinyasa & Joga Nidra
DESCRIPTION:Łagodny\, płynny ruch połączony z oddechem. \nPraktyka zakończona głęboką relaksacją jogi nidry. \nProwadząca: Julia Zabost
URL:https://gardenshala.pl/yoga/vinyasa-joga-nidra-2/
LOCATION:Garden Shala\, Czołgistów 13\, Łódź\, 94-217\, Poland
END:VEVENT
BEGIN:VEVENT
DTSTART;TZID=Europe/Warsaw:20250209T183000
DTEND;TZID=Europe/Warsaw:20250209T200000
DTSTAMP:20260422T032038
CREATED:20250123T185517Z
LAST-MODIFIED:20250123T185517Z
UID:10000226-1739125800-1739131200@gardenshala.pl
SUMMARY:MOC WIBRACJI - Relaks przy dźwiękach miś
DESCRIPTION:Głęboka relaksacja przy dźwiękach miś tybetańskich \nProwadząca: Agnieszka Kauer \nWstęp: 50 zł
URL:https://gardenshala.pl/yoga/moc-wibracji-relaks-przy-dzwiekach-mis-2/
LOCATION:Garden Shala\, Czołgistów 13\, Łódź\, 94-217\, Poland
END:VEVENT
BEGIN:VEVENT
DTSTART;TZID=Europe/Warsaw:20250210T173000
DTEND;TZID=Europe/Warsaw:20250210T184500
DTSTAMP:20260422T032038
CREATED:20250130T171127Z
LAST-MODIFIED:20250130T172658Z
UID:10000273-1739208600-1739213100@gardenshala.pl
SUMMARY:Joga dla początkujących
DESCRIPTION:Solidna podstawa do praktyki jogi\, prawidłowego wykonywania asan oraz pracy z oddechem.  \nProwadząca: Ola Wietecha-Drobik
URL:https://gardenshala.pl/yoga/joga-dla-poczatkujacych-2/
LOCATION:Garden Shala\, Czołgistów 13\, Łódź\, 94-217\, Poland
END:VEVENT
END:VCALENDAR