BEGIN:VCALENDAR
VERSION:2.0
PRODID:-//GARDEN SHALA - ECPv6.7.1//NONSGML v1.0//EN
CALSCALE:GREGORIAN
METHOD:PUBLISH
X-WR-CALNAME:GARDEN SHALA
X-ORIGINAL-URL:https://gardenshala.pl
X-WR-CALDESC:Events for GARDEN SHALA
REFRESH-INTERVAL;VALUE=DURATION:PT1H
X-Robots-Tag:noindex
X-PUBLISHED-TTL:PT1H
BEGIN:VTIMEZONE
TZID:Europe/Helsinki
BEGIN:DAYLIGHT
TZOFFSETFROM:+0200
TZOFFSETTO:+0300
TZNAME:EEST
DTSTART:20250330T010000
END:DAYLIGHT
BEGIN:STANDARD
TZOFFSETFROM:+0300
TZOFFSETTO:+0200
TZNAME:EET
DTSTART:20251026T010000
END:STANDARD
TZID:Europe/Warsaw
BEGIN:DAYLIGHT
TZOFFSETFROM:+0100
TZOFFSETTO:+0200
TZNAME:CEST
DTSTART:20250330T010000
END:DAYLIGHT
BEGIN:STANDARD
TZOFFSETFROM:+0200
TZOFFSETTO:+0100
TZNAME:CET
DTSTART:20251026T010000
END:STANDARD
END:VTIMEZONE
BEGIN:VEVENT
DTSTART;TZID=Europe/Helsinki:20250313T173000
DTEND;TZID=Europe/Helsinki:20250313T184500
DTSTAMP:20260422T042116
CREATED:20250222T171246Z
LAST-MODIFIED:20250222T171246Z
UID:10000298-1741887000-1741891500@gardenshala.pl
SUMMARY:Hatha Joga
DESCRIPTION:Statyczna praktyka pozycji jogi z elementami technik oddechowych i medytacji. \nJoga ogólna. \nProwadząca: Weronika
URL:https://gardenshala.pl/yoga/hatha-joga-4/
LOCATION:Garden Shala\, Czołgistów 13\, Łódź\, 94-217\, Poland
END:VEVENT
BEGIN:VEVENT
DTSTART;TZID=Europe/Helsinki:20250313T185000
DTEND;TZID=Europe/Helsinki:20250313T200000
DTSTAMP:20260422T042116
CREATED:20250222T171310Z
LAST-MODIFIED:20250222T171310Z
UID:10000299-1741891800-1741896000@gardenshala.pl
SUMMARY:Ashtanga dla początkujących
DESCRIPTION:Wprowadzenie do I serii Ashtanga Jogi \nProwadząca: Mariana
URL:https://gardenshala.pl/yoga/ashtanga-dla-poczatkujacych-4/
LOCATION:Garden Shala\, Czołgistów 13\, Łódź\, 94-217\, Poland
END:VEVENT
BEGIN:VEVENT
DTSTART;TZID=Europe/Helsinki:20250313T200500
DTEND;TZID=Europe/Helsinki:20250313T210500
DTSTAMP:20260422T042116
CREATED:20250222T173752Z
LAST-MODIFIED:20250222T173752Z
UID:10000312-1741896300-1741899900@gardenshala.pl
SUMMARY:Pranayama & Medytacja
DESCRIPTION:Praktyka mindfulness (uważności) i medytacji\, połączona wraz z technikami oddechowymi. \nProwadząca: Mariana Krulikovska
URL:https://gardenshala.pl/yoga/pranayama-medytacja-2/
LOCATION:Garden Shala\, Czołgistów 13\, Łódź\, 94-217\, Poland
END:VEVENT
BEGIN:VEVENT
DTSTART;TZID=Europe/Warsaw:20250314T173000
DTEND;TZID=Europe/Warsaw:20250314T184500
DTSTAMP:20260422T042116
CREATED:20250301T121315Z
LAST-MODIFIED:20250301T121315Z
UID:10000335-1741973400-1741977900@gardenshala.pl
SUMMARY:Movement & Prana
DESCRIPTION:Trening oddechowy połączony z ruchem\nProwadząca: Ola
URL:https://gardenshala.pl/yoga/movement-prana/
LOCATION:Garden Shala\, Czołgistów 13\, Łódź\, 94-217\, Poland
END:VEVENT
BEGIN:VEVENT
DTSTART;TZID=Europe/Helsinki:20250314T185000
DTEND;TZID=Europe/Helsinki:20250314T202000
DTSTAMP:20260422T042116
CREATED:20250222T171347Z
LAST-MODIFIED:20250222T171347Z
UID:10000300-1741978200-1741983600@gardenshala.pl
SUMMARY:Ashtanga - wstęp do II serii
DESCRIPTION:Wprowadzenie do II serii Ashtanga Jogi \nProwadząca: Julia
URL:https://gardenshala.pl/yoga/ashtanga-wstep-do-ii-serii-2/
LOCATION:Garden Shala\, Czołgistów 13\, Łódź\, 94-217\, Poland
END:VEVENT
BEGIN:VEVENT
DTSTART;TZID=Europe/Helsinki:20250315T090000
DTEND;TZID=Europe/Helsinki:20250315T104500
DTSTAMP:20260422T042116
CREATED:20250222T172814Z
LAST-MODIFIED:20250222T172814Z
UID:10000304-1742029200-1742035500@gardenshala.pl
SUMMARY:Ashtanga Mysore
DESCRIPTION:Mysore – praktyka własna pod przewodnictwem nauczyciela \nProwadząca: Julia
URL:https://gardenshala.pl/yoga/ashtanga-mysore-5/
LOCATION:Garden Shala\, Czołgistów 13\, Łódź\, 94-217\, Poland
END:VEVENT
BEGIN:VEVENT
DTSTART;TZID=Europe/Helsinki:20250316T100000
DTEND;TZID=Europe/Helsinki:20250316T111500
DTSTAMP:20260422T042116
CREATED:20250222T172858Z
LAST-MODIFIED:20250222T172858Z
UID:10000305-1742119200-1742123700@gardenshala.pl
SUMMARY:Vinyasa Joga
DESCRIPTION:Energia i Pobudzenie \nPraktyka jogi mająca na celu rozbudzenie ciała i umysłu – czyli idealny sposób na rozpoczęcie niedzieli! \nProwadząca: Julia
URL:https://gardenshala.pl/yoga/vinyasa-joga-5/
LOCATION:Garden Shala\, Czołgistów 13\, Łódź\, 94-217\, Poland
END:VEVENT
BEGIN:VEVENT
DTSTART;TZID=Europe/Warsaw:20250316T112500
DTEND;TZID=Europe/Warsaw:20250316T124000
DTSTAMP:20260422T042116
CREATED:20250222T172921Z
LAST-MODIFIED:20250222T172921Z
UID:10000306-1742124300-1742128800@gardenshala.pl
SUMMARY:Łagodna Vinyasa & Joga Nidra
DESCRIPTION:Łagodny\, płynny ruch połączony z oddechem. \nPraktyka zakończona głęboką relaksacją jogi nidry. \nProwadząca: Julia Zabost
URL:https://gardenshala.pl/yoga/lagodna-vinyasa-joga-nidra-3/
LOCATION:Garden Shala\, Czołgistów 13\, Łódź\, 94-217\, Poland
END:VEVENT
BEGIN:VEVENT
DTSTART;TZID=Europe/Warsaw:20250317T173000
DTEND;TZID=Europe/Warsaw:20250317T184500
DTSTAMP:20260422T042116
CREATED:20250222T173356Z
LAST-MODIFIED:20250222T173356Z
UID:10000308-1742232600-1742237100@gardenshala.pl
SUMMARY:Joga dla początkujących
DESCRIPTION:Solidna podstawa do praktyki jogi\, prawidłowego wykonywania asan oraz pracy z oddechem.  \nProwadząca: Ola Wietecha-Drobik
URL:https://gardenshala.pl/yoga/joga-dla-poczatkujacych-7/
LOCATION:Garden Shala\, Czołgistów 13\, Łódź\, 94-217\, Poland
END:VEVENT
BEGIN:VEVENT
DTSTART;TZID=Europe/Helsinki:20250317T185000
DTEND;TZID=Europe/Helsinki:20250317T202000
DTSTAMP:20260422T042116
CREATED:20250222T173349Z
LAST-MODIFIED:20250222T173349Z
UID:10000309-1742237400-1742242800@gardenshala.pl
SUMMARY:Hatha Joga
DESCRIPTION:Statyczna praktyka pozycji jogi z elementami technik oddechowych i medytacji. \nProwadząca: Ola
URL:https://gardenshala.pl/yoga/hatha-joga-6/
LOCATION:Garden Shala\, Czołgistów 13\, Łódź\, 94-217\, Poland
END:VEVENT
BEGIN:VEVENT
DTSTART;TZID=Europe/Helsinki:20250318T173000
DTEND;TZID=Europe/Helsinki:20250318T183000
DTSTAMP:20260422T042116
CREATED:20250222T173446Z
LAST-MODIFIED:20250222T173446Z
UID:10000310-1742319000-1742322600@gardenshala.pl
SUMMARY:Ashtanga dla początkujących
DESCRIPTION:Wprowadzenie do I serii Ashtanga Jogi \nProwadząca: Agnieszka
URL:https://gardenshala.pl/yoga/ashtanga-dla-poczatkujacych-5/
LOCATION:Garden Shala\, Czołgistów 13\, Łódź\, 94-217\, Poland
END:VEVENT
BEGIN:VEVENT
DTSTART;TZID=Europe/Helsinki:20250318T184500
DTEND;TZID=Europe/Helsinki:20250318T201500
DTSTAMP:20260422T042116
CREATED:20250222T173508Z
LAST-MODIFIED:20250222T173508Z
UID:10000311-1742323500-1742328900@gardenshala.pl
SUMMARY:Ashtanga Mysore
DESCRIPTION:Mysore – praktyka własna Ashtanga Jogi pod przewodnictwem nauczyciela. \nProwadząca: Agnieszka
URL:https://gardenshala.pl/yoga/ashtanga-mysore-6/
LOCATION:Garden Shala\, Czołgistów 13\, Łódź\, 94-217\, Poland
END:VEVENT
BEGIN:VEVENT
DTSTART;TZID=Europe/Warsaw:20250319T184000
DTEND;TZID=Europe/Warsaw:20250319T195500
DTSTAMP:20260422T042116
CREATED:20250307T162245Z
LAST-MODIFIED:20250307T162245Z
UID:10000339-1742409600-1742414100@gardenshala.pl
SUMMARY:Vinyasa Joga
DESCRIPTION:Power Vinyasa \nDynamiczna praktyka asan – rozgrzewająca i wzmacniająca ciało\, przeplatana płynnymi przejściami.  \nProwadząca: Julia Zabost
URL:https://gardenshala.pl/yoga/vinyasa-joga-8/
LOCATION:Garden Shala\, Czołgistów 13\, Łódź\, 94-217\, Poland
END:VEVENT
BEGIN:VEVENT
DTSTART;TZID=Europe/Helsinki:20250320T173000
DTEND;TZID=Europe/Helsinki:20250320T184500
DTSTAMP:20260422T042116
CREATED:20250222T173747Z
LAST-MODIFIED:20250222T173747Z
UID:10000313-1742491800-1742496300@gardenshala.pl
SUMMARY:Hatha Joga
DESCRIPTION:Statyczna praktyka pozycji jogi z elementami technik oddechowych i medytacji. \nJoga ogólna. \nProwadząca: Weronika
URL:https://gardenshala.pl/yoga/hatha-joga-7/
LOCATION:Garden Shala\, Czołgistów 13\, Łódź\, 94-217\, Poland
END:VEVENT
BEGIN:VEVENT
DTSTART;TZID=Europe/Helsinki:20250320T185000
DTEND;TZID=Europe/Helsinki:20250320T200000
DTSTAMP:20260422T042116
CREATED:20250222T173827Z
LAST-MODIFIED:20250222T173827Z
UID:10000314-1742496600-1742500800@gardenshala.pl
SUMMARY:Ashtanga dla początkujących
DESCRIPTION:Wprowadzenie do I serii Ashtanga Jogi \nProwadząca: Mariana
URL:https://gardenshala.pl/yoga/ashtanga-dla-poczatkujacych-6/
LOCATION:Garden Shala\, Czołgistów 13\, Łódź\, 94-217\, Poland
END:VEVENT
BEGIN:VEVENT
DTSTART;TZID=Europe/Helsinki:20250320T200500
DTEND;TZID=Europe/Helsinki:20250320T210500
DTSTAMP:20260422T042116
CREATED:20250222T174602Z
LAST-MODIFIED:20250222T174602Z
UID:10000326-1742501100-1742504700@gardenshala.pl
SUMMARY:Pranayama & Medytacja
DESCRIPTION:Praktyka mindfulness (uważności) i medytacji\, połączona wraz z technikami oddechowymi. \nProwadząca: Mariana Krulikovska
URL:https://gardenshala.pl/yoga/pranayama-medytacja-4/
LOCATION:Garden Shala\, Czołgistów 13\, Łódź\, 94-217\, Poland
END:VEVENT
BEGIN:VEVENT
DTSTART;TZID=Europe/Warsaw:20250321T173000
DTEND;TZID=Europe/Warsaw:20250321T184500
DTSTAMP:20260422T042116
CREATED:20250301T121409Z
LAST-MODIFIED:20250301T121409Z
UID:10000336-1742578200-1742582700@gardenshala.pl
SUMMARY:Movement & Prana
DESCRIPTION:Trening oddechowy połączony z ruchem\nProwadząca: Ola
URL:https://gardenshala.pl/yoga/movement-prana-2/
LOCATION:Garden Shala\, Czołgistów 13\, Łódź\, 94-217\, Poland
END:VEVENT
BEGIN:VEVENT
DTSTART;TZID=Europe/Helsinki:20250321T185000
DTEND;TZID=Europe/Helsinki:20250321T202000
DTSTAMP:20260422T042116
CREATED:20250222T173902Z
LAST-MODIFIED:20250222T173902Z
UID:10000315-1742583000-1742588400@gardenshala.pl
SUMMARY:Ashtanga - wstęp do II serii
DESCRIPTION:Wprowadzenie do II serii Ashtanga Jogi \nProwadząca: Julia
URL:https://gardenshala.pl/yoga/ashtanga-wstep-do-ii-serii-3/
LOCATION:Garden Shala\, Czołgistów 13\, Łódź\, 94-217\, Poland
END:VEVENT
BEGIN:VEVENT
DTSTART;TZID=Europe/Helsinki:20250322T090000
DTEND;TZID=Europe/Helsinki:20250322T104500
DTSTAMP:20260422T042116
CREATED:20250222T173950Z
LAST-MODIFIED:20250222T173950Z
UID:10000316-1742634000-1742640300@gardenshala.pl
SUMMARY:Ashtanga Mysore
DESCRIPTION:Mysore – praktyka własna pod przewodnictwem nauczyciela \nProwadząca: Julia
URL:https://gardenshala.pl/yoga/ashtanga-mysore-7/
LOCATION:Garden Shala\, Czołgistów 13\, Łódź\, 94-217\, Poland
END:VEVENT
BEGIN:VEVENT
DTSTART;TZID=Europe/Helsinki:20250323T100000
DTEND;TZID=Europe/Helsinki:20250323T111500
DTSTAMP:20260422T042116
CREATED:20250222T174040Z
LAST-MODIFIED:20250222T174040Z
UID:10000317-1742724000-1742728500@gardenshala.pl
SUMMARY:Vinyasa Joga
DESCRIPTION:Energia i Pobudzenie \nPraktyka jogi mająca na celu rozbudzenie ciała i umysłu – czyli idealny sposób na rozpoczęcie niedzieli! \nProwadząca: Julia
URL:https://gardenshala.pl/yoga/vinyasa-joga-6/
LOCATION:Garden Shala\, Czołgistów 13\, Łódź\, 94-217\, Poland
END:VEVENT
BEGIN:VEVENT
DTSTART;TZID=Europe/Warsaw:20250323T112500
DTEND;TZID=Europe/Warsaw:20250323T124000
DTSTAMP:20260422T042116
CREATED:20250222T174118Z
LAST-MODIFIED:20250222T174118Z
UID:10000318-1742729100-1742733600@gardenshala.pl
SUMMARY:Łagodna Vinyasa & Joga Nidra
DESCRIPTION:Łagodny\, płynny ruch połączony z oddechem. \nPraktyka zakończona głęboką relaksacją jogi nidry. \nProwadząca: Julia Zabost
URL:https://gardenshala.pl/yoga/lagodna-vinyasa-joga-nidra-4/
LOCATION:Garden Shala\, Czołgistów 13\, Łódź\, 94-217\, Poland
END:VEVENT
BEGIN:VEVENT
DTSTART;TZID=Europe/Warsaw:20250324T173000
DTEND;TZID=Europe/Warsaw:20250324T184500
DTSTAMP:20260422T042116
CREATED:20250222T174246Z
LAST-MODIFIED:20250222T174246Z
UID:10000320-1742837400-1742841900@gardenshala.pl
SUMMARY:Joga dla początkujących
DESCRIPTION:Solidna podstawa do praktyki jogi\, prawidłowego wykonywania asan oraz pracy z oddechem.  \nProwadząca: Ola Wietecha-Drobik
URL:https://gardenshala.pl/yoga/joga-dla-poczatkujacych-8/
LOCATION:Garden Shala\, Czołgistów 13\, Łódź\, 94-217\, Poland
END:VEVENT
BEGIN:VEVENT
DTSTART;TZID=Europe/Helsinki:20250324T185000
DTEND;TZID=Europe/Helsinki:20250324T202000
DTSTAMP:20260422T042116
CREATED:20250222T174321Z
LAST-MODIFIED:20250222T174321Z
UID:10000321-1742842200-1742847600@gardenshala.pl
SUMMARY:Hatha Joga
DESCRIPTION:Statyczna praktyka pozycji jogi z elementami technik oddechowych i medytacji. \nProwadząca: Ola
URL:https://gardenshala.pl/yoga/hatha-joga-8/
LOCATION:Garden Shala\, Czołgistów 13\, Łódź\, 94-217\, Poland
END:VEVENT
BEGIN:VEVENT
DTSTART;TZID=Europe/Helsinki:20250325T173000
DTEND;TZID=Europe/Helsinki:20250325T183000
DTSTAMP:20260422T042116
CREATED:20250129T115712Z
LAST-MODIFIED:20250324T091901Z
UID:10000254-1742923800-1742927400@gardenshala.pl
SUMMARY:Ashtanga dla początkujących
DESCRIPTION:Wprowadzenie do I serii Ashtanga Jogi \nProwadząca: Agnieszka
URL:https://gardenshala.pl/yoga/ashtanga-109/
LOCATION:Garden Shala\, Czołgistów 13\, Łódź\, 94-217\, Poland
END:VEVENT
BEGIN:VEVENT
DTSTART;TZID=Europe/Helsinki:20250325T184500
DTEND;TZID=Europe/Helsinki:20250325T201500
DTSTAMP:20260422T042116
CREATED:20250222T174408Z
LAST-MODIFIED:20250222T174408Z
UID:10000323-1742928300-1742933700@gardenshala.pl
SUMMARY:Ashtanga Mysore
DESCRIPTION:Mysore – praktyka własna Ashtanga Jogi pod przewodnictwem nauczyciela. \nProwadząca: Agnieszka
URL:https://gardenshala.pl/yoga/ashtanga-mysore-8/
LOCATION:Garden Shala\, Czołgistów 13\, Łódź\, 94-217\, Poland
END:VEVENT
BEGIN:VEVENT
DTSTART;TZID=Europe/Warsaw:20250326T183000
DTEND;TZID=Europe/Warsaw:20250326T200000
DTSTAMP:20260422T042116
CREATED:20250224T101724Z
LAST-MODIFIED:20250224T111715Z
UID:10000334-1743013800-1743019200@gardenshala.pl
SUMMARY:Joga Nidra & Moc Wibracji
DESCRIPTION:Praktyka Jogi Nidy zakończona koncertem mis tybetańskich \nZagwarantuj sobie głęboką relaksację i redukcję stresu!  \nProwadzące:\nJulia Zabost & Agnieszka Kauer \nKoszt: 80 zł
URL:https://gardenshala.pl/yoga/joga-nidra-moc-wibracji/
LOCATION:Garden Shala\, Czołgistów 13\, Łódź\, 94-217\, Poland
END:VEVENT
BEGIN:VEVENT
DTSTART;TZID=Europe/Helsinki:20250327T173000
DTEND;TZID=Europe/Helsinki:20250327T184500
DTSTAMP:20260422T042116
CREATED:20250222T174448Z
LAST-MODIFIED:20250222T174448Z
UID:10000324-1743096600-1743101100@gardenshala.pl
SUMMARY:Hatha Joga
DESCRIPTION:Statyczna praktyka pozycji jogi z elementami technik oddechowych i medytacji. \nJoga ogólna. \nProwadząca: Weronika
URL:https://gardenshala.pl/yoga/hatha-joga-9/
LOCATION:Garden Shala\, Czołgistów 13\, Łódź\, 94-217\, Poland
END:VEVENT
BEGIN:VEVENT
DTSTART;TZID=Europe/Helsinki:20250327T185000
DTEND;TZID=Europe/Helsinki:20250327T200000
DTSTAMP:20260422T042116
CREATED:20250222T174509Z
LAST-MODIFIED:20250222T174509Z
UID:10000325-1743101400-1743105600@gardenshala.pl
SUMMARY:Ashtanga dla początkujących
DESCRIPTION:Wprowadzenie do I serii Ashtanga Jogi \nProwadząca: Mariana
URL:https://gardenshala.pl/yoga/ashtanga-dla-poczatkujacych-7/
LOCATION:Garden Shala\, Czołgistów 13\, Łódź\, 94-217\, Poland
END:VEVENT
BEGIN:VEVENT
DTSTART;TZID=Europe/Warsaw:20250328T173000
DTEND;TZID=Europe/Warsaw:20250328T184500
DTSTAMP:20260422T042116
CREATED:20250301T121535Z
LAST-MODIFIED:20250301T121535Z
UID:10000337-1743183000-1743187500@gardenshala.pl
SUMMARY:Movement & Prana
DESCRIPTION:Trening oddechowy połączony z ruchem\nProwadząca: Ola
URL:https://gardenshala.pl/yoga/movement-prana-3/
LOCATION:Garden Shala\, Czołgistów 13\, Łódź\, 94-217\, Poland
END:VEVENT
BEGIN:VEVENT
DTSTART;TZID=Europe/Helsinki:20250328T185000
DTEND;TZID=Europe/Helsinki:20250328T202000
DTSTAMP:20260422T042116
CREATED:20250222T174722Z
LAST-MODIFIED:20250222T174722Z
UID:10000328-1743187800-1743193200@gardenshala.pl
SUMMARY:Ashtanga - wstęp do II serii
DESCRIPTION:Wprowadzenie do II serii Ashtanga Jogi \nProwadząca: Julia
URL:https://gardenshala.pl/yoga/ashtanga-wstep-do-ii-serii-4/
LOCATION:Garden Shala\, Czołgistów 13\, Łódź\, 94-217\, Poland
END:VEVENT
END:VCALENDAR