BEGIN:VCALENDAR
VERSION:2.0
PRODID:-//GARDEN SHALA - ECPv6.7.1//NONSGML v1.0//EN
CALSCALE:GREGORIAN
METHOD:PUBLISH
X-WR-CALNAME:GARDEN SHALA
X-ORIGINAL-URL:https://gardenshala.pl
X-WR-CALDESC:Events for GARDEN SHALA
REFRESH-INTERVAL;VALUE=DURATION:PT1H
X-Robots-Tag:noindex
X-PUBLISHED-TTL:PT1H
BEGIN:VTIMEZONE
TZID:Europe/Helsinki
BEGIN:DAYLIGHT
TZOFFSETFROM:+0200
TZOFFSETTO:+0300
TZNAME:EEST
DTSTART:20250330T010000
END:DAYLIGHT
BEGIN:STANDARD
TZOFFSETFROM:+0300
TZOFFSETTO:+0200
TZNAME:EET
DTSTART:20251026T010000
END:STANDARD
TZID:Europe/Warsaw
BEGIN:DAYLIGHT
TZOFFSETFROM:+0100
TZOFFSETTO:+0200
TZNAME:CEST
DTSTART:20250330T010000
END:DAYLIGHT
BEGIN:STANDARD
TZOFFSETFROM:+0200
TZOFFSETTO:+0100
TZNAME:CET
DTSTART:20251026T010000
END:STANDARD
END:VTIMEZONE
BEGIN:VEVENT
DTSTART;TZID=Europe/Helsinki:20250605T173000
DTEND;TZID=Europe/Helsinki:20250605T184500
DTSTAMP:20260421T175356
CREATED:20250523T083003Z
LAST-MODIFIED:20250523T083003Z
UID:10000472-1749144600-1749149100@gardenshala.pl
SUMMARY:Hatha Joga
DESCRIPTION:Statyczna praktyka pozycji jogi z elementami technik oddechowych i medytacji. \nJoga ogólna. \nProwadząca: Weronika
URL:https://gardenshala.pl/yoga/hatha-joga-27/
LOCATION:Garden Shala\, Czołgistów 13\, Łódź\, 94-217\, Poland
END:VEVENT
BEGIN:VEVENT
DTSTART;TZID=Europe/Helsinki:20250605T190000
DTEND;TZID=Europe/Helsinki:20250605T203000
DTSTAMP:20260421T175356
CREATED:20250523T083021Z
LAST-MODIFIED:20250523T083021Z
UID:10000473-1749150000-1749155400@gardenshala.pl
SUMMARY:Ashtanga dla początkujących
DESCRIPTION:Wprowadzenie do I serii Ashtanga Jogi \nProwadząca: Mariana
URL:https://gardenshala.pl/yoga/ashtanga-dla-poczatkujacych-29/
LOCATION:Garden Shala\, Czołgistów 13\, Łódź\, 94-217\, Poland
END:VEVENT
BEGIN:VEVENT
DTSTART;TZID=Europe/Warsaw:20250606T173000
DTEND;TZID=Europe/Warsaw:20250606T184500
DTSTAMP:20260421T175356
CREATED:20250523T083114Z
LAST-MODIFIED:20250523T083114Z
UID:10000475-1749231000-1749235500@gardenshala.pl
SUMMARY:Movement & Prana
DESCRIPTION:Trening oddechowy połączony z ruchem\nProwadząca: Ola
URL:https://gardenshala.pl/yoga/movement-prana-13/
LOCATION:Garden Shala\, Czołgistów 13\, Łódź\, 94-217\, Poland
END:VEVENT
BEGIN:VEVENT
DTSTART;TZID=Europe/Helsinki:20250606T185000
DTEND;TZID=Europe/Helsinki:20250606T202000
DTSTAMP:20260421T175356
CREATED:20250523T083139Z
LAST-MODIFIED:20250523T083139Z
UID:10000476-1749235800-1749241200@gardenshala.pl
SUMMARY:Ashtanga - wstęp do II serii
DESCRIPTION:Wprowadzenie do II serii Ashtanga Jogi \nProwadząca: Ola
URL:https://gardenshala.pl/yoga/ashtanga-wstep-do-ii-serii-14/
LOCATION:Garden Shala\, Czołgistów 13\, Łódź\, 94-217\, Poland
END:VEVENT
BEGIN:VEVENT
DTSTART;TZID=Europe/Helsinki:20250607T090000
DTEND;TZID=Europe/Helsinki:20250607T104500
DTSTAMP:20260421T175356
CREATED:20250523T083250Z
LAST-MODIFIED:20250523T083250Z
UID:10000477-1749286800-1749293100@gardenshala.pl
SUMMARY:Ashtanga Mysore
DESCRIPTION:Mysore – praktyka własna pod przewodnictwem nauczyciela \nProwadząca: Mariana
URL:https://gardenshala.pl/yoga/ashtanga-mysore-29/
LOCATION:Garden Shala\, Czołgistów 13\, Łódź\, 94-217\, Poland
END:VEVENT
BEGIN:VEVENT
DTSTART;TZID=Europe/Helsinki:20250608T100000
DTEND;TZID=Europe/Helsinki:20250608T111500
DTSTAMP:20260421T175356
CREATED:20250523T083342Z
LAST-MODIFIED:20250523T083342Z
UID:10000478-1749376800-1749381300@gardenshala.pl
SUMMARY:Vinyasa Joga
DESCRIPTION:Energia i Pobudzenie \nPraktyka jogi mająca na celu rozbudzenie ciała i umysłu – czyli idealny sposób na rozpoczęcie niedzieli! \nProwadząca: Gosia Szczepańska
URL:https://gardenshala.pl/yoga/vinyasa-joga-18/
LOCATION:Garden Shala\, Czołgistów 13\, Łódź\, 94-217\, Poland
END:VEVENT
BEGIN:VEVENT
DTSTART;TZID=Europe/Warsaw:20250608T112500
DTEND;TZID=Europe/Warsaw:20250608T124000
DTSTAMP:20260421T175356
CREATED:20250523T083405Z
LAST-MODIFIED:20250523T083405Z
UID:10000479-1749381900-1749386400@gardenshala.pl
SUMMARY:Łagodna Vinyasa & Joga Nidra
DESCRIPTION:Łagodny\, płynny ruch połączony z oddechem. \nPraktyka zakończona głęboką relaksacją jogi nidry. \nProwadząca: Gosia Szczepańską
URL:https://gardenshala.pl/yoga/lagodna-vinyasa-joga-nidra-15/
LOCATION:Garden Shala\, Czołgistów 13\, Łódź\, 94-217\, Poland
END:VEVENT
BEGIN:VEVENT
DTSTART;TZID=Europe/Warsaw:20250609T173000
DTEND;TZID=Europe/Warsaw:20250609T184500
DTSTAMP:20260421T175356
CREATED:20250526T085601Z
LAST-MODIFIED:20250526T085601Z
UID:10000480-1749490200-1749494700@gardenshala.pl
SUMMARY:Joga dla początkujących
DESCRIPTION:Solidna podstawa do praktyki jogi\, prawidłowego wykonywania asan oraz pracy z oddechem. \nProwadząca: Ola Wietecha-Drobik
URL:https://gardenshala.pl/yoga/joga-dla-poczatkujacych-23/
LOCATION:Garden Shala\, Czołgistów 13\, Łódź\, 94-217\, Poland
END:VEVENT
BEGIN:VEVENT
DTSTART;TZID=Europe/Helsinki:20250609T185000
DTEND;TZID=Europe/Helsinki:20250609T202000
DTSTAMP:20260421T175356
CREATED:20250526T085631Z
LAST-MODIFIED:20250526T085631Z
UID:10000481-1749495000-1749500400@gardenshala.pl
SUMMARY:Hatha Joga
DESCRIPTION:Statyczna praktyka pozycji jogi z elementami technik oddechowych i medytacji. \nProwadząca: Ola
URL:https://gardenshala.pl/yoga/hatha-joga-28/
LOCATION:Garden Shala\, Czołgistów 13\, Łódź\, 94-217\, Poland
END:VEVENT
BEGIN:VEVENT
DTSTART;TZID=Europe/Helsinki:20250610T173000
DTEND;TZID=Europe/Helsinki:20250610T183000
DTSTAMP:20260421T175356
CREATED:20250526T085701Z
LAST-MODIFIED:20250526T085701Z
UID:10000482-1749576600-1749580200@gardenshala.pl
SUMMARY:Ashtanga dla początkujących
DESCRIPTION:Wprowadzenie do I serii Ashtanga Jogi \nProwadząca: Agnieszka
URL:https://gardenshala.pl/yoga/ashtanga-dla-poczatkujacych-30/
LOCATION:Garden Shala\, Czołgistów 13\, Łódź\, 94-217\, Poland
END:VEVENT
BEGIN:VEVENT
DTSTART;TZID=Europe/Helsinki:20250610T184500
DTEND;TZID=Europe/Helsinki:20250610T201500
DTSTAMP:20260421T175356
CREATED:20250526T085719Z
LAST-MODIFIED:20250526T085719Z
UID:10000483-1749581100-1749586500@gardenshala.pl
SUMMARY:Ashtanga Mysore
DESCRIPTION:Mysore – praktyka własna Ashtanga Jogi pod przewodnictwem nauczyciela. \nProwadząca: Agnieszka
URL:https://gardenshala.pl/yoga/ashtanga-mysore-30/
LOCATION:Garden Shala\, Czołgistów 13\, Łódź\, 94-217\, Poland
END:VEVENT
BEGIN:VEVENT
DTSTART;TZID=Europe/Warsaw:20250611T173000
DTEND;TZID=Europe/Warsaw:20250611T184500
DTSTAMP:20260421T175356
CREATED:20250526T085748Z
LAST-MODIFIED:20250526T085748Z
UID:10000484-1749663000-1749667500@gardenshala.pl
SUMMARY:Joga dla początkujących
DESCRIPTION:Łagodne i płynne wejście w praktykę jogi z Gosią.
URL:https://gardenshala.pl/yoga/joga-dla-poczatkujacych-24/
LOCATION:Garden Shala\, Czołgistów 13\, Łódź\, 94-217\, Poland
END:VEVENT
BEGIN:VEVENT
DTSTART;TZID=Europe/Warsaw:20250611T190000
DTEND;TZID=Europe/Warsaw:20250611T203000
DTSTAMP:20260421T175356
CREATED:20250526T162239Z
LAST-MODIFIED:20250609T124120Z
UID:10000530-1749668400-1749673800@gardenshala.pl
SUMMARY:Ashtanga Asana Lab
DESCRIPTION:Praktyka poświęcona poszczególnym asanom z I i II serii Ashtangi. \nOmówienie techniki\, wariantów i sposobów wprowadzenia ciała w pozycje. \nPodczas zajęć przewidziana jest także praca z oddechem (Pranayama) i praktyki uważności (medytacja). \nProwadząca: Julia
URL:https://gardenshala.pl/yoga/ashtanga-asana-lab/
LOCATION:Garden Shala\, Czołgistów 13\, Łódź\, 94-217\, Poland
END:VEVENT
BEGIN:VEVENT
DTSTART;TZID=Europe/Helsinki:20250612T173000
DTEND;TZID=Europe/Helsinki:20250612T184500
DTSTAMP:20260421T175356
CREATED:20250526T091140Z
LAST-MODIFIED:20250526T091140Z
UID:10000492-1749749400-1749753900@gardenshala.pl
SUMMARY:Hatha Joga
DESCRIPTION:Statyczna praktyka pozycji jogi z elementami technik oddechowych i medytacji. \nJoga ogólna. \nProwadząca: Weronika
URL:https://gardenshala.pl/yoga/hatha-joga-29/
LOCATION:Garden Shala\, Czołgistów 13\, Łódź\, 94-217\, Poland
END:VEVENT
BEGIN:VEVENT
DTSTART;TZID=Europe/Helsinki:20250612T190000
DTEND;TZID=Europe/Helsinki:20250612T203000
DTSTAMP:20260421T175356
CREATED:20250526T085827Z
LAST-MODIFIED:20250526T085827Z
UID:10000486-1749754800-1749760200@gardenshala.pl
SUMMARY:Ashtanga dla początkujących
DESCRIPTION:Wprowadzenie do I serii Ashtanga Jogi \nProwadząca: Mariana
URL:https://gardenshala.pl/yoga/ashtanga-dla-poczatkujacych-31/
LOCATION:Garden Shala\, Czołgistów 13\, Łódź\, 94-217\, Poland
END:VEVENT
BEGIN:VEVENT
DTSTART;TZID=Europe/Warsaw:20250613T173000
DTEND;TZID=Europe/Warsaw:20250613T184500
DTSTAMP:20260421T175356
CREATED:20250526T085856Z
LAST-MODIFIED:20250526T085856Z
UID:10000487-1749835800-1749840300@gardenshala.pl
SUMMARY:Movement & Prana
DESCRIPTION:Trening oddechowy połączony z ruchem\nProwadząca: Ola
URL:https://gardenshala.pl/yoga/movement-prana-14/
LOCATION:Garden Shala\, Czołgistów 13\, Łódź\, 94-217\, Poland
END:VEVENT
BEGIN:VEVENT
DTSTART;TZID=Europe/Helsinki:20250613T185000
DTEND;TZID=Europe/Helsinki:20250613T202000
DTSTAMP:20260421T175356
CREATED:20250526T085933Z
LAST-MODIFIED:20250526T085933Z
UID:10000488-1749840600-1749846000@gardenshala.pl
SUMMARY:Ashtanga - wstęp do II serii
DESCRIPTION:Wprowadzenie do II serii Ashtanga Jogi \nProwadząca: Julia
URL:https://gardenshala.pl/yoga/ashtanga-wstep-do-ii-serii-15/
LOCATION:Garden Shala\, Czołgistów 13\, Łódź\, 94-217\, Poland
END:VEVENT
BEGIN:VEVENT
DTSTART;TZID=Europe/Helsinki:20250614T090000
DTEND;TZID=Europe/Helsinki:20250614T104500
DTSTAMP:20260421T175356
CREATED:20250526T090002Z
LAST-MODIFIED:20250526T090002Z
UID:10000489-1749891600-1749897900@gardenshala.pl
SUMMARY:Ashtanga Mysore
DESCRIPTION:Mysore – praktyka własna pod przewodnictwem nauczyciela \nProwadząca: Julia
URL:https://gardenshala.pl/yoga/ashtanga-mysore-31/
LOCATION:Garden Shala\, Czołgistów 13\, Łódź\, 94-217\, Poland
END:VEVENT
BEGIN:VEVENT
DTSTART;TZID=Europe/Helsinki:20250615T100000
DTEND;TZID=Europe/Helsinki:20250615T111500
DTSTAMP:20260421T175356
CREATED:20250526T090039Z
LAST-MODIFIED:20250526T090039Z
UID:10000490-1749981600-1749986100@gardenshala.pl
SUMMARY:Vinyasa Joga
DESCRIPTION:Energia i Pobudzenie \nPraktyka jogi mająca na celu rozbudzenie ciała i umysłu – czyli idealny sposób na rozpoczęcie niedzieli! \nProwadząca: Gosia Szczepańska
URL:https://gardenshala.pl/yoga/vinyasa-joga-19/
LOCATION:Garden Shala\, Czołgistów 13\, Łódź\, 94-217\, Poland
END:VEVENT
BEGIN:VEVENT
DTSTART;TZID=Europe/Warsaw:20250615T112500
DTEND;TZID=Europe/Warsaw:20250615T124000
DTSTAMP:20260421T175356
CREATED:20250526T090056Z
LAST-MODIFIED:20250526T090056Z
UID:10000491-1749986700-1749991200@gardenshala.pl
SUMMARY:Łagodna Vinyasa & Joga Nidra
DESCRIPTION:Łagodny\, płynny ruch połączony z oddechem. \nPraktyka zakończona głęboką relaksacją jogi nidry. \nProwadząca: Gosia Szczepańską
URL:https://gardenshala.pl/yoga/lagodna-vinyasa-joga-nidra-16/
LOCATION:Garden Shala\, Czołgistów 13\, Łódź\, 94-217\, Poland
END:VEVENT
BEGIN:VEVENT
DTSTART;TZID=Europe/Warsaw:20250615T190000
DTEND;TZID=Europe/Warsaw:20250615T203000
DTSTAMP:20260421T175356
CREATED:20250508T095749Z
LAST-MODIFIED:20250508T095749Z
UID:10000464-1750014000-1750019400@gardenshala.pl
SUMMARY:Joga Nidra & Moc Wibracji
DESCRIPTION:Zapraszamy na praktykę Jogi Nidry i koncert mis tybetańskich\nZajęcia zapewnią Ci głęboki relaks\, uwolnienie od napięć\, redukcję stresu\, a być może spełnienie najskrytszych marzeń! Przyjdź i poczuj moc jogi nidry na własnej skórze!\nProwadzące:\nMariana Krulikovska & Agnieszka Kauer\nInwestycja: 80 zł
URL:https://gardenshala.pl/yoga/joga-nidra-moc-wibracji-3/
LOCATION:Garden Shala\, Czołgistów 13\, Łódź\, 94-217\, Poland
END:VEVENT
BEGIN:VEVENT
DTSTART;TZID=Europe/Warsaw:20250616T173000
DTEND;TZID=Europe/Warsaw:20250616T184500
DTSTAMP:20260421T175356
CREATED:20250526T091212Z
LAST-MODIFIED:20250526T091212Z
UID:10000493-1750095000-1750099500@gardenshala.pl
SUMMARY:Joga dla początkujących
DESCRIPTION:Solidna podstawa do praktyki jogi\, prawidłowego wykonywania asan oraz pracy z oddechem. \nProwadząca: Ola Wietecha-Drobik
URL:https://gardenshala.pl/yoga/joga-dla-poczatkujacych-25/
LOCATION:Garden Shala\, Czołgistów 13\, Łódź\, 94-217\, Poland
END:VEVENT
BEGIN:VEVENT
DTSTART;TZID=Europe/Helsinki:20250616T185000
DTEND;TZID=Europe/Helsinki:20250616T202000
DTSTAMP:20260421T175356
CREATED:20250526T091236Z
LAST-MODIFIED:20250526T091236Z
UID:10000494-1750099800-1750105200@gardenshala.pl
SUMMARY:Hatha Joga
DESCRIPTION:Statyczna praktyka pozycji jogi z elementami technik oddechowych i medytacji. \nProwadząca: Ola
URL:https://gardenshala.pl/yoga/hatha-joga-30/
LOCATION:Garden Shala\, Czołgistów 13\, Łódź\, 94-217\, Poland
END:VEVENT
BEGIN:VEVENT
DTSTART;TZID=Europe/Helsinki:20250617T173000
DTEND;TZID=Europe/Helsinki:20250617T183000
DTSTAMP:20260421T175356
CREATED:20250526T091551Z
LAST-MODIFIED:20250526T091551Z
UID:10000495-1750181400-1750185000@gardenshala.pl
SUMMARY:Ashtanga dla początkujących
DESCRIPTION:Wprowadzenie do I serii Ashtanga Jogi \nProwadząca: Agnieszka
URL:https://gardenshala.pl/yoga/ashtanga-dla-poczatkujacych-32/
LOCATION:Garden Shala\, Czołgistów 13\, Łódź\, 94-217\, Poland
END:VEVENT
BEGIN:VEVENT
DTSTART;TZID=Europe/Helsinki:20250617T184500
DTEND;TZID=Europe/Helsinki:20250617T201500
DTSTAMP:20260421T175356
CREATED:20250526T091608Z
LAST-MODIFIED:20250526T091608Z
UID:10000496-1750185900-1750191300@gardenshala.pl
SUMMARY:Ashtanga Mysore
DESCRIPTION:Mysore – praktyka własna Ashtanga Jogi pod przewodnictwem nauczyciela. \nProwadząca: Agnieszka
URL:https://gardenshala.pl/yoga/ashtanga-mysore-32/
LOCATION:Garden Shala\, Czołgistów 13\, Łódź\, 94-217\, Poland
END:VEVENT
BEGIN:VEVENT
DTSTART;TZID=Europe/Warsaw:20250618T173000
DTEND;TZID=Europe/Warsaw:20250618T184500
DTSTAMP:20260421T175356
CREATED:20250526T091639Z
LAST-MODIFIED:20250526T091639Z
UID:10000497-1750267800-1750272300@gardenshala.pl
SUMMARY:Joga dla początkujących
DESCRIPTION:Łagodne i płynne wejście w praktykę jogi z Gosią.
URL:https://gardenshala.pl/yoga/joga-dla-poczatkujacych-26/
LOCATION:Garden Shala\, Czołgistów 13\, Łódź\, 94-217\, Poland
END:VEVENT
BEGIN:VEVENT
DTSTART;TZID=Europe/Warsaw:20250618T190000
DTEND;TZID=Europe/Warsaw:20250618T203000
DTSTAMP:20260421T175356
CREATED:20250526T162414Z
LAST-MODIFIED:20250526T162414Z
UID:10000531-1750273200-1750278600@gardenshala.pl
SUMMARY:Ashtanga Asana Lab
DESCRIPTION:Praktyka poświęcona poszczególnym asanom z I i II serii Ashtangi. \nOmówienie techniki\, wariantów i sposobów wprowadzenia ciała w pozycje. \nPodczas zajęć przewidziana jest także praca z oddechem (Pranayama) i praktyki uważności (medytacja). \nProwadząca: Julia
URL:https://gardenshala.pl/yoga/ashtanga-asana-lab-2/
LOCATION:Garden Shala\, Czołgistów 13\, Łódź\, 94-217\, Poland
END:VEVENT
BEGIN:VEVENT
DTSTART;TZID=Europe/Helsinki:20250619T100000
DTEND;TZID=Europe/Helsinki:20250619T111500
DTSTAMP:20260421T175356
CREATED:20250526T091724Z
LAST-MODIFIED:20250614T172919Z
UID:10000498-1750327200-1750331700@gardenshala.pl
SUMMARY:Hatha Joga
DESCRIPTION:Statyczna praktyka pozycji jogi z elementami technik oddechowych i medytacji. \nJoga ogólna. \nProwadząca: Weronika
URL:https://gardenshala.pl/yoga/hatha-joga-31/
LOCATION:Garden Shala\, Czołgistów 13\, Łódź\, 94-217\, Poland
END:VEVENT
BEGIN:VEVENT
DTSTART;TZID=Europe/Helsinki:20250619T113000
DTEND;TZID=Europe/Helsinki:20250619T130000
DTSTAMP:20260421T175356
CREATED:20250614T173033Z
LAST-MODIFIED:20250614T173140Z
UID:10000523-1750332600-1750338000@gardenshala.pl
SUMMARY:Ashtanga dla początkujących
DESCRIPTION:Wprowadzenie do I serii Ashtanga Jogi \nProwadząca: Mariana
URL:https://gardenshala.pl/yoga/ashtanga-dla-poczatkujacych-38/
LOCATION:Garden Shala\, Czołgistów 13\, Łódź\, 94-217\, Poland
END:VEVENT
BEGIN:VEVENT
DTSTART;TZID=Europe/Warsaw:20250620T173000
DTEND;TZID=Europe/Warsaw:20250620T184500
DTSTAMP:20260421T175356
CREATED:20250526T091815Z
LAST-MODIFIED:20250526T091815Z
UID:10000500-1750440600-1750445100@gardenshala.pl
SUMMARY:Movement & Prana
DESCRIPTION:Trening oddechowy połączony z ruchem\nProwadząca: Ola
URL:https://gardenshala.pl/yoga/movement-prana-15/
LOCATION:Garden Shala\, Czołgistów 13\, Łódź\, 94-217\, Poland
END:VEVENT
END:VCALENDAR