BEGIN:VCALENDAR
VERSION:2.0
PRODID:-//GARDEN SHALA - ECPv6.7.1//NONSGML v1.0//EN
CALSCALE:GREGORIAN
METHOD:PUBLISH
X-WR-CALNAME:GARDEN SHALA
X-ORIGINAL-URL:https://gardenshala.pl
X-WR-CALDESC:Events for GARDEN SHALA
REFRESH-INTERVAL;VALUE=DURATION:PT1H
X-Robots-Tag:noindex
X-PUBLISHED-TTL:PT1H
BEGIN:VTIMEZONE
TZID:Europe/Helsinki
BEGIN:DAYLIGHT
TZOFFSETFROM:+0200
TZOFFSETTO:+0300
TZNAME:EEST
DTSTART:20250330T010000
END:DAYLIGHT
BEGIN:STANDARD
TZOFFSETFROM:+0300
TZOFFSETTO:+0200
TZNAME:EET
DTSTART:20251026T010000
END:STANDARD
TZID:Europe/Warsaw
BEGIN:DAYLIGHT
TZOFFSETFROM:+0100
TZOFFSETTO:+0200
TZNAME:CEST
DTSTART:20250330T010000
END:DAYLIGHT
BEGIN:STANDARD
TZOFFSETFROM:+0200
TZOFFSETTO:+0100
TZNAME:CET
DTSTART:20251026T010000
END:STANDARD
END:VTIMEZONE
BEGIN:VEVENT
DTSTART;TZID=Europe/Helsinki:20250907T100000
DTEND;TZID=Europe/Helsinki:20250907T111500
DTSTAMP:20260421T122127
CREATED:20250801T105159Z
LAST-MODIFIED:20250801T105159Z
UID:10000685-1757239200-1757243700@gardenshala.pl
SUMMARY:Vinyasa Joga
DESCRIPTION:Energia i Pobudzenie \nPraktyka jogi mająca na celu rozbudzenie ciała i umysłu – czyli idealny sposób na rozpoczęcie niedzieli! \nProwadząca: Mariana
URL:https://gardenshala.pl/yoga/vinyasa-joga-31/
LOCATION:Garden Shala\, Czołgistów 13\, Łódź\, 94-217\, Poland
END:VEVENT
BEGIN:VEVENT
DTSTART;TZID=Europe/Warsaw:20250907T113000
DTEND;TZID=Europe/Warsaw:20250907T124500
DTSTAMP:20260421T122127
CREATED:20250801T105227Z
LAST-MODIFIED:20250801T105227Z
UID:10000686-1757244600-1757249100@gardenshala.pl
SUMMARY:Łagodna Vinyasa & Joga Nidra
DESCRIPTION:Łagodny\, płynny ruch połączony z oddechem. \nPraktyka zakończona głęboką relaksacją jogi nidry. \nProwadząca: Gosia Szczepańska
URL:https://gardenshala.pl/yoga/lagodna-vinyasa-joga-nidra-28/
LOCATION:Garden Shala\, Czołgistów 13\, Łódź\, 94-217\, Poland
END:VEVENT
BEGIN:VEVENT
DTSTART;TZID=Europe/Warsaw:20250908T173000
DTEND;TZID=Europe/Warsaw:20250908T184500
DTSTAMP:20260421T122127
CREATED:20250802T165257Z
LAST-MODIFIED:20250802T165257Z
UID:10000689-1757352600-1757357100@gardenshala.pl
SUMMARY:Joga dla początkujących
DESCRIPTION:Solidna podstawa do praktyki jogi\, prawidłowego wykonywania asan oraz pracy z oddechem. \nProwadząca: Ola Wietecha-Drobik
URL:https://gardenshala.pl/yoga/joga-dla-poczatkujacych-50/
LOCATION:Garden Shala\, Czołgistów 13\, Łódź\, 94-217\, Poland
END:VEVENT
BEGIN:VEVENT
DTSTART;TZID=Europe/Helsinki:20250908T185000
DTEND;TZID=Europe/Helsinki:20250908T202000
DTSTAMP:20260421T122127
CREATED:20250802T165327Z
LAST-MODIFIED:20250802T165327Z
UID:10000690-1757357400-1757362800@gardenshala.pl
SUMMARY:Hatha Joga
DESCRIPTION:Statyczna praktyka pozycji jogi z elementami technik oddechowych i medytacji. \nProwadząca: Ola
URL:https://gardenshala.pl/yoga/hatha-joga-54/
LOCATION:Garden Shala\, Czołgistów 13\, Łódź\, 94-217\, Poland
END:VEVENT
BEGIN:VEVENT
DTSTART;TZID=Europe/Warsaw:20250908T203000
DTEND;TZID=Europe/Warsaw:20250908T214500
DTSTAMP:20260421T122127
CREATED:20250802T165346Z
LAST-MODIFIED:20250810T091733Z
UID:10000691-1757363400-1757367900@gardenshala.pl
SUMMARY:Yin Joga
DESCRIPTION:Joga podczas której pozostajemy dłużej w pozycji\, praca na powięzi i tkankach głębokich. \nDla poszukujących zatrzymania i odpuszczenia. W pozycjach pozostajemy 3-7 minut. \nProwadząca: Patrycja
URL:https://gardenshala.pl/yoga/yin-joga-2/
LOCATION:Garden Shala\, Czołgistów 13\, Łódź\, 94-217\, Poland
END:VEVENT
BEGIN:VEVENT
DTSTART;TZID=Europe/Warsaw:20250909T173000
DTEND;TZID=Europe/Warsaw:20250909T184500
DTSTAMP:20260421T122127
CREATED:20250703T175848Z
LAST-MODIFIED:20250703T175848Z
UID:10000613-1757439000-1757443500@gardenshala.pl
SUMMARY:Ashtanga Intro - kurs Ashtanga Vinyasa Jogi od podstaw
DESCRIPTION:Kurs wprowadzający do praktyki Ashtanga Vinyasa Jogi \nZ Julią Zabost \nEarly Bird: 350 zł (do 15.08) \n450 zł (po 15.08)
URL:https://gardenshala.pl/yoga/ashtanga-intro-kurs-ashtanga-vinyasa-jogi-od-podstaw-2/
LOCATION:Garden Shala\, Czołgistów 13\, Łódź\, 94-217\, Poland
END:VEVENT
BEGIN:VEVENT
DTSTART;TZID=Europe/Helsinki:20250909T185000
DTEND;TZID=Europe/Helsinki:20250909T202000
DTSTAMP:20260421T122127
CREATED:20250810T090934Z
LAST-MODIFIED:20250810T090934Z
UID:10000692-1757443800-1757449200@gardenshala.pl
SUMMARY:Ashtanga Mysore
DESCRIPTION:Mysore – praktyka własna Ashtanga Jogi pod przewodnictwem nauczyciela. \nProwadząca: Julia
URL:https://gardenshala.pl/yoga/ashtanga-mysore-58/
LOCATION:Garden Shala\, Czołgistów 13\, Łódź\, 94-217\, Poland
END:VEVENT
BEGIN:VEVENT
DTSTART;TZID=Europe/Warsaw:20250910T173000
DTEND;TZID=Europe/Warsaw:20250910T184500
DTSTAMP:20260421T122127
CREATED:20250810T091105Z
LAST-MODIFIED:20250810T091105Z
UID:10000694-1757525400-1757529900@gardenshala.pl
SUMMARY:Joga dla początkujących
DESCRIPTION:Łagodne i płynne wejście w praktykę jogi z Gosią.
URL:https://gardenshala.pl/yoga/joga-dla-poczatkujacych-51/
LOCATION:Garden Shala\, Czołgistów 13\, Łódź\, 94-217\, Poland
END:VEVENT
BEGIN:VEVENT
DTSTART;TZID=Europe/Warsaw:20250910T190000
DTEND;TZID=Europe/Warsaw:20250910T203000
DTSTAMP:20260421T122127
CREATED:20250810T091048Z
LAST-MODIFIED:20250810T091048Z
UID:10000693-1757530800-1757536200@gardenshala.pl
SUMMARY:Ashtanga Asana Lab
DESCRIPTION:Praktyka poświęcona poszczególnym asanom z I i II serii Ashtangi. \nOmówienie techniki\, wariantów i sposobów wprowadzenia ciała w pozycje. \nPodczas zajęć przewidziana jest także praca z oddechem (Pranayama) i praktyki uważności (medytacja). \nProwadząca: Julia
URL:https://gardenshala.pl/yoga/ashtanga-asana-lab-13/
LOCATION:Garden Shala\, Czołgistów 13\, Łódź\, 94-217\, Poland
END:VEVENT
BEGIN:VEVENT
DTSTART;TZID=Europe/Helsinki:20250911T173000
DTEND;TZID=Europe/Helsinki:20250911T184500
DTSTAMP:20260421T122127
CREATED:20250810T091138Z
LAST-MODIFIED:20250810T091138Z
UID:10000695-1757611800-1757616300@gardenshala.pl
SUMMARY:Hatha Joga
DESCRIPTION:Statyczna praktyka pozycji jogi z elementami technik oddechowych i medytacji. \nJoga ogólna. \nProwadząca: Weronika
URL:https://gardenshala.pl/yoga/hatha-joga-55/
LOCATION:Garden Shala\, Czołgistów 13\, Łódź\, 94-217\, Poland
END:VEVENT
BEGIN:VEVENT
DTSTART;TZID=Europe/Helsinki:20250911T190000
DTEND;TZID=Europe/Helsinki:20250911T203000
DTSTAMP:20260421T122127
CREATED:20250810T091156Z
LAST-MODIFIED:20250810T091156Z
UID:10000696-1757617200-1757622600@gardenshala.pl
SUMMARY:Ashtanga dla początkujących
DESCRIPTION:Wprowadzenie do I serii Ashtanga Jogi \nProwadząca: Mariana
URL:https://gardenshala.pl/yoga/ashtanga-dla-poczatkujacych-56/
LOCATION:Garden Shala\, Czołgistów 13\, Łódź\, 94-217\, Poland
END:VEVENT
BEGIN:VEVENT
DTSTART;TZID=Europe/Warsaw:20250912T173000
DTEND;TZID=Europe/Warsaw:20250912T184500
DTSTAMP:20260421T122127
CREATED:20250810T091230Z
LAST-MODIFIED:20250810T091230Z
UID:10000697-1757698200-1757702700@gardenshala.pl
SUMMARY:Movement & Prana
DESCRIPTION:Trening oddechowy połączony z ruchem\nProwadząca: Ola
URL:https://gardenshala.pl/yoga/movement-prana-27/
LOCATION:Garden Shala\, Czołgistów 13\, Łódź\, 94-217\, Poland
END:VEVENT
BEGIN:VEVENT
DTSTART;TZID=Europe/Helsinki:20250912T185000
DTEND;TZID=Europe/Helsinki:20250912T202000
DTSTAMP:20260421T122127
CREATED:20250810T091248Z
LAST-MODIFIED:20250810T091248Z
UID:10000698-1757703000-1757708400@gardenshala.pl
SUMMARY:Ashtanga - wstęp do II serii
DESCRIPTION:Wprowadzenie do II serii Ashtanga Jogi \nProwadząca: Julia
URL:https://gardenshala.pl/yoga/ashtanga-wstep-do-ii-serii-29/
LOCATION:Garden Shala\, Czołgistów 13\, Łódź\, 94-217\, Poland
END:VEVENT
BEGIN:VEVENT
DTSTART;TZID=Europe/Helsinki:20250913T090000
DTEND;TZID=Europe/Helsinki:20250913T104500
DTSTAMP:20260421T122127
CREATED:20250810T091321Z
LAST-MODIFIED:20250810T091321Z
UID:10000699-1757754000-1757760300@gardenshala.pl
SUMMARY:Ashtanga Mysore
DESCRIPTION:Mysore – praktyka własna pod przewodnictwem nauczyciela \nProwadząca: Mariana
URL:https://gardenshala.pl/yoga/ashtanga-mysore-59/
LOCATION:Garden Shala\, Czołgistów 13\, Łódź\, 94-217\, Poland
END:VEVENT
BEGIN:VEVENT
DTSTART;TZID=Europe/Helsinki:20250914T100000
DTEND;TZID=Europe/Helsinki:20250914T111500
DTSTAMP:20260421T122127
CREATED:20250810T091356Z
LAST-MODIFIED:20250909T074644Z
UID:10000700-1757844000-1757848500@gardenshala.pl
SUMMARY:Vinyasa Joga
DESCRIPTION:Energia i Pobudzenie \nPraktyka jogi mająca na celu rozbudzenie ciała i umysłu – czyli idealny sposób na rozpoczęcie niedzieli! \nProwadząca: Gosia
URL:https://gardenshala.pl/yoga/vinyasa-joga-32/
LOCATION:Garden Shala\, Czołgistów 13\, Łódź\, 94-217\, Poland
END:VEVENT
BEGIN:VEVENT
DTSTART;TZID=Europe/Warsaw:20250914T113000
DTEND;TZID=Europe/Warsaw:20250914T124500
DTSTAMP:20260421T122127
CREATED:20250810T091412Z
LAST-MODIFIED:20250810T091412Z
UID:10000701-1757849400-1757853900@gardenshala.pl
SUMMARY:Łagodna Vinyasa & Joga Nidra
DESCRIPTION:Łagodny\, płynny ruch połączony z oddechem. \nPraktyka zakończona głęboką relaksacją jogi nidry. \nProwadząca: Gosia Szczepańska
URL:https://gardenshala.pl/yoga/lagodna-vinyasa-joga-nidra-29/
LOCATION:Garden Shala\, Czołgistów 13\, Łódź\, 94-217\, Poland
END:VEVENT
BEGIN:VEVENT
DTSTART;TZID=Europe/Warsaw:20250915T173000
DTEND;TZID=Europe/Warsaw:20250915T184500
DTSTAMP:20260421T122127
CREATED:20250810T091505Z
LAST-MODIFIED:20250810T091505Z
UID:10000702-1757957400-1757961900@gardenshala.pl
SUMMARY:Joga dla początkujących
DESCRIPTION:Solidna podstawa do praktyki jogi\, prawidłowego wykonywania asan oraz pracy z oddechem. \nProwadząca: Ola Wietecha-Drobik
URL:https://gardenshala.pl/yoga/joga-dla-poczatkujacych-52/
LOCATION:Garden Shala\, Czołgistów 13\, Łódź\, 94-217\, Poland
END:VEVENT
BEGIN:VEVENT
DTSTART;TZID=Europe/Helsinki:20250915T185000
DTEND;TZID=Europe/Helsinki:20250915T202000
DTSTAMP:20260421T122127
CREATED:20250810T091521Z
LAST-MODIFIED:20250810T091521Z
UID:10000703-1757962200-1757967600@gardenshala.pl
SUMMARY:Hatha Joga
DESCRIPTION:Statyczna praktyka pozycji jogi z elementami technik oddechowych i medytacji. \nProwadząca: Ola
URL:https://gardenshala.pl/yoga/hatha-joga-56/
LOCATION:Garden Shala\, Czołgistów 13\, Łódź\, 94-217\, Poland
END:VEVENT
BEGIN:VEVENT
DTSTART;TZID=Europe/Warsaw:20250915T203000
DTEND;TZID=Europe/Warsaw:20250915T214500
DTSTAMP:20260421T122127
CREATED:20250810T091554Z
LAST-MODIFIED:20250810T091625Z
UID:10000704-1757968200-1757972700@gardenshala.pl
SUMMARY:Yin Joga
DESCRIPTION:Joga podczas której pozostajemy dłużej w pozycji\, praca na powięzi i tkankach głębokich. \nDla poszukujących zatrzymania i odpuszczenia. W pozycjach pozostajemy 3-7 minut. \nProwadząca: Patrycja
URL:https://gardenshala.pl/yoga/yin-joga-3/
LOCATION:Garden Shala\, Czołgistów 13\, Łódź\, 94-217\, Poland
END:VEVENT
BEGIN:VEVENT
DTSTART;TZID=Europe/Warsaw:20250916T173000
DTEND;TZID=Europe/Warsaw:20250916T184500
DTSTAMP:20260421T122127
CREATED:20250703T175901Z
LAST-MODIFIED:20250703T175901Z
UID:10000614-1758043800-1758048300@gardenshala.pl
SUMMARY:Ashtanga Intro - kurs Ashtanga Vinyasa Jogi od podstaw
DESCRIPTION:Kurs wprowadzający do praktyki Ashtanga Vinyasa Jogi \nZ Julią Zabost \nEarly Bird: 350 zł (do 15.08) \n450 zł (po 15.08)
URL:https://gardenshala.pl/yoga/ashtanga-intro-kurs-ashtanga-vinyasa-jogi-od-podstaw-3/
LOCATION:Garden Shala\, Czołgistów 13\, Łódź\, 94-217\, Poland
END:VEVENT
BEGIN:VEVENT
DTSTART;TZID=Europe/Helsinki:20250916T185000
DTEND;TZID=Europe/Helsinki:20250916T202000
DTSTAMP:20260421T122127
CREATED:20250810T091750Z
LAST-MODIFIED:20250810T091750Z
UID:10000705-1758048600-1758054000@gardenshala.pl
SUMMARY:Ashtanga Mysore
DESCRIPTION:Mysore – praktyka własna Ashtanga Jogi pod przewodnictwem nauczyciela. \nProwadząca: Julia
URL:https://gardenshala.pl/yoga/ashtanga-mysore-60/
LOCATION:Garden Shala\, Czołgistów 13\, Łódź\, 94-217\, Poland
END:VEVENT
BEGIN:VEVENT
DTSTART;TZID=Europe/Warsaw:20250917T173000
DTEND;TZID=Europe/Warsaw:20250917T184500
DTSTAMP:20260421T122127
CREATED:20250827T082150Z
LAST-MODIFIED:20250827T082150Z
UID:10000715-1758130200-1758134700@gardenshala.pl
SUMMARY:Joga dla początkujących
DESCRIPTION:Łagodne i płynne wejście w praktykę jogi z Gosią.
URL:https://gardenshala.pl/yoga/joga-dla-poczatkujacych-55/
LOCATION:Garden Shala\, Czołgistów 13\, Łódź\, 94-217\, Poland
END:VEVENT
BEGIN:VEVENT
DTSTART;TZID=Europe/Warsaw:20250917T190000
DTEND;TZID=Europe/Warsaw:20250917T203000
DTSTAMP:20260421T122127
CREATED:20250827T082208Z
LAST-MODIFIED:20250827T082208Z
UID:10000716-1758135600-1758141000@gardenshala.pl
SUMMARY:Ashtanga Asana Lab
DESCRIPTION:Praktyka poświęcona poszczególnym asanom z I i II serii Ashtangi. \nOmówienie techniki\, wariantów i sposobów wprowadzenia ciała w pozycje. \nPodczas zajęć przewidziana jest także praca z oddechem (Pranayama) i praktyki uważności (medytacja). \nProwadząca: Julia
URL:https://gardenshala.pl/yoga/ashtanga-asana-lab-15/
LOCATION:Garden Shala\, Czołgistów 13\, Łódź\, 94-217\, Poland
END:VEVENT
BEGIN:VEVENT
DTSTART;TZID=Europe/Helsinki:20250918T173000
DTEND;TZID=Europe/Helsinki:20250918T184500
DTSTAMP:20260421T122127
CREATED:20250827T082332Z
LAST-MODIFIED:20250827T082332Z
UID:10000719-1758216600-1758221100@gardenshala.pl
SUMMARY:Hatha Joga
DESCRIPTION:Statyczna praktyka pozycji jogi z elementami technik oddechowych i medytacji. \nJoga ogólna. \nProwadząca: Weronika
URL:https://gardenshala.pl/yoga/hatha-joga-59/
LOCATION:Garden Shala\, Czołgistów 13\, Łódź\, 94-217\, Poland
END:VEVENT
BEGIN:VEVENT
DTSTART;TZID=Europe/Helsinki:20250918T190000
DTEND;TZID=Europe/Helsinki:20250918T203000
DTSTAMP:20260421T122127
CREATED:20250827T082348Z
LAST-MODIFIED:20250827T082348Z
UID:10000720-1758222000-1758227400@gardenshala.pl
SUMMARY:Ashtanga dla początkujących
DESCRIPTION:Wprowadzenie do I serii Ashtanga Jogi \nProwadząca: Mariana
URL:https://gardenshala.pl/yoga/ashtanga-dla-poczatkujacych-58/
LOCATION:Garden Shala\, Czołgistów 13\, Łódź\, 94-217\, Poland
END:VEVENT
BEGIN:VEVENT
DTSTART;TZID=Europe/Warsaw:20250919T173000
DTEND;TZID=Europe/Warsaw:20250919T184500
DTSTAMP:20260421T122127
CREATED:20250827T082514Z
LAST-MODIFIED:20250827T082514Z
UID:10000723-1758303000-1758307500@gardenshala.pl
SUMMARY:Movement & Prana
DESCRIPTION:Trening oddechowy połączony z ruchem\nProwadząca: Ola
URL:https://gardenshala.pl/yoga/movement-prana-28/
LOCATION:Garden Shala\, Czołgistów 13\, Łódź\, 94-217\, Poland
END:VEVENT
BEGIN:VEVENT
DTSTART;TZID=Europe/Helsinki:20250919T185000
DTEND;TZID=Europe/Helsinki:20250919T202000
DTSTAMP:20260421T122127
CREATED:20250827T082530Z
LAST-MODIFIED:20250827T082530Z
UID:10000724-1758307800-1758313200@gardenshala.pl
SUMMARY:Ashtanga - wstęp do II serii
DESCRIPTION:Wprowadzenie do II serii Ashtanga Jogi \nProwadząca: Julia
URL:https://gardenshala.pl/yoga/ashtanga-wstep-do-ii-serii-30/
LOCATION:Garden Shala\, Czołgistów 13\, Łódź\, 94-217\, Poland
END:VEVENT
BEGIN:VEVENT
DTSTART;TZID=Europe/Warsaw:20250920T093000
DTEND;TZID=Europe/Warsaw:20250920T133000
DTSTAMP:20260421T122127
CREATED:20250827T083855Z
LAST-MODIFIED:20250827T083855Z
UID:10000734-1758360600-1758375000@gardenshala.pl
SUMMARY:1 Urodziny Garden Shali - wspólna praktyka jogi\, koncert i kawa
DESCRIPTION:Zapraszamy na wspólne świętowanie 1-szych urodzin Garden Shali! \n\nJoga & Pranayama z Julią\nJoga Nidra & koncert z Marianą\nWspólna kawa\, ciasto i świętowanie 1 roczku!\n\nWstęp wolny – zapraszamy wszystkich\, którzy chcą z nami świętować ten dzień!
URL:https://gardenshala.pl/yoga/1-urodziny-garden-shali-wspolna-praktyka-jogi-koncert-i-kawa/
LOCATION:Garden Shala\, Czołgistów 13\, Łódź\, 94-217\, Poland
END:VEVENT
BEGIN:VEVENT
DTSTART;TZID=Europe/Helsinki:20250921T100000
DTEND;TZID=Europe/Helsinki:20250921T111500
DTSTAMP:20260421T122127
CREATED:20250827T082756Z
LAST-MODIFIED:20250827T082756Z
UID:10000728-1758448800-1758453300@gardenshala.pl
SUMMARY:Vinyasa Joga
DESCRIPTION:Energia i Pobudzenie \nPraktyka jogi mająca na celu rozbudzenie ciała i umysłu – czyli idealny sposób na rozpoczęcie niedzieli! \nProwadząca: Gosia
URL:https://gardenshala.pl/yoga/vinyasa-joga-33/
LOCATION:Garden Shala\, Czołgistów 13\, Łódź\, 94-217\, Poland
END:VEVENT
BEGIN:VEVENT
DTSTART;TZID=Europe/Warsaw:20250921T113000
DTEND;TZID=Europe/Warsaw:20250921T124500
DTSTAMP:20260421T122127
CREATED:20250827T082812Z
LAST-MODIFIED:20250827T082812Z
UID:10000729-1758454200-1758458700@gardenshala.pl
SUMMARY:Łagodna Vinyasa & Joga Nidra
DESCRIPTION:Łagodny\, płynny ruch połączony z oddechem. \nPraktyka zakończona głęboką relaksacją jogi nidry. \nProwadząca: Gosia Szczepańska
URL:https://gardenshala.pl/yoga/lagodna-vinyasa-joga-nidra-30/
LOCATION:Garden Shala\, Czołgistów 13\, Łódź\, 94-217\, Poland
END:VEVENT
END:VCALENDAR