BEGIN:VCALENDAR
VERSION:2.0
PRODID:-//GARDEN SHALA - ECPv6.7.1//NONSGML v1.0//EN
CALSCALE:GREGORIAN
METHOD:PUBLISH
X-WR-CALNAME:GARDEN SHALA
X-ORIGINAL-URL:https://gardenshala.pl
X-WR-CALDESC:Events for GARDEN SHALA
REFRESH-INTERVAL;VALUE=DURATION:PT1H
X-Robots-Tag:noindex
X-PUBLISHED-TTL:PT1H
BEGIN:VTIMEZONE
TZID:Europe/Warsaw
BEGIN:DAYLIGHT
TZOFFSETFROM:+0100
TZOFFSETTO:+0200
TZNAME:CEST
DTSTART:20250330T010000
END:DAYLIGHT
BEGIN:STANDARD
TZOFFSETFROM:+0200
TZOFFSETTO:+0100
TZNAME:CET
DTSTART:20251026T010000
END:STANDARD
TZID:Europe/Helsinki
BEGIN:DAYLIGHT
TZOFFSETFROM:+0200
TZOFFSETTO:+0300
TZNAME:EEST
DTSTART:20250330T010000
END:DAYLIGHT
BEGIN:STANDARD
TZOFFSETFROM:+0300
TZOFFSETTO:+0200
TZNAME:EET
DTSTART:20251026T010000
END:STANDARD
END:VTIMEZONE
BEGIN:VEVENT
DTSTART;TZID=Europe/Warsaw:20250919T173000
DTEND;TZID=Europe/Warsaw:20250919T184500
DTSTAMP:20260421T152523
CREATED:20250827T082514Z
LAST-MODIFIED:20250827T082514Z
UID:10000723-1758303000-1758307500@gardenshala.pl
SUMMARY:Movement & Prana
DESCRIPTION:Trening oddechowy połączony z ruchem\nProwadząca: Ola
URL:https://gardenshala.pl/yoga/movement-prana-28/
LOCATION:Garden Shala\, Czołgistów 13\, Łódź\, 94-217\, Poland
END:VEVENT
BEGIN:VEVENT
DTSTART;TZID=Europe/Helsinki:20250919T185000
DTEND;TZID=Europe/Helsinki:20250919T202000
DTSTAMP:20260421T152523
CREATED:20250827T082530Z
LAST-MODIFIED:20250827T082530Z
UID:10000724-1758307800-1758313200@gardenshala.pl
SUMMARY:Ashtanga - wstęp do II serii
DESCRIPTION:Wprowadzenie do II serii Ashtanga Jogi \nProwadząca: Julia
URL:https://gardenshala.pl/yoga/ashtanga-wstep-do-ii-serii-30/
LOCATION:Garden Shala\, Czołgistów 13\, Łódź\, 94-217\, Poland
END:VEVENT
BEGIN:VEVENT
DTSTART;TZID=Europe/Warsaw:20250920T093000
DTEND;TZID=Europe/Warsaw:20250920T133000
DTSTAMP:20260421T152523
CREATED:20250827T083855Z
LAST-MODIFIED:20250827T083855Z
UID:10000734-1758360600-1758375000@gardenshala.pl
SUMMARY:1 Urodziny Garden Shali - wspólna praktyka jogi\, koncert i kawa
DESCRIPTION:Zapraszamy na wspólne świętowanie 1-szych urodzin Garden Shali! \n\nJoga & Pranayama z Julią\nJoga Nidra & koncert z Marianą\nWspólna kawa\, ciasto i świętowanie 1 roczku!\n\nWstęp wolny – zapraszamy wszystkich\, którzy chcą z nami świętować ten dzień!
URL:https://gardenshala.pl/yoga/1-urodziny-garden-shali-wspolna-praktyka-jogi-koncert-i-kawa/
LOCATION:Garden Shala\, Czołgistów 13\, Łódź\, 94-217\, Poland
END:VEVENT
BEGIN:VEVENT
DTSTART;TZID=Europe/Helsinki:20250921T100000
DTEND;TZID=Europe/Helsinki:20250921T111500
DTSTAMP:20260421T152523
CREATED:20250827T082756Z
LAST-MODIFIED:20250827T082756Z
UID:10000728-1758448800-1758453300@gardenshala.pl
SUMMARY:Vinyasa Joga
DESCRIPTION:Energia i Pobudzenie \nPraktyka jogi mająca na celu rozbudzenie ciała i umysłu – czyli idealny sposób na rozpoczęcie niedzieli! \nProwadząca: Gosia
URL:https://gardenshala.pl/yoga/vinyasa-joga-33/
LOCATION:Garden Shala\, Czołgistów 13\, Łódź\, 94-217\, Poland
END:VEVENT
BEGIN:VEVENT
DTSTART;TZID=Europe/Warsaw:20250921T113000
DTEND;TZID=Europe/Warsaw:20250921T124500
DTSTAMP:20260421T152523
CREATED:20250827T082812Z
LAST-MODIFIED:20250827T082812Z
UID:10000729-1758454200-1758458700@gardenshala.pl
SUMMARY:Łagodna Vinyasa & Joga Nidra
DESCRIPTION:Łagodny\, płynny ruch połączony z oddechem. \nPraktyka zakończona głęboką relaksacją jogi nidry. \nProwadząca: Gosia Szczepańska
URL:https://gardenshala.pl/yoga/lagodna-vinyasa-joga-nidra-30/
LOCATION:Garden Shala\, Czołgistów 13\, Łódź\, 94-217\, Poland
END:VEVENT
BEGIN:VEVENT
DTSTART;TZID=Europe/Warsaw:20250922T173000
DTEND;TZID=Europe/Warsaw:20250922T184500
DTSTAMP:20260421T152523
CREATED:20250827T081739Z
LAST-MODIFIED:20250827T081739Z
UID:10000707-1758562200-1758566700@gardenshala.pl
SUMMARY:Joga dla początkujących
DESCRIPTION:Solidna podstawa do praktyki jogi\, prawidłowego wykonywania asan oraz pracy z oddechem. \nProwadząca: Ola Wietecha-Drobik
URL:https://gardenshala.pl/yoga/joga-dla-poczatkujacych-53/
LOCATION:Garden Shala\, Czołgistów 13\, Łódź\, 94-217\, Poland
END:VEVENT
BEGIN:VEVENT
DTSTART;TZID=Europe/Helsinki:20250922T185000
DTEND;TZID=Europe/Helsinki:20250922T202000
DTSTAMP:20260421T152523
CREATED:20250827T081803Z
LAST-MODIFIED:20250827T081803Z
UID:10000708-1758567000-1758572400@gardenshala.pl
SUMMARY:Hatha Joga
DESCRIPTION:Statyczna praktyka pozycji jogi z elementami technik oddechowych i medytacji. \nProwadząca: Ola
URL:https://gardenshala.pl/yoga/hatha-joga-57/
LOCATION:Garden Shala\, Czołgistów 13\, Łódź\, 94-217\, Poland
END:VEVENT
BEGIN:VEVENT
DTSTART;TZID=Europe/Warsaw:20250922T203000
DTEND;TZID=Europe/Warsaw:20250922T214500
DTSTAMP:20260421T152523
CREATED:20250827T081833Z
LAST-MODIFIED:20250827T081833Z
UID:10000709-1758573000-1758577500@gardenshala.pl
SUMMARY:Yin Joga
DESCRIPTION:Joga podczas której pozostajemy dłużej w pozycji\, praca na powięzi i tkankach głębokich. \nDla poszukujących zatrzymania i odpuszczenia. W pozycjach pozostajemy 3-7 minut. \nProwadząca: Patrycja
URL:https://gardenshala.pl/yoga/yin-joga-4/
LOCATION:Garden Shala\, Czołgistów 13\, Łódź\, 94-217\, Poland
END:VEVENT
BEGIN:VEVENT
DTSTART;TZID=Europe/Warsaw:20250923T173000
DTEND;TZID=Europe/Warsaw:20250923T184500
DTSTAMP:20260421T152523
CREATED:20250703T175925Z
LAST-MODIFIED:20250703T175925Z
UID:10000615-1758648600-1758653100@gardenshala.pl
SUMMARY:Ashtanga Intro - kurs Ashtanga Vinyasa Jogi od podstaw
DESCRIPTION:Kurs wprowadzający do praktyki Ashtanga Vinyasa Jogi \nZ Julią Zabost \nEarly Bird: 350 zł (do 15.08) \n450 zł (po 15.08)
URL:https://gardenshala.pl/yoga/ashtanga-intro-kurs-ashtanga-vinyasa-jogi-od-podstaw-4/
LOCATION:Garden Shala\, Czołgistów 13\, Łódź\, 94-217\, Poland
END:VEVENT
BEGIN:VEVENT
DTSTART;TZID=Europe/Helsinki:20250923T185000
DTEND;TZID=Europe/Helsinki:20250923T202000
DTSTAMP:20260421T152523
CREATED:20250827T082042Z
LAST-MODIFIED:20250827T082042Z
UID:10000713-1758653400-1758658800@gardenshala.pl
SUMMARY:Ashtanga Mysore
DESCRIPTION:Mysore – praktyka własna Ashtanga Jogi pod przewodnictwem nauczyciela. \nProwadząca: Julia
URL:https://gardenshala.pl/yoga/ashtanga-mysore-61/
LOCATION:Garden Shala\, Czołgistów 13\, Łódź\, 94-217\, Poland
END:VEVENT
BEGIN:VEVENT
DTSTART;TZID=Europe/Warsaw:20250924T173000
DTEND;TZID=Europe/Warsaw:20250924T184500
DTSTAMP:20260421T152523
CREATED:20250827T082237Z
LAST-MODIFIED:20250827T082237Z
UID:10000717-1758735000-1758739500@gardenshala.pl
SUMMARY:Joga dla początkujących
DESCRIPTION:Łagodne i płynne wejście w praktykę jogi z Gosią.
URL:https://gardenshala.pl/yoga/joga-dla-poczatkujacych-56/
LOCATION:Garden Shala\, Czołgistów 13\, Łódź\, 94-217\, Poland
END:VEVENT
BEGIN:VEVENT
DTSTART;TZID=Europe/Warsaw:20250924T190000
DTEND;TZID=Europe/Warsaw:20250924T203000
DTSTAMP:20260421T152523
CREATED:20250827T082253Z
LAST-MODIFIED:20250827T082253Z
UID:10000718-1758740400-1758745800@gardenshala.pl
SUMMARY:Ashtanga Asana Lab
DESCRIPTION:Praktyka poświęcona poszczególnym asanom z I i II serii Ashtangi. \nOmówienie techniki\, wariantów i sposobów wprowadzenia ciała w pozycje. \nPodczas zajęć przewidziana jest także praca z oddechem (Pranayama) i praktyki uważności (medytacja). \nProwadząca: Julia
URL:https://gardenshala.pl/yoga/ashtanga-asana-lab-16/
LOCATION:Garden Shala\, Czołgistów 13\, Łódź\, 94-217\, Poland
END:VEVENT
BEGIN:VEVENT
DTSTART;TZID=Europe/Helsinki:20250925T173000
DTEND;TZID=Europe/Helsinki:20250925T184500
DTSTAMP:20260421T152523
CREATED:20250827T082421Z
LAST-MODIFIED:20250827T082421Z
UID:10000721-1758821400-1758825900@gardenshala.pl
SUMMARY:Hatha Joga
DESCRIPTION:Statyczna praktyka pozycji jogi z elementami technik oddechowych i medytacji. \nJoga ogólna. \nProwadząca: Weronika
URL:https://gardenshala.pl/yoga/hatha-joga-60/
LOCATION:Garden Shala\, Czołgistów 13\, Łódź\, 94-217\, Poland
END:VEVENT
BEGIN:VEVENT
DTSTART;TZID=Europe/Helsinki:20250925T190000
DTEND;TZID=Europe/Helsinki:20250925T203000
DTSTAMP:20260421T152523
CREATED:20250827T082444Z
LAST-MODIFIED:20250827T082444Z
UID:10000722-1758826800-1758832200@gardenshala.pl
SUMMARY:Ashtanga dla początkujących
DESCRIPTION:Wprowadzenie do I serii Ashtanga Jogi \nProwadząca: Mariana
URL:https://gardenshala.pl/yoga/ashtanga-dla-poczatkujacych-59/
LOCATION:Garden Shala\, Czołgistów 13\, Łódź\, 94-217\, Poland
END:VEVENT
BEGIN:VEVENT
DTSTART;TZID=Europe/Helsinki:20250927T090000
DTEND;TZID=Europe/Helsinki:20250927T104500
DTSTAMP:20260421T152523
CREATED:20250827T082712Z
LAST-MODIFIED:20250827T082712Z
UID:10000727-1758963600-1758969900@gardenshala.pl
SUMMARY:Ashtanga Mysore
DESCRIPTION:Mysore – praktyka własna pod przewodnictwem nauczyciela \nProwadząca: Mariana
URL:https://gardenshala.pl/yoga/ashtanga-mysore-63/
LOCATION:Garden Shala\, Czołgistów 13\, Łódź\, 94-217\, Poland
END:VEVENT
BEGIN:VEVENT
DTSTART;TZID=Europe/Warsaw:20250927T110000
DTEND;TZID=Europe/Warsaw:20250927T120000
DTSTAMP:20260421T152523
CREATED:20250827T090135Z
LAST-MODIFIED:20250827T105842Z
UID:10000735-1758970800-1758974400@gardenshala.pl
SUMMARY:Joga z bajkoterapią - Garden Shala dla dzieci
DESCRIPTION:Zapraszamy na wyjątkowe wydarzenie skierowane do najmłodszych\, czyli joga z bajkoterapią. \nZajęcia dla dzieci\, wiek 5-10 lat \nProwadząca: Patrycja Paradzińska \nWstęp: 50 zł
URL:https://gardenshala.pl/yoga/joga-z-bajkoterapia-garden-shala-dla-dzieci/
LOCATION:Garden Shala\, Czołgistów 13\, Łódź\, 94-217\, Poland
END:VEVENT
BEGIN:VEVENT
DTSTART;TZID=Europe/Helsinki:20250928T100000
DTEND;TZID=Europe/Helsinki:20250928T111500
DTSTAMP:20260421T152523
CREATED:20250827T082850Z
LAST-MODIFIED:20250909T074655Z
UID:10000730-1759053600-1759058100@gardenshala.pl
SUMMARY:Vinyasa Joga
DESCRIPTION:Energia i Pobudzenie \nPraktyka jogi mająca na celu rozbudzenie ciała i umysłu – czyli idealny sposób na rozpoczęcie niedzieli! \nProwadząca: Gosia
URL:https://gardenshala.pl/yoga/vinyasa-joga-34/
LOCATION:Garden Shala\, Czołgistów 13\, Łódź\, 94-217\, Poland
END:VEVENT
BEGIN:VEVENT
DTSTART;TZID=Europe/Warsaw:20250928T113000
DTEND;TZID=Europe/Warsaw:20250928T124500
DTSTAMP:20260421T152523
CREATED:20250827T082907Z
LAST-MODIFIED:20250827T082907Z
UID:10000731-1759059000-1759063500@gardenshala.pl
SUMMARY:Łagodna Vinyasa & Joga Nidra
DESCRIPTION:Łagodny\, płynny ruch połączony z oddechem. \nPraktyka zakończona głęboką relaksacją jogi nidry. \nProwadząca: Gosia Szczepańska
URL:https://gardenshala.pl/yoga/lagodna-vinyasa-joga-nidra-31/
LOCATION:Garden Shala\, Czołgistów 13\, Łódź\, 94-217\, Poland
END:VEVENT
BEGIN:VEVENT
DTSTART;TZID=Europe/Warsaw:20250929T173000
DTEND;TZID=Europe/Warsaw:20250929T184500
DTSTAMP:20260421T152523
CREATED:20250827T081909Z
LAST-MODIFIED:20250827T081909Z
UID:10000710-1759167000-1759171500@gardenshala.pl
SUMMARY:Joga dla początkujących
DESCRIPTION:Solidna podstawa do praktyki jogi\, prawidłowego wykonywania asan oraz pracy z oddechem. \nProwadząca: Ola Wietecha-Drobik
URL:https://gardenshala.pl/yoga/joga-dla-poczatkujacych-54/
LOCATION:Garden Shala\, Czołgistów 13\, Łódź\, 94-217\, Poland
END:VEVENT
BEGIN:VEVENT
DTSTART;TZID=Europe/Helsinki:20250929T185000
DTEND;TZID=Europe/Helsinki:20250929T202000
DTSTAMP:20260421T152523
CREATED:20250827T081943Z
LAST-MODIFIED:20250827T081943Z
UID:10000711-1759171800-1759177200@gardenshala.pl
SUMMARY:Hatha Joga
DESCRIPTION:Statyczna praktyka pozycji jogi z elementami technik oddechowych i medytacji. \nProwadząca: Ola
URL:https://gardenshala.pl/yoga/hatha-joga-58/
LOCATION:Garden Shala\, Czołgistów 13\, Łódź\, 94-217\, Poland
END:VEVENT
BEGIN:VEVENT
DTSTART;TZID=Europe/Warsaw:20250929T203000
DTEND;TZID=Europe/Warsaw:20250929T214500
DTSTAMP:20260421T152523
CREATED:20250827T082014Z
LAST-MODIFIED:20250827T082014Z
UID:10000712-1759177800-1759182300@gardenshala.pl
SUMMARY:Yin Joga
DESCRIPTION:Joga podczas której pozostajemy dłużej w pozycji\, praca na powięzi i tkankach głębokich. \nDla poszukujących zatrzymania i odpuszczenia. W pozycjach pozostajemy 3-7 minut. \nProwadząca: Patrycja
URL:https://gardenshala.pl/yoga/yin-joga-5/
LOCATION:Garden Shala\, Czołgistów 13\, Łódź\, 94-217\, Poland
END:VEVENT
BEGIN:VEVENT
DTSTART;TZID=Europe/Warsaw:20250930T173000
DTEND;TZID=Europe/Warsaw:20250930T184500
DTSTAMP:20260421T152523
CREATED:20250703T175954Z
LAST-MODIFIED:20250703T175954Z
UID:10000616-1759253400-1759257900@gardenshala.pl
SUMMARY:Ashtanga Intro - kurs Ashtanga Vinyasa Jogi od podstaw
DESCRIPTION:Kurs wprowadzający do praktyki Ashtanga Vinyasa Jogi \nZ Julią Zabost \nEarly Bird: 350 zł (do 15.08) \n450 zł (po 15.08)
URL:https://gardenshala.pl/yoga/ashtanga-intro-kurs-ashtanga-vinyasa-jogi-od-podstaw-5/
LOCATION:Garden Shala\, Czołgistów 13\, Łódź\, 94-217\, Poland
END:VEVENT
BEGIN:VEVENT
DTSTART;TZID=Europe/Helsinki:20250930T185000
DTEND;TZID=Europe/Helsinki:20250930T202000
DTSTAMP:20260421T152523
CREATED:20250827T082121Z
LAST-MODIFIED:20250827T082121Z
UID:10000714-1759258200-1759263600@gardenshala.pl
SUMMARY:Ashtanga Mysore
DESCRIPTION:Mysore – praktyka własna Ashtanga Jogi pod przewodnictwem nauczyciela. \nProwadząca: Julia
URL:https://gardenshala.pl/yoga/ashtanga-mysore-62/
LOCATION:Garden Shala\, Czołgistów 13\, Łódź\, 94-217\, Poland
END:VEVENT
BEGIN:VEVENT
DTSTART;TZID=Europe/Warsaw:20251001T173000
DTEND;TZID=Europe/Warsaw:20251001T184500
DTSTAMP:20260421T152523
CREATED:20250827T083003Z
LAST-MODIFIED:20250827T083003Z
UID:10000732-1759339800-1759344300@gardenshala.pl
SUMMARY:Joga dla początkujących
DESCRIPTION:Łagodne i płynne wejście w praktykę jogi z Gosią.
URL:https://gardenshala.pl/yoga/joga-dla-poczatkujacych-57/
LOCATION:Garden Shala\, Czołgistów 13\, Łódź\, 94-217\, Poland
END:VEVENT
BEGIN:VEVENT
DTSTART;TZID=Europe/Warsaw:20251001T190000
DTEND;TZID=Europe/Warsaw:20251001T201500
DTSTAMP:20260421T152523
CREATED:20250930T140223Z
LAST-MODIFIED:20251001T120918Z
UID:10000805-1759345200-1759349700@gardenshala.pl
SUMMARY:Ashtanga Asana Lab
DESCRIPTION:Praktyka poświęcona poszczególnym asanom z I i II serii Ashtangi. \nOmówienie techniki\, wariantów i sposobów wprowadzenia ciała w pozycje. \nPodczas zajęć przewidziana jest także praca z oddechem (Pranayama) i praktyki uważności (medytacja). \nProwadząca: Julia
URL:https://gardenshala.pl/yoga/ashtanga-asana-lab-17/
LOCATION:Garden Shala\, Czołgistów 13\, Łódź\, 94-217\, Poland
END:VEVENT
BEGIN:VEVENT
DTSTART;TZID=Europe/Helsinki:20251002T173000
DTEND;TZID=Europe/Helsinki:20251002T184500
DTSTAMP:20260421T152523
CREATED:20250827T110245Z
LAST-MODIFIED:20250827T110245Z
UID:10000744-1759426200-1759430700@gardenshala.pl
SUMMARY:Hatha Joga
DESCRIPTION:Statyczna praktyka pozycji jogi z elementami technik oddechowych i medytacji. \nJoga ogólna. \nProwadząca: Weronika
URL:https://gardenshala.pl/yoga/hatha-joga-61/
LOCATION:Garden Shala\, Czołgistów 13\, Łódź\, 94-217\, Poland
END:VEVENT
BEGIN:VEVENT
DTSTART;TZID=Europe/Helsinki:20251002T190000
DTEND;TZID=Europe/Helsinki:20251002T203000
DTSTAMP:20260421T152523
CREATED:20250929T180209Z
LAST-MODIFIED:20250929T180209Z
UID:10000793-1759431600-1759437000@gardenshala.pl
SUMMARY:Ashtanga dla początkujących
DESCRIPTION:Wprowadzenie do I serii Ashtanga Jogi \nProwadząca: Mariana
URL:https://gardenshala.pl/yoga/ashtanga-dla-poczatkujacych-64/
LOCATION:Garden Shala\, Czołgistów 13\, Łódź\, 94-217\, Poland
END:VEVENT
BEGIN:VEVENT
DTSTART;TZID=Europe/Warsaw:20251003T173000
DTEND;TZID=Europe/Warsaw:20251003T184500
DTSTAMP:20260421T152523
CREATED:20250827T110329Z
LAST-MODIFIED:20250827T110329Z
UID:10000746-1759512600-1759517100@gardenshala.pl
SUMMARY:Movement & Prana
DESCRIPTION:Trening oddechowy połączony z ruchem\nProwadząca: Ola
URL:https://gardenshala.pl/yoga/movement-prana-30/
LOCATION:Garden Shala\, Czołgistów 13\, Łódź\, 94-217\, Poland
END:VEVENT
BEGIN:VEVENT
DTSTART;TZID=Europe/Helsinki:20251003T185000
DTEND;TZID=Europe/Helsinki:20251003T202000
DTSTAMP:20260421T152523
CREATED:20250827T110344Z
LAST-MODIFIED:20250827T110344Z
UID:10000747-1759517400-1759522800@gardenshala.pl
SUMMARY:Ashtanga - wstęp do II serii
DESCRIPTION:Wprowadzenie do II serii Ashtanga Jogi \nProwadząca: Julia
URL:https://gardenshala.pl/yoga/ashtanga-wstep-do-ii-serii-32/
LOCATION:Garden Shala\, Czołgistów 13\, Łódź\, 94-217\, Poland
END:VEVENT
BEGIN:VEVENT
DTSTART;TZID=Europe/Helsinki:20251004T090000
DTEND;TZID=Europe/Helsinki:20251004T104500
DTSTAMP:20260421T152523
CREATED:20250827T110418Z
LAST-MODIFIED:20251001T120544Z
UID:10000748-1759568400-1759574700@gardenshala.pl
SUMMARY:Ashtanga Mysore
DESCRIPTION:Mysore – praktyka własna pod przewodnictwem nauczyciela \nProwadząca: Julia
URL:https://gardenshala.pl/yoga/ashtanga-mysore-64/
LOCATION:Garden Shala\, Czołgistów 13\, Łódź\, 94-217\, Poland
END:VEVENT
END:VCALENDAR