BEGIN:VCALENDAR
VERSION:2.0
PRODID:-//GARDEN SHALA - ECPv6.7.1//NONSGML v1.0//EN
CALSCALE:GREGORIAN
METHOD:PUBLISH
X-WR-CALNAME:GARDEN SHALA
X-ORIGINAL-URL:https://gardenshala.pl
X-WR-CALDESC:Events for GARDEN SHALA
REFRESH-INTERVAL;VALUE=DURATION:PT1H
X-Robots-Tag:noindex
X-PUBLISHED-TTL:PT1H
BEGIN:VTIMEZONE
TZID:Europe/Helsinki
BEGIN:DAYLIGHT
TZOFFSETFROM:+0200
TZOFFSETTO:+0300
TZNAME:EEST
DTSTART:20250330T010000
END:DAYLIGHT
BEGIN:STANDARD
TZOFFSETFROM:+0300
TZOFFSETTO:+0200
TZNAME:EET
DTSTART:20251026T010000
END:STANDARD
BEGIN:DAYLIGHT
TZOFFSETFROM:+0200
TZOFFSETTO:+0300
TZNAME:EEST
DTSTART:20260329T010000
END:DAYLIGHT
BEGIN:STANDARD
TZOFFSETFROM:+0300
TZOFFSETTO:+0200
TZNAME:EET
DTSTART:20261025T010000
END:STANDARD
TZID:Europe/Warsaw
BEGIN:DAYLIGHT
TZOFFSETFROM:+0100
TZOFFSETTO:+0200
TZNAME:CEST
DTSTART:20250330T010000
END:DAYLIGHT
BEGIN:STANDARD
TZOFFSETFROM:+0200
TZOFFSETTO:+0100
TZNAME:CET
DTSTART:20251026T010000
END:STANDARD
BEGIN:DAYLIGHT
TZOFFSETFROM:+0100
TZOFFSETTO:+0200
TZNAME:CEST
DTSTART:20260329T010000
END:DAYLIGHT
BEGIN:STANDARD
TZOFFSETFROM:+0200
TZOFFSETTO:+0100
TZNAME:CET
DTSTART:20261025T010000
END:STANDARD
END:VTIMEZONE
BEGIN:VEVENT
DTSTART;TZID=Europe/Helsinki:20251228T100000
DTEND;TZID=Europe/Helsinki:20251228T111500
DTSTAMP:20260421T034108
CREATED:20251128T125511Z
LAST-MODIFIED:20251128T125511Z
UID:10000930-1766916000-1766920500@gardenshala.pl
SUMMARY:Vinyasa Joga
DESCRIPTION:Energia i Pobudzenie \nPraktyka jogi mająca na celu rozbudzenie ciała i umysłu – czyli idealny sposób na rozpoczęcie niedzieli! \nProwadząca: Gosia
URL:https://gardenshala.pl/yoga/vinyasa-joga-46/
LOCATION:Garden Shala\, Czołgistów 13\, Łódź\, 94-217\, Poland
END:VEVENT
BEGIN:VEVENT
DTSTART;TZID=Europe/Warsaw:20251228T113000
DTEND;TZID=Europe/Warsaw:20251228T124500
DTSTAMP:20260421T034108
CREATED:20251201T170734Z
LAST-MODIFIED:20251201T170734Z
UID:10000936-1766921400-1766925900@gardenshala.pl
SUMMARY:Łagodna Vinyasa & Joga Nidra
DESCRIPTION:Łagodny\, płynny ruch połączony z oddechem. \nPraktyka zakończona głęboką relaksacją jogi nidry. \nProwadząca: Gosia Szczepańska
URL:https://gardenshala.pl/yoga/lagodna-vinyasa-joga-nidra-43/
LOCATION:Garden Shala\, Czołgistów 13\, Łódź\, 94-217\, Poland
END:VEVENT
BEGIN:VEVENT
DTSTART;TZID=Europe/Warsaw:20251229T173000
DTEND;TZID=Europe/Warsaw:20251229T184500
DTSTAMP:20260421T034108
CREATED:20251128T125146Z
LAST-MODIFIED:20251128T125146Z
UID:10000923-1767029400-1767033900@gardenshala.pl
SUMMARY:Joga dla początkujących
DESCRIPTION:Solidna podstawa do praktyki jogi\, prawidłowego wykonywania asan oraz pracy z oddechem. \nProwadząca: Weronika
URL:https://gardenshala.pl/yoga/joga-dla-poczatkujacych-82/
LOCATION:Garden Shala\, Czołgistów 13\, Łódź\, 94-217\, Poland
END:VEVENT
BEGIN:VEVENT
DTSTART;TZID=Europe/Helsinki:20251229T185000
DTEND;TZID=Europe/Helsinki:20251229T202000
DTSTAMP:20260421T034108
CREATED:20251127T180335Z
LAST-MODIFIED:20251128T125033Z
UID:10000897-1767034200-1767039600@gardenshala.pl
SUMMARY:Hatha Joga
DESCRIPTION:Statyczna praktyka pozycji jogi z elementami technik oddechowych i medytacji. \nProwadząca: Ola
URL:https://gardenshala.pl/yoga/hatha-joga-83/
LOCATION:Garden Shala\, Czołgistów 13\, Łódź\, 94-217\, Poland
END:VEVENT
BEGIN:VEVENT
DTSTART;TZID=Europe/Helsinki:20251230T173000
DTEND;TZID=Europe/Helsinki:20251230T183000
DTSTAMP:20260421T034108
CREATED:20251128T125307Z
LAST-MODIFIED:20251128T125307Z
UID:10000926-1767115800-1767119400@gardenshala.pl
SUMMARY:Ashtanga dla początkujących
DESCRIPTION:Wprowadzenie do I serii Ashtanga Jogi \nProwadząca: Julia
URL:https://gardenshala.pl/yoga/ashtanga-dla-poczatkujacych-83/
LOCATION:Garden Shala\, Czołgistów 13\, Łódź\, 94-217\, Poland
END:VEVENT
BEGIN:VEVENT
DTSTART;TZID=Europe/Helsinki:20251230T184000
DTEND;TZID=Europe/Helsinki:20251230T201000
DTSTAMP:20260421T034108
CREATED:20251128T125323Z
LAST-MODIFIED:20251128T125323Z
UID:10000927-1767120000-1767125400@gardenshala.pl
SUMMARY:Ashtanga Mysore
DESCRIPTION:Mysore – praktyka własna Ashtanga Jogi pod przewodnictwem nauczyciela. \nProwadząca: Julia
URL:https://gardenshala.pl/yoga/ashtanga-mysore-87/
LOCATION:Garden Shala\, Czołgistów 13\, Łódź\, 94-217\, Poland
END:VEVENT
BEGIN:VEVENT
DTSTART;TZID=Europe/Helsinki:20260102T185000
DTEND;TZID=Europe/Helsinki:20260102T202000
DTSTAMP:20260421T034108
CREATED:20251227T134802Z
LAST-MODIFIED:20251227T134802Z
UID:10000946-1767379800-1767385200@gardenshala.pl
SUMMARY:Ashtanga - wstęp do II serii
DESCRIPTION:Wprowadzenie do II serii Ashtanga Jogi \nProwadząca: Julia
URL:https://gardenshala.pl/yoga/ashtanga-wstep-do-ii-serii-44/
LOCATION:Garden Shala\, Czołgistów 13\, Łódź\, 94-217\, Poland
END:VEVENT
BEGIN:VEVENT
DTSTART;TZID=Europe/Helsinki:20260103T090000
DTEND;TZID=Europe/Helsinki:20260103T104500
DTSTAMP:20260421T034108
CREATED:20251227T134707Z
LAST-MODIFIED:20251227T134707Z
UID:10000944-1767430800-1767437100@gardenshala.pl
SUMMARY:Ashtanga Mysore
DESCRIPTION:Mysore – praktyka własna pod przewodnictwem nauczyciela \nProwadząca: Julia
URL:https://gardenshala.pl/yoga/ashtanga-mysore-89/
LOCATION:Garden Shala\, Czołgistów 13\, Łódź\, 94-217\, Poland
END:VEVENT
BEGIN:VEVENT
DTSTART;TZID=Europe/Helsinki:20260104T100000
DTEND;TZID=Europe/Helsinki:20260104T111500
DTSTAMP:20260421T034108
CREATED:20251227T134841Z
LAST-MODIFIED:20251227T134841Z
UID:10000947-1767520800-1767525300@gardenshala.pl
SUMMARY:Vinyasa Joga
DESCRIPTION:Energia i Pobudzenie \nPraktyka jogi mająca na celu rozbudzenie ciała i umysłu – czyli idealny sposób na rozpoczęcie niedzieli! \nProwadząca: Gosia
URL:https://gardenshala.pl/yoga/vinyasa-joga-47/
LOCATION:Garden Shala\, Czołgistów 13\, Łódź\, 94-217\, Poland
END:VEVENT
BEGIN:VEVENT
DTSTART;TZID=Europe/Warsaw:20260104T113000
DTEND;TZID=Europe/Warsaw:20260104T124500
DTSTAMP:20260421T034108
CREATED:20251227T134901Z
LAST-MODIFIED:20251227T134901Z
UID:10000948-1767526200-1767530700@gardenshala.pl
SUMMARY:Łagodna Vinyasa & Joga Nidra
DESCRIPTION:Łagodny\, płynny ruch połączony z oddechem. \nPraktyka zakończona głęboką relaksacją jogi nidry. \nProwadząca: Gosia Szczepańska
URL:https://gardenshala.pl/yoga/lagodna-vinyasa-joga-nidra-44/
LOCATION:Garden Shala\, Czołgistów 13\, Łódź\, 94-217\, Poland
END:VEVENT
BEGIN:VEVENT
DTSTART;TZID=Europe/Warsaw:20260105T173000
DTEND;TZID=Europe/Warsaw:20260105T184500
DTSTAMP:20260421T034108
CREATED:20251227T135005Z
LAST-MODIFIED:20251227T135005Z
UID:10000950-1767634200-1767638700@gardenshala.pl
SUMMARY:Joga dla początkujących
DESCRIPTION:Solidna podstawa do praktyki jogi\, prawidłowego wykonywania asan oraz pracy z oddechem. \nProwadząca: Weronika
URL:https://gardenshala.pl/yoga/joga-dla-poczatkujacych-84/
LOCATION:Garden Shala\, Czołgistów 13\, Łódź\, 94-217\, Poland
END:VEVENT
BEGIN:VEVENT
DTSTART;TZID=Europe/Helsinki:20260105T185000
DTEND;TZID=Europe/Helsinki:20260105T202000
DTSTAMP:20260421T034108
CREATED:20251227T135024Z
LAST-MODIFIED:20251227T135024Z
UID:10000951-1767639000-1767644400@gardenshala.pl
SUMMARY:Hatha Joga
DESCRIPTION:Statyczna praktyka pozycji jogi z elementami technik oddechowych i medytacji. \nProwadząca: Ola
URL:https://gardenshala.pl/yoga/hatha-joga-89/
LOCATION:Garden Shala\, Czołgistów 13\, Łódź\, 94-217\, Poland
END:VEVENT
BEGIN:VEVENT
DTSTART;TZID=Europe/Warsaw:20260106T100000
DTEND;TZID=Europe/Warsaw:20260106T123000
DTSTAMP:20260421T034108
CREATED:20251231T092954Z
LAST-MODIFIED:20251231T092954Z
UID:10001007-1767693600-1767702600@gardenshala.pl
SUMMARY:108 Powitań Słońca - świadome przejście w Nowe
DESCRIPTION:Praktyka 108 Powitań Słońca to medytacja w ruchu\, przeznaczona dla każdego. \nJest to idealny sposób na skontaktowanie się ze sobą\, swoim ciałem i swoimi potrzebami\, tak aby świadomie wkroczyć w 2026. \nProwadząca: Małgosia Szczepańska
URL:https://gardenshala.pl/yoga/108-powitan-slonca-swiadome-przejscie-w-nowe/
LOCATION:Garden Shala\, Czołgistów 13\, Łódź\, 94-217\, Poland
END:VEVENT
BEGIN:VEVENT
DTSTART;TZID=Europe/Helsinki:20260106T184000
DTEND;TZID=Europe/Helsinki:20260106T201000
DTSTAMP:20260421T034108
CREATED:20251231T093011Z
LAST-MODIFIED:20251231T093011Z
UID:10001006-1767724800-1767730200@gardenshala.pl
SUMMARY:Ashtanga Mysore
DESCRIPTION:Mysore – praktyka własna Ashtanga Jogi pod przewodnictwem nauczyciela. \nProwadząca: Julia
URL:https://gardenshala.pl/yoga/ashtanga-mysore-98/
LOCATION:Garden Shala\, Czołgistów 13\, Łódź\, 94-217\, Poland
END:VEVENT
BEGIN:VEVENT
DTSTART;TZID=Europe/Warsaw:20260107T173000
DTEND;TZID=Europe/Warsaw:20260107T183000
DTSTAMP:20260421T034108
CREATED:20251227T134352Z
LAST-MODIFIED:20251227T134352Z
UID:10000939-1767807000-1767810600@gardenshala.pl
SUMMARY:Joga dla początkujących
DESCRIPTION:Łagodne i płynne wejście w praktykę jogi z Gosią.
URL:https://gardenshala.pl/yoga/joga-dla-poczatkujacych-83/
LOCATION:Garden Shala\, Czołgistów 13\, Łódź\, 94-217\, Poland
END:VEVENT
BEGIN:VEVENT
DTSTART;TZID=Europe/Warsaw:20260107T184500
DTEND;TZID=Europe/Warsaw:20260107T200000
DTSTAMP:20260421T034108
CREATED:20251227T134411Z
LAST-MODIFIED:20251227T134411Z
UID:10000940-1767811500-1767816000@gardenshala.pl
SUMMARY:Joga Ogólna
DESCRIPTION:Harmonijna praktyka jogi\, która wprowadzi więcej swobody i wzmocnienia do Twojego ciała. Wspiera budowanie uważności i wewnętrznej równowagi. \nProwadząca: Małgosia
URL:https://gardenshala.pl/yoga/joga-ogolna-4/
LOCATION:Garden Shala\, Czołgistów 13\, Łódź\, 94-217\, Poland
END:VEVENT
BEGIN:VEVENT
DTSTART;TZID=Europe/Warsaw:20260107T201500
DTEND;TZID=Europe/Warsaw:20260107T211500
DTSTAMP:20260421T034108
CREATED:20251227T134438Z
LAST-MODIFIED:20251227T134438Z
UID:10000941-1767816900-1767820500@gardenshala.pl
SUMMARY:Wieczorna Joga Nidra
DESCRIPTION:Joga nidra\, określana także jogą snu. \nPraktyka bezwysiłkowa\, prowadząca do głębokiej relaksacji. \nProwadząca: Gosia
URL:https://gardenshala.pl/yoga/wieczorna-joga-nidra-12/
LOCATION:Garden Shala\, Czołgistów 13\, Łódź\, 94-217\, Poland
END:VEVENT
BEGIN:VEVENT
DTSTART;TZID=Europe/Helsinki:20260108T173000
DTEND;TZID=Europe/Helsinki:20260108T184500
DTSTAMP:20260421T034108
CREATED:20251227T134532Z
LAST-MODIFIED:20251227T134532Z
UID:10000942-1767893400-1767897900@gardenshala.pl
SUMMARY:Hatha Joga
DESCRIPTION:Hatha Joga metodą Iyengara \nJoga ogólna. \nProwadząca: Tomek
URL:https://gardenshala.pl/yoga/hatha-joga-88/
LOCATION:Garden Shala\, Czołgistów 13\, Łódź\, 94-217\, Poland
END:VEVENT
BEGIN:VEVENT
DTSTART;TZID=Europe/Helsinki:20260108T190000
DTEND;TZID=Europe/Helsinki:20260108T201500
DTSTAMP:20260421T034108
CREATED:20251227T134559Z
LAST-MODIFIED:20251227T134559Z
UID:10000943-1767898800-1767903300@gardenshala.pl
SUMMARY:Ashtanga dla początkujących
DESCRIPTION:Wprowadzenie do I serii Ashtanga Jogi \nProwadząca: Agnieszka
URL:https://gardenshala.pl/yoga/ashtanga-dla-poczatkujacych-84/
LOCATION:Garden Shala\, Czołgistów 13\, Łódź\, 94-217\, Poland
END:VEVENT
BEGIN:VEVENT
DTSTART;TZID=Europe/Helsinki:20260109T185000
DTEND;TZID=Europe/Helsinki:20260109T202000
DTSTAMP:20260421T034108
CREATED:20251227T141157Z
LAST-MODIFIED:20251227T141157Z
UID:10000987-1767984600-1767990000@gardenshala.pl
SUMMARY:Ashtanga - wstęp do II serii
DESCRIPTION:Wprowadzenie do II serii Ashtanga Jogi \nProwadząca: Julia
URL:https://gardenshala.pl/yoga/ashtanga-wstep-do-ii-serii-46/
LOCATION:Garden Shala\, Czołgistów 13\, Łódź\, 94-217\, Poland
END:VEVENT
BEGIN:VEVENT
DTSTART;TZID=Europe/Helsinki:20260110T090000
DTEND;TZID=Europe/Helsinki:20260110T104500
DTSTAMP:20260421T034108
CREATED:20251227T141532Z
LAST-MODIFIED:20251227T141532Z
UID:10000994-1768035600-1768041900@gardenshala.pl
SUMMARY:Ashtanga Mysore
DESCRIPTION:Mysore – praktyka własna pod przewodnictwem nauczyciela \nProwadząca: Julia
URL:https://gardenshala.pl/yoga/ashtanga-mysore-94/
LOCATION:Garden Shala\, Czołgistów 13\, Łódź\, 94-217\, Poland
END:VEVENT
BEGIN:VEVENT
DTSTART;TZID=Europe/Helsinki:20260111T100000
DTEND;TZID=Europe/Helsinki:20260111T111500
DTSTAMP:20260421T034108
CREATED:20251227T135626Z
LAST-MODIFIED:20251227T135626Z
UID:10000957-1768125600-1768130100@gardenshala.pl
SUMMARY:Vinyasa Joga
DESCRIPTION:Energia i Pobudzenie \nPraktyka jogi mająca na celu rozbudzenie ciała i umysłu – czyli idealny sposób na rozpoczęcie niedzieli! \nProwadząca: Gosia
URL:https://gardenshala.pl/yoga/vinyasa-joga-48/
LOCATION:Garden Shala\, Czołgistów 13\, Łódź\, 94-217\, Poland
END:VEVENT
BEGIN:VEVENT
DTSTART;TZID=Europe/Warsaw:20260111T113000
DTEND;TZID=Europe/Warsaw:20260111T124500
DTSTAMP:20260421T034108
CREATED:20251227T141734Z
LAST-MODIFIED:20251227T141734Z
UID:10000999-1768131000-1768135500@gardenshala.pl
SUMMARY:Łagodna Vinyasa & Joga Nidra
DESCRIPTION:Łagodny\, płynny ruch połączony z oddechem. \nPraktyka zakończona głęboką relaksacją jogi nidry. \nProwadząca: Gosia Szczepańska
URL:https://gardenshala.pl/yoga/lagodna-vinyasa-joga-nidra-46/
LOCATION:Garden Shala\, Czołgistów 13\, Łódź\, 94-217\, Poland
END:VEVENT
BEGIN:VEVENT
DTSTART;TZID=Europe/Warsaw:20260112T173000
DTEND;TZID=Europe/Warsaw:20260112T184500
DTSTAMP:20260421T034108
CREATED:20251227T135737Z
LAST-MODIFIED:20251227T135737Z
UID:10000959-1768239000-1768243500@gardenshala.pl
SUMMARY:Joga dla początkujących
DESCRIPTION:Solidna podstawa do praktyki jogi\, prawidłowego wykonywania asan oraz pracy z oddechem. \nProwadząca: Weronika
URL:https://gardenshala.pl/yoga/joga-dla-poczatkujacych-85/
LOCATION:Garden Shala\, Czołgistów 13\, Łódź\, 94-217\, Poland
END:VEVENT
BEGIN:VEVENT
DTSTART;TZID=Europe/Helsinki:20260112T185000
DTEND;TZID=Europe/Helsinki:20260112T202000
DTSTAMP:20260421T034108
CREATED:20251227T135804Z
LAST-MODIFIED:20251227T135804Z
UID:10000960-1768243800-1768249200@gardenshala.pl
SUMMARY:Hatha Joga
DESCRIPTION:Statyczna praktyka pozycji jogi z elementami technik oddechowych i medytacji. \nProwadząca: Ola
URL:https://gardenshala.pl/yoga/hatha-joga-90/
LOCATION:Garden Shala\, Czołgistów 13\, Łódź\, 94-217\, Poland
END:VEVENT
BEGIN:VEVENT
DTSTART;TZID=Europe/Helsinki:20260113T173000
DTEND;TZID=Europe/Helsinki:20260113T183000
DTSTAMP:20260421T034108
CREATED:20251227T140019Z
LAST-MODIFIED:20251227T140019Z
UID:10000965-1768325400-1768329000@gardenshala.pl
SUMMARY:Ashtanga dla początkujących
DESCRIPTION:Wprowadzenie do I serii Ashtanga Jogi \nProwadząca: Julia
URL:https://gardenshala.pl/yoga/ashtanga-dla-poczatkujacych-86/
LOCATION:Garden Shala\, Czołgistów 13\, Łódź\, 94-217\, Poland
END:VEVENT
BEGIN:VEVENT
DTSTART;TZID=Europe/Helsinki:20260113T184000
DTEND;TZID=Europe/Helsinki:20260113T201000
DTSTAMP:20260421T034108
CREATED:20251227T140046Z
LAST-MODIFIED:20251227T140046Z
UID:10000966-1768329600-1768335000@gardenshala.pl
SUMMARY:Ashtanga Mysore
DESCRIPTION:Mysore – praktyka własna Ashtanga Jogi pod przewodnictwem nauczyciela. \nProwadząca: Julia
URL:https://gardenshala.pl/yoga/ashtanga-mysore-91/
LOCATION:Garden Shala\, Czołgistów 13\, Łódź\, 94-217\, Poland
END:VEVENT
BEGIN:VEVENT
DTSTART;TZID=Europe/Warsaw:20260113T202000
DTEND;TZID=Europe/Warsaw:20260113T213500
DTSTAMP:20260421T034108
CREATED:20260109T140221Z
LAST-MODIFIED:20260109T140221Z
UID:10001008-1768335600-1768340100@gardenshala.pl
SUMMARY:Zdrowy Kręgosłup
DESCRIPTION:Zajęcia Zdrowy Kręgosłup to połączenie jogi\, gimnastyki i świadomego ruchu\, stworzone z myślą o zdrowych plecach\, poprawie postawy i codziennym komforcie. \nProwadzący: Tomek
URL:https://gardenshala.pl/yoga/zdrowy-kregoslup/
LOCATION:Garden Shala\, Czołgistów 13\, Łódź\, 94-217\, Poland
END:VEVENT
BEGIN:VEVENT
DTSTART;TZID=Europe/Warsaw:20260114T173000
DTEND;TZID=Europe/Warsaw:20260114T183000
DTSTAMP:20260421T034108
CREATED:20251227T140358Z
LAST-MODIFIED:20251227T140358Z
UID:10000971-1768411800-1768415400@gardenshala.pl
SUMMARY:Joga dla początkujących
DESCRIPTION:Łagodne i płynne wejście w praktykę jogi z Gosią.
URL:https://gardenshala.pl/yoga/joga-dla-poczatkujacych-88/
LOCATION:Garden Shala\, Czołgistów 13\, Łódź\, 94-217\, Poland
END:VEVENT
BEGIN:VEVENT
DTSTART;TZID=Europe/Warsaw:20260114T184500
DTEND;TZID=Europe/Warsaw:20260114T200000
DTSTAMP:20260421T034108
CREATED:20251227T140511Z
LAST-MODIFIED:20251227T140511Z
UID:10000972-1768416300-1768420800@gardenshala.pl
SUMMARY:Joga Ogólna
DESCRIPTION:Harmonijna praktyka jogi\, która wprowadzi więcej swobody i wzmocnienia do Twojego ciała. Wspiera budowanie uważności i wewnętrznej równowagi. \nProwadząca: Małgosia
URL:https://gardenshala.pl/yoga/joga-ogolna-5/
LOCATION:Garden Shala\, Czołgistów 13\, Łódź\, 94-217\, Poland
END:VEVENT
END:VCALENDAR