BEGIN:VCALENDAR
VERSION:2.0
PRODID:-//GARDEN SHALA - ECPv6.7.1//NONSGML v1.0//EN
CALSCALE:GREGORIAN
METHOD:PUBLISH
X-ORIGINAL-URL:https://gardenshala.pl
X-WR-CALDESC:Events for GARDEN SHALA
REFRESH-INTERVAL;VALUE=DURATION:PT1H
X-Robots-Tag:noindex
X-PUBLISHED-TTL:PT1H
BEGIN:VTIMEZONE
TZID:Europe/Helsinki
BEGIN:DAYLIGHT
TZOFFSETFROM:+0200
TZOFFSETTO:+0300
TZNAME:EEST
DTSTART:20240331T010000
END:DAYLIGHT
BEGIN:STANDARD
TZOFFSETFROM:+0300
TZOFFSETTO:+0200
TZNAME:EET
DTSTART:20241027T010000
END:STANDARD
END:VTIMEZONE
BEGIN:VEVENT
DTSTART;TZID=Europe/Helsinki:20241110T093000
DTEND;TZID=Europe/Helsinki:20241110T104500
DTSTAMP:20260422T094810
CREATED:20241031T111558Z
LAST-MODIFIED:20241031T111558Z
UID:10000068-1731231000-1731235500@gardenshala.pl
SUMMARY:VINYASA
DESCRIPTION:Energia i Pobudzenie \nPraktyka jogi mająca na celu rozbudzenie ciała i umysłu – czyli idealny sposób na rozpoczęcie niedzieli! \nProwadząca: Julia
URL:https://gardenshala.pl/yoga/vinyasa-11/
LOCATION:Garden Shala\, Czołgistów 13\, Łódź\, 94-217\, Poland
END:VEVENT
BEGIN:VEVENT
DTSTART;TZID=Europe/Helsinki:20241110T163000
DTEND;TZID=Europe/Helsinki:20241110T183000
DTSTAMP:20260422T094810
CREATED:20241031T112454Z
LAST-MODIFIED:20241031T112454Z
UID:10000070-1731256200-1731263400@gardenshala.pl
SUMMARY:JESIENNE OTULENIE - Jesienna Harmonia
DESCRIPTION:Zapraszmay na praktykę jogi restoratywnej połączonej z praktyką oddechową\, które wprowadzą Cię w stan głębokiego relaksu i harmonii. \nPo praktyce zapraszamy na wspólną herbatę i ciasto marchewkowe. \nProwadząca: Ola \nZajęcia płatne po za karnetem: 65 zł
URL:https://gardenshala.pl/yoga/jesienne-otulenie-jesienna-harmonia/
LOCATION:Garden Shala\, Czołgistów 13\, Łódź\, 94-217\, Poland
END:VEVENT
BEGIN:VEVENT
DTSTART;TZID=Europe/Helsinki:20241111T110000
DTEND;TZID=Europe/Helsinki:20241111T123000
DTSTAMP:20260422T094810
CREATED:20241107T191832Z
LAST-MODIFIED:20241107T191832Z
UID:10000102-1731322800-1731328200@gardenshala.pl
SUMMARY:HATHA
DESCRIPTION:Joga ogólna \nProwadząca: Ola
URL:https://gardenshala.pl/yoga/hatha-17/
LOCATION:Garden Shala\, Czołgistów 13\, Łódź\, 94-217\, Poland
END:VEVENT
BEGIN:VEVENT
DTSTART;TZID=Europe/Helsinki:20241112T173000
DTEND;TZID=Europe/Helsinki:20241112T184500
DTSTAMP:20260422T094810
CREATED:20241031T141156Z
LAST-MODIFIED:20241031T141156Z
UID:10000071-1731432600-1731437100@gardenshala.pl
SUMMARY:ASHTANGA
DESCRIPTION:Wprowadzenie do I serii Ashtanga Jogi \nProwadząca: Agnieszka
URL:https://gardenshala.pl/yoga/ashtanga-38/
LOCATION:Garden Shala\, Czołgistów 13\, Łódź\, 94-217\, Poland
END:VEVENT
BEGIN:VEVENT
DTSTART;TZID=Europe/Helsinki:20241112T185000
DTEND;TZID=Europe/Helsinki:20241112T202000
DTSTAMP:20260422T094810
CREATED:20241031T141247Z
LAST-MODIFIED:20241031T141247Z
UID:10000072-1731437400-1731442800@gardenshala.pl
SUMMARY:ASHTANGA
DESCRIPTION:Mysore – praktyka własna Ashtanga Jogi pod przewodnictwem nauczyciela \nProwadząca: Agnieszka
URL:https://gardenshala.pl/yoga/ashtanga-39/
LOCATION:Garden Shala\, Czołgistów 13\, Łódź\, 94-217\, Poland
END:VEVENT
BEGIN:VEVENT
DTSTART;TZID=Europe/Helsinki:20241114T173000
DTEND;TZID=Europe/Helsinki:20241114T184500
DTSTAMP:20260422T094810
CREATED:20241031T141320Z
LAST-MODIFIED:20241031T141320Z
UID:10000073-1731605400-1731609900@gardenshala.pl
SUMMARY:HATHA
DESCRIPTION:Joga ogólna \nProwadząca: Weronika
URL:https://gardenshala.pl/yoga/hatha-12/
LOCATION:Garden Shala\, Czołgistów 13\, Łódź\, 94-217\, Poland
END:VEVENT
BEGIN:VEVENT
DTSTART;TZID=Europe/Helsinki:20241114T185000
DTEND;TZID=Europe/Helsinki:20241114T200500
DTSTAMP:20260422T094810
CREATED:20241110T084133Z
LAST-MODIFIED:20241110T084133Z
UID:10000085-1731610200-1731614700@gardenshala.pl
SUMMARY:ASHTANGA
DESCRIPTION:Wprowadzenie do I serii Ashtanga Jogi \nProwadząca: Weronika
URL:https://gardenshala.pl/yoga/ashtanga-41/
LOCATION:Garden Shala\, Czołgistów 13\, Łódź\, 94-217\, Poland
END:VEVENT
BEGIN:VEVENT
DTSTART;TZID=Europe/Helsinki:20241116T090000
DTEND;TZID=Europe/Helsinki:20241116T104500
DTSTAMP:20260422T094810
CREATED:20241031T141636Z
LAST-MODIFIED:20241031T141636Z
UID:10000077-1731747600-1731753900@gardenshala.pl
SUMMARY:ASHTANGA
DESCRIPTION:Mysore – praktyka własna pod przewodnictwem nauczyciela \nProwadząca: Julia
URL:https://gardenshala.pl/yoga/ashtanga-43/
LOCATION:Garden Shala\, Czołgistów 13\, Łódź\, 94-217\, Poland
END:VEVENT
BEGIN:VEVENT
DTSTART;TZID=Europe/Helsinki:20241116T113000
DTEND;TZID=Europe/Helsinki:20241116T130000
DTSTAMP:20260422T094810
CREATED:20241031T142341Z
LAST-MODIFIED:20241031T142341Z
UID:10000078-1731756600-1731762000@gardenshala.pl
SUMMARY:MASTER CLASS
DESCRIPTION:Zajęcia poświęcone na doskonalenie praktyki asan i technik ich wykonywania. \nNa zajęciach omawiamy często bardziej skomplikowane asany\, czy vinyasy\, które wymagają większej uwagi. \nProwadząca: Julia
URL:https://gardenshala.pl/yoga/master-class-7/
LOCATION:Garden Shala\, Czołgistów 13\, Łódź\, 94-217\, Poland
END:VEVENT
BEGIN:VEVENT
DTSTART;TZID=Europe/Helsinki:20241117T093000
DTEND;TZID=Europe/Helsinki:20241117T104500
DTSTAMP:20260422T094810
CREATED:20241031T141741Z
LAST-MODIFIED:20241031T141741Z
UID:10000079-1731835800-1731840300@gardenshala.pl
SUMMARY:VINYASA
DESCRIPTION:Energia i Pobudzenie \nPraktyka jogi mająca na celu rozbudzenie ciała i umysłu – czyli idealny sposób na rozpoczęcie niedzieli! \nProwadząca: Julia
URL:https://gardenshala.pl/yoga/vinyasa-12/
LOCATION:Garden Shala\, Czołgistów 13\, Łódź\, 94-217\, Poland
END:VEVENT
BEGIN:VEVENT
DTSTART;TZID=Europe/Helsinki:20241118T173000
DTEND;TZID=Europe/Helsinki:20241118T184500
DTSTAMP:20260422T094810
CREATED:20241031T142128Z
LAST-MODIFIED:20241031T142128Z
UID:10000080-1731951000-1731955500@gardenshala.pl
SUMMARY:VINYASA
DESCRIPTION:Płynna praktyka asan\, połączona z oddechem. \nMedytacja w ruchu. \nPrwadząca: Ola
URL:https://gardenshala.pl/yoga/vinyasa-13/
LOCATION:Garden Shala\, Czołgistów 13\, Łódź\, 94-217\, Poland
END:VEVENT
BEGIN:VEVENT
DTSTART;TZID=Europe/Helsinki:20241118T185000
DTEND;TZID=Europe/Helsinki:20241118T202000
DTSTAMP:20260422T094810
CREATED:20241031T142149Z
LAST-MODIFIED:20241031T142149Z
UID:10000081-1731955800-1731961200@gardenshala.pl
SUMMARY:HATHA
DESCRIPTION:Joga ogólna \nProwadząca: Ola
URL:https://gardenshala.pl/yoga/hatha-13/
LOCATION:Garden Shala\, Czołgistów 13\, Łódź\, 94-217\, Poland
END:VEVENT
BEGIN:VEVENT
DTSTART;TZID=Europe/Helsinki:20241119T173000
DTEND;TZID=Europe/Helsinki:20241119T184500
DTSTAMP:20260422T094810
CREATED:20241031T142230Z
LAST-MODIFIED:20241031T142230Z
UID:10000082-1732037400-1732041900@gardenshala.pl
SUMMARY:ASHTANGA
DESCRIPTION:Wprowadzenie do I serii Ashtanga Jogi \nProwadząca: Agnieszka
URL:https://gardenshala.pl/yoga/ashtanga-44/
LOCATION:Garden Shala\, Czołgistów 13\, Łódź\, 94-217\, Poland
END:VEVENT
BEGIN:VEVENT
DTSTART;TZID=Europe/Helsinki:20241119T185000
DTEND;TZID=Europe/Helsinki:20241119T202000
DTSTAMP:20260422T094810
CREATED:20241031T142253Z
LAST-MODIFIED:20241031T142253Z
UID:10000083-1732042200-1732047600@gardenshala.pl
SUMMARY:ASHTANGA
DESCRIPTION:Mysore – praktyka własna Ashtanga Jogi pod przewodnictwem nauczyciela \nProwadząca: Agnieszka
URL:https://gardenshala.pl/yoga/ashtanga-45/
LOCATION:Garden Shala\, Czołgistów 13\, Łódź\, 94-217\, Poland
END:VEVENT
BEGIN:VEVENT
DTSTART;TZID=Europe/Helsinki:20241121T173000
DTEND;TZID=Europe/Helsinki:20241121T184500
DTSTAMP:20260422T094810
CREATED:20241031T142743Z
LAST-MODIFIED:20241031T142743Z
UID:10000084-1732210200-1732214700@gardenshala.pl
SUMMARY:HATHA
DESCRIPTION:Joga ogólna \nProwadząca: Weronika
URL:https://gardenshala.pl/yoga/hatha-14/
LOCATION:Garden Shala\, Czołgistów 13\, Łódź\, 94-217\, Poland
END:VEVENT
BEGIN:VEVENT
DTSTART;TZID=Europe/Helsinki:20241121T185000
DTEND;TZID=Europe/Helsinki:20241121T200500
DTSTAMP:20260422T094810
CREATED:20241031T142835Z
LAST-MODIFIED:20241031T142835Z
UID:10000091-1732215000-1732219500@gardenshala.pl
SUMMARY:ASHTANGA
DESCRIPTION:Wprowadzenie do I serii Ashtanga Jogi \nProwadząca: Weronika
URL:https://gardenshala.pl/yoga/ashtanga-47/
LOCATION:Garden Shala\, Czołgistów 13\, Łódź\, 94-217\, Poland
END:VEVENT
BEGIN:VEVENT
DTSTART;TZID=Europe/Helsinki:20241122T173000
DTEND;TZID=Europe/Helsinki:20241122T184500
DTSTAMP:20260422T094810
CREATED:20241031T142857Z
LAST-MODIFIED:20241031T142857Z
UID:10000092-1732296600-1732301100@gardenshala.pl
SUMMARY:ASHTANGA
DESCRIPTION:Wprowadzenie do I serii Ashtanga Jogi \nProwadząca: Julia
URL:https://gardenshala.pl/yoga/ashtanga-48/
LOCATION:Garden Shala\, Czołgistów 13\, Łódź\, 94-217\, Poland
END:VEVENT
BEGIN:VEVENT
DTSTART;TZID=Europe/Helsinki:20241122T185000
DTEND;TZID=Europe/Helsinki:20241122T202000
DTSTAMP:20260422T094810
CREATED:20241031T142927Z
LAST-MODIFIED:20241031T142927Z
UID:10000093-1732301400-1732306800@gardenshala.pl
SUMMARY:ASHTANGA
DESCRIPTION:Wprowadzenie do II serii Ashtanga Jogi \nProwadząca: Julia
URL:https://gardenshala.pl/yoga/ashtanga-49/
LOCATION:Garden Shala\, Czołgistów 13\, Łódź\, 94-217\, Poland
END:VEVENT
BEGIN:VEVENT
DTSTART;TZID=Europe/Helsinki:20241123T090000
DTEND;TZID=Europe/Helsinki:20241123T104500
DTSTAMP:20260422T094810
CREATED:20241031T142605Z
LAST-MODIFIED:20241031T142605Z
UID:10000088-1732352400-1732358700@gardenshala.pl
SUMMARY:ASHTANGA
DESCRIPTION:Mysore – praktyka własna pod przewodnictwem nauczyciela \nProwadząca: Julia
URL:https://gardenshala.pl/yoga/ashtanga-46/
LOCATION:Garden Shala\, Czołgistów 13\, Łódź\, 94-217\, Poland
END:VEVENT
BEGIN:VEVENT
DTSTART;TZID=Europe/Helsinki:20241123T113000
DTEND;TZID=Europe/Helsinki:20241123T130000
DTSTAMP:20260422T094810
CREATED:20241031T142629Z
LAST-MODIFIED:20241031T142629Z
UID:10000089-1732361400-1732366800@gardenshala.pl
SUMMARY:MASTER CLASS
DESCRIPTION:Zajęcia poświęcone na doskonalenie praktyki asan i technik ich wykonywania. \nNa zajęciach omawiamy często bardziej skomplikowane asany\, czy vinyasy\, które wymagają większej uwagi. \nProwadząca: Julia
URL:https://gardenshala.pl/yoga/master-class-8/
LOCATION:Garden Shala\, Czołgistów 13\, Łódź\, 94-217\, Poland
END:VEVENT
BEGIN:VEVENT
DTSTART;TZID=Europe/Helsinki:20241124T093000
DTEND;TZID=Europe/Helsinki:20241124T104500
DTSTAMP:20260422T094810
CREATED:20241031T142701Z
LAST-MODIFIED:20241031T142701Z
UID:10000090-1732440600-1732445100@gardenshala.pl
SUMMARY:VINYASA
DESCRIPTION:Energia i Pobudzenie \nPraktyka jogi mająca na celu rozbudzenie ciała i umysłu – czyli idealny sposób na rozpoczęcie niedzieli! \nProwadząca: Julia
URL:https://gardenshala.pl/yoga/vinyasa-14/
LOCATION:Garden Shala\, Czołgistów 13\, Łódź\, 94-217\, Poland
END:VEVENT
BEGIN:VEVENT
DTSTART;TZID=Europe/Helsinki:20241125T173000
DTEND;TZID=Europe/Helsinki:20241125T184500
DTSTAMP:20260422T094810
CREATED:20241031T143355Z
LAST-MODIFIED:20241031T143355Z
UID:10000094-1732555800-1732560300@gardenshala.pl
SUMMARY:VINYASA
DESCRIPTION:Płynna praktyka asan\, połączona z oddechem. \nMedytacja w ruchu. \nPrwadząca: Ola
URL:https://gardenshala.pl/yoga/vinyasa-15/
LOCATION:Garden Shala\, Czołgistów 13\, Łódź\, 94-217\, Poland
END:VEVENT
BEGIN:VEVENT
DTSTART;TZID=Europe/Helsinki:20241125T185000
DTEND;TZID=Europe/Helsinki:20241125T202000
DTSTAMP:20260422T094810
CREATED:20241031T143601Z
LAST-MODIFIED:20241031T143601Z
UID:10000095-1732560600-1732566000@gardenshala.pl
SUMMARY:HATHA
DESCRIPTION:Joga ogólna \nProwadząca: Ola
URL:https://gardenshala.pl/yoga/hatha-15/
LOCATION:Garden Shala\, Czołgistów 13\, Łódź\, 94-217\, Poland
END:VEVENT
BEGIN:VEVENT
DTSTART;TZID=Europe/Helsinki:20241126T173000
DTEND;TZID=Europe/Helsinki:20241126T184500
DTSTAMP:20260422T094810
CREATED:20241031T143434Z
LAST-MODIFIED:20241031T143434Z
UID:10000096-1732642200-1732646700@gardenshala.pl
SUMMARY:ASHTANGA
DESCRIPTION:Wprowadzenie do I serii Ashtanga Jogi \nProwadząca: Agnieszka
URL:https://gardenshala.pl/yoga/ashtanga-52/
LOCATION:Garden Shala\, Czołgistów 13\, Łódź\, 94-217\, Poland
END:VEVENT
BEGIN:VEVENT
DTSTART;TZID=Europe/Helsinki:20241126T185000
DTEND;TZID=Europe/Helsinki:20241126T202000
DTSTAMP:20260422T094810
CREATED:20241031T143451Z
LAST-MODIFIED:20241031T143451Z
UID:10000097-1732647000-1732652400@gardenshala.pl
SUMMARY:ASHTANGA
DESCRIPTION:Mysore – praktyka własna Ashtanga Jogi pod przewodnictwem nauczyciela \nProwadząca: Agnieszka
URL:https://gardenshala.pl/yoga/ashtanga-53/
LOCATION:Garden Shala\, Czołgistów 13\, Łódź\, 94-217\, Poland
END:VEVENT
BEGIN:VEVENT
DTSTART;TZID=Europe/Helsinki:20241128T173000
DTEND;TZID=Europe/Helsinki:20241128T184500
DTSTAMP:20260422T094810
CREATED:20241031T143621Z
LAST-MODIFIED:20241031T143621Z
UID:10000098-1732815000-1732819500@gardenshala.pl
SUMMARY:HATHA
DESCRIPTION:Joga ogólna \nProwadząca: Weronika
URL:https://gardenshala.pl/yoga/hatha-16/
LOCATION:Garden Shala\, Czołgistów 13\, Łódź\, 94-217\, Poland
END:VEVENT
BEGIN:VEVENT
DTSTART;TZID=Europe/Helsinki:20241128T185000
DTEND;TZID=Europe/Helsinki:20241128T200500
DTSTAMP:20260422T094810
CREATED:20241031T141347Z
LAST-MODIFIED:20241031T143054Z
UID:10000074-1732819800-1732824300@gardenshala.pl
SUMMARY:ASHTANGA
DESCRIPTION:Wprowadzenie do I serii Ashtanga Jogi \nProwadząca: Weronika
URL:https://gardenshala.pl/yoga/ashtanga-40/
LOCATION:Garden Shala\, Czołgistów 13\, Łódź\, 94-217\, Poland
END:VEVENT
BEGIN:VEVENT
DTSTART;TZID=Europe/Helsinki:20241129T173000
DTEND;TZID=Europe/Helsinki:20241129T184500
DTSTAMP:20260422T094810
CREATED:20241031T143215Z
LAST-MODIFIED:20241031T143215Z
UID:10000086-1732901400-1732905900@gardenshala.pl
SUMMARY:ASHTANGA
DESCRIPTION:Wprowadzenie do I serii Ashtanga Jogi \nProwadząca: Julia
URL:https://gardenshala.pl/yoga/ashtanga-50/
LOCATION:Garden Shala\, Czołgistów 13\, Łódź\, 94-217\, Poland
END:VEVENT
BEGIN:VEVENT
DTSTART;TZID=Europe/Helsinki:20241130T090000
DTEND;TZID=Europe/Helsinki:20241130T104500
DTSTAMP:20260422T094810
CREATED:20241031T143712Z
LAST-MODIFIED:20241031T143712Z
UID:10000099-1732957200-1732963500@gardenshala.pl
SUMMARY:ASHTANGA
DESCRIPTION:Mysore – praktyka własna pod przewodnictwem nauczyciela \nProwadząca: Julia
URL:https://gardenshala.pl/yoga/ashtanga-54/
LOCATION:Garden Shala\, Czołgistów 13\, Łódź\, 94-217\, Poland
END:VEVENT
BEGIN:VEVENT
DTSTART;TZID=Europe/Helsinki:20241130T113000
DTEND;TZID=Europe/Helsinki:20241130T130000
DTSTAMP:20260422T094810
CREATED:20241031T143728Z
LAST-MODIFIED:20241031T143728Z
UID:10000100-1732966200-1732971600@gardenshala.pl
SUMMARY:MASTER CLASS
DESCRIPTION:Zajęcia poświęcone na doskonalenie praktyki asan i technik ich wykonywania. \nNa zajęciach omawiamy często bardziej skomplikowane asany\, czy vinyasy\, które wymagają większej uwagi. \nProwadząca: Julia
URL:https://gardenshala.pl/yoga/master-class-9/
LOCATION:Garden Shala\, Czołgistów 13\, Łódź\, 94-217\, Poland
END:VEVENT
END:VCALENDAR