BEGIN:VCALENDAR
VERSION:2.0
PRODID:-//GARDEN SHALA - ECPv6.7.1//NONSGML v1.0//EN
CALSCALE:GREGORIAN
METHOD:PUBLISH
X-ORIGINAL-URL:https://gardenshala.pl
X-WR-CALDESC:Events for GARDEN SHALA
REFRESH-INTERVAL;VALUE=DURATION:PT1H
X-Robots-Tag:noindex
X-PUBLISHED-TTL:PT1H
BEGIN:VTIMEZONE
TZID:Europe/Helsinki
BEGIN:DAYLIGHT
TZOFFSETFROM:+0200
TZOFFSETTO:+0300
TZNAME:EEST
DTSTART:20250330T010000
END:DAYLIGHT
BEGIN:STANDARD
TZOFFSETFROM:+0300
TZOFFSETTO:+0200
TZNAME:EET
DTSTART:20251026T010000
END:STANDARD
TZID:Europe/Warsaw
BEGIN:DAYLIGHT
TZOFFSETFROM:+0100
TZOFFSETTO:+0200
TZNAME:CEST
DTSTART:20250330T010000
END:DAYLIGHT
BEGIN:STANDARD
TZOFFSETFROM:+0200
TZOFFSETTO:+0100
TZNAME:CET
DTSTART:20251026T010000
END:STANDARD
END:VTIMEZONE
BEGIN:VEVENT
DTSTART;TZID=Europe/Helsinki:20250427T100000
DTEND;TZID=Europe/Helsinki:20250427T111500
DTSTAMP:20260421T223952
CREATED:20250324T130438Z
LAST-MODIFIED:20250324T130438Z
UID:10000388-1745748000-1745752500@gardenshala.pl
SUMMARY:Vinyasa Joga
DESCRIPTION:Energia i Pobudzenie \nPraktyka jogi mająca na celu rozbudzenie ciała i umysłu – czyli idealny sposób na rozpoczęcie niedzieli! \nProwadząca: Julia
URL:https://gardenshala.pl/yoga/vinyasa-joga-12/
LOCATION:Garden Shala\, Czołgistów 13\, Łódź\, 94-217\, Poland
END:VEVENT
BEGIN:VEVENT
DTSTART;TZID=Europe/Warsaw:20250427T112500
DTEND;TZID=Europe/Warsaw:20250427T124000
DTSTAMP:20260421T223952
CREATED:20250324T130507Z
LAST-MODIFIED:20250405T115948Z
UID:10000389-1745753100-1745757600@gardenshala.pl
SUMMARY:Łagodna Vinyasa & Joga Nidra
DESCRIPTION:Łagodny\, płynny ruch połączony z oddechem. \nPraktyka zakończona głęboką relaksacją jogi nidry. \nProwadząca: Julia Zabost
URL:https://gardenshala.pl/yoga/lagodna-vinyasa-joga-nidra-9/
LOCATION:Garden Shala\, Czołgistów 13\, Łódź\, 94-217\, Poland
END:VEVENT
BEGIN:VEVENT
DTSTART;TZID=Europe/Warsaw:20250427T183000
DTEND;TZID=Europe/Warsaw:20250427T200000
DTSTAMP:20260421T223952
CREATED:20250410T201633Z
LAST-MODIFIED:20250410T201708Z
UID:10000395-1745778600-1745784000@gardenshala.pl
SUMMARY:Joga Nidra & Moc Wibracji
DESCRIPTION:Zapraszamy na praktykę Jogi Nidry i koncert mis tybetańskich\nZajęcia zapewnią Ci głęboki relaks\, uwolnienie od napięć\, redukcję stresu\, a być może spełnienie najskrytszych marzeń! Przyjdź i poczuj moc jogi nidry na własnej skórze!\nProwadzące:\nJulia Zabost & Agnieszka Kauer\nInwestycja: 80 zł
URL:https://gardenshala.pl/yoga/joga-nidra-misy/
LOCATION:Garden Shala\, Czołgistów 13\, Łódź\, 94-217\, Poland
END:VEVENT
BEGIN:VEVENT
DTSTART;TZID=Europe/Warsaw:20250428T173000
DTEND;TZID=Europe/Warsaw:20250428T184500
DTSTAMP:20260421T223952
CREATED:20250324T125724Z
LAST-MODIFIED:20250324T125724Z
UID:10000378-1745861400-1745865900@gardenshala.pl
SUMMARY:Joga dla początkujących
DESCRIPTION:Solidna podstawa do praktyki jogi\, prawidłowego wykonywania asan oraz pracy z oddechem.  \nProwadząca: Ola Wietecha-Drobik
URL:https://gardenshala.pl/yoga/joga-dla-poczatkujacych-12/
LOCATION:Garden Shala\, Czołgistów 13\, Łódź\, 94-217\, Poland
END:VEVENT
BEGIN:VEVENT
DTSTART;TZID=Europe/Helsinki:20250428T185000
DTEND;TZID=Europe/Helsinki:20250428T202000
DTSTAMP:20260421T223952
CREATED:20250324T125841Z
LAST-MODIFIED:20250324T125841Z
UID:10000379-1745866200-1745871600@gardenshala.pl
SUMMARY:Hatha Joga
DESCRIPTION:Statyczna praktyka pozycji jogi z elementami technik oddechowych i medytacji. \nProwadząca: Ola
URL:https://gardenshala.pl/yoga/hatha-joga-16/
LOCATION:Garden Shala\, Czołgistów 13\, Łódź\, 94-217\, Poland
END:VEVENT
BEGIN:VEVENT
DTSTART;TZID=Europe/Helsinki:20250429T173000
DTEND;TZID=Europe/Helsinki:20250429T183000
DTSTAMP:20260421T223952
CREATED:20250324T130635Z
LAST-MODIFIED:20250324T130635Z
UID:10000390-1745947800-1745951400@gardenshala.pl
SUMMARY:Ashtanga dla początkujących
DESCRIPTION:Wprowadzenie do I serii Ashtanga Jogi \nProwadząca: Agnieszka
URL:https://gardenshala.pl/yoga/ashtanga-dla-poczatkujacych-17/
LOCATION:Garden Shala\, Czołgistów 13\, Łódź\, 94-217\, Poland
END:VEVENT
BEGIN:VEVENT
DTSTART;TZID=Europe/Helsinki:20250429T184500
DTEND;TZID=Europe/Helsinki:20250429T201500
DTSTAMP:20260421T223952
CREATED:20250324T130709Z
LAST-MODIFIED:20250324T130709Z
UID:10000391-1745952300-1745957700@gardenshala.pl
SUMMARY:Ashtanga Mysore
DESCRIPTION:Mysore – praktyka własna Ashtanga Jogi pod przewodnictwem nauczyciela. \nProwadząca: Agnieszka
URL:https://gardenshala.pl/yoga/ashtanga-mysore-18/
LOCATION:Garden Shala\, Czołgistów 13\, Łódź\, 94-217\, Poland
END:VEVENT
BEGIN:VEVENT
DTSTART;TZID=Europe/Warsaw:20250430T190000
DTEND;TZID=Europe/Warsaw:20250430T203000
DTSTAMP:20260421T223952
CREATED:20250324T130934Z
LAST-MODIFIED:20250324T130934Z
UID:10000392-1746039600-1746045000@gardenshala.pl
SUMMARY:Joga 2.0 - kurs pogłębiający praktykę jogi
DESCRIPTION:Kurs pogłębiający praktykę jogi\nLatające Vinyasy 2.0 – płynne przejścia\, Chakrasana (przewrót w tył)\nInwestycja:\ncały kurs 450 zł\npojedyncze zajęcia: 80 zł\nProwadząca: Julia
URL:https://gardenshala.pl/yoga/joga-2-0-kurs-poglebiajacy-praktyke-jogi-6/
LOCATION:Garden Shala\, Czołgistów 13\, Łódź\, 94-217\, Poland
END:VEVENT
BEGIN:VEVENT
DTSTART;TZID=Europe/Warsaw:20250501T110000
DTEND;TZID=Europe/Warsaw:20250501T123000
DTSTAMP:20260421T223952
CREATED:20250426T125450Z
LAST-MODIFIED:20250426T125450Z
UID:10000429-1746097200-1746102600@gardenshala.pl
SUMMARY:Ashtanga Prowadzona (pół serii)
DESCRIPTION:Ashtanga Seria Prowadzona (pół serii) \nProwadząca: Mariana Krulikovska
URL:https://gardenshala.pl/yoga/ashtanga-prowadzona-pol-serii/
LOCATION:Garden Shala\, Czołgistów 13\, Łódź\, 94-217\, Poland
END:VEVENT
BEGIN:VEVENT
DTSTART;TZID=Europe/Warsaw:20250502T173000
DTEND;TZID=Europe/Warsaw:20250502T184500
DTSTAMP:20260421T223952
CREATED:20250426T125044Z
LAST-MODIFIED:20250426T125044Z
UID:10000424-1746207000-1746211500@gardenshala.pl
SUMMARY:Movement & Prana
DESCRIPTION:Trening oddechowy połączony z ruchem\nProwadząca: Ola
URL:https://gardenshala.pl/yoga/movement-prana-8/
LOCATION:Garden Shala\, Czołgistów 13\, Łódź\, 94-217\, Poland
END:VEVENT
BEGIN:VEVENT
DTSTART;TZID=Europe/Helsinki:20250502T185000
DTEND;TZID=Europe/Helsinki:20250502T202000
DTSTAMP:20260421T223952
CREATED:20250426T125102Z
LAST-MODIFIED:20250426T125102Z
UID:10000425-1746211800-1746217200@gardenshala.pl
SUMMARY:Ashtanga - wstęp do II serii
DESCRIPTION:Wprowadzenie do II serii Ashtanga Jogi \nProwadząca: Julia
URL:https://gardenshala.pl/yoga/ashtanga-wstep-do-ii-serii-9/
LOCATION:Garden Shala\, Czołgistów 13\, Łódź\, 94-217\, Poland
END:VEVENT
BEGIN:VEVENT
DTSTART;TZID=Europe/Helsinki:20250503T090000
DTEND;TZID=Europe/Helsinki:20250503T104500
DTSTAMP:20260421T223952
CREATED:20250426T125145Z
LAST-MODIFIED:20250426T125145Z
UID:10000426-1746262800-1746269100@gardenshala.pl
SUMMARY:Ashtanga Mysore
DESCRIPTION:Mysore – praktyka własna pod przewodnictwem nauczyciela \nProwadząca: Julia
URL:https://gardenshala.pl/yoga/ashtanga-mysore-23/
LOCATION:Garden Shala\, Czołgistów 13\, Łódź\, 94-217\, Poland
END:VEVENT
BEGIN:VEVENT
DTSTART;TZID=Europe/Helsinki:20250504T100000
DTEND;TZID=Europe/Helsinki:20250504T111500
DTSTAMP:20260421T223952
CREATED:20250426T125211Z
LAST-MODIFIED:20250426T125211Z
UID:10000427-1746352800-1746357300@gardenshala.pl
SUMMARY:Vinyasa Joga
DESCRIPTION:Energia i Pobudzenie \nPraktyka jogi mająca na celu rozbudzenie ciała i umysłu – czyli idealny sposób na rozpoczęcie niedzieli! \nProwadząca: Gosia
URL:https://gardenshala.pl/yoga/vinyasa-joga-13/
LOCATION:Garden Shala\, Czołgistów 13\, Łódź\, 94-217\, Poland
END:VEVENT
BEGIN:VEVENT
DTSTART;TZID=Europe/Warsaw:20250504T112500
DTEND;TZID=Europe/Warsaw:20250504T124000
DTSTAMP:20260421T223952
CREATED:20250426T125243Z
LAST-MODIFIED:20250426T131123Z
UID:10000428-1746357900-1746362400@gardenshala.pl
SUMMARY:Łagodna Vinyasa & Joga Nidra
DESCRIPTION:Łagodny\, płynny ruch połączony z oddechem. \nPraktyka zakończona głęboką relaksacją jogi nidry. \nProwadząca: Gosia Szczepańską
URL:https://gardenshala.pl/yoga/lagodna-vinyasa-joga-nidra-10/
LOCATION:Garden Shala\, Czołgistów 13\, Łódź\, 94-217\, Poland
END:VEVENT
BEGIN:VEVENT
DTSTART;TZID=Europe/Warsaw:20250505T173000
DTEND;TZID=Europe/Warsaw:20250505T184500
DTSTAMP:20260421T223952
CREATED:20250426T123256Z
LAST-MODIFIED:20250426T123256Z
UID:10000400-1746466200-1746470700@gardenshala.pl
SUMMARY:Joga dla początkujących
DESCRIPTION:Solidna podstawa do praktyki jogi\, prawidłowego wykonywania asan oraz pracy z oddechem. \nProwadząca: Ola Wietecha-Drobik
URL:https://gardenshala.pl/yoga/joga-dla-poczatkujacych-13/
LOCATION:Garden Shala\, Czołgistów 13\, Łódź\, 94-217\, Poland
END:VEVENT
BEGIN:VEVENT
DTSTART;TZID=Europe/Helsinki:20250505T185000
DTEND;TZID=Europe/Helsinki:20250505T202000
DTSTAMP:20260421T223952
CREATED:20250426T123314Z
LAST-MODIFIED:20250426T123314Z
UID:10000401-1746471000-1746476400@gardenshala.pl
SUMMARY:Hatha Joga
DESCRIPTION:Statyczna praktyka pozycji jogi z elementami technik oddechowych i medytacji. \nProwadząca: Ola
URL:https://gardenshala.pl/yoga/hatha-joga-18/
LOCATION:Garden Shala\, Czołgistów 13\, Łódź\, 94-217\, Poland
END:VEVENT
BEGIN:VEVENT
DTSTART;TZID=Europe/Helsinki:20250506T173000
DTEND;TZID=Europe/Helsinki:20250506T183000
DTSTAMP:20260421T223952
CREATED:20250426T123711Z
LAST-MODIFIED:20250426T123711Z
UID:10000408-1746552600-1746556200@gardenshala.pl
SUMMARY:Ashtanga dla początkujących
DESCRIPTION:Wprowadzenie do I serii Ashtanga Jogi \nProwadząca: Julia
URL:https://gardenshala.pl/yoga/ashtanga-dla-poczatkujacych-19/
LOCATION:Garden Shala\, Czołgistów 13\, Łódź\, 94-217\, Poland
END:VEVENT
BEGIN:VEVENT
DTSTART;TZID=Europe/Helsinki:20250506T184500
DTEND;TZID=Europe/Helsinki:20250506T201500
DTSTAMP:20260421T223952
CREATED:20250426T123933Z
LAST-MODIFIED:20250426T123933Z
UID:10000409-1746557100-1746562500@gardenshala.pl
SUMMARY:Ashtanga Mysore
DESCRIPTION:Mysore – praktyka własna Ashtanga Jogi pod przewodnictwem nauczyciela. \nProwadząca: Julia
URL:https://gardenshala.pl/yoga/ashtanga-mysore-19/
LOCATION:Garden Shala\, Czołgistów 13\, Łódź\, 94-217\, Poland
END:VEVENT
BEGIN:VEVENT
DTSTART;TZID=Europe/Warsaw:20250507T173000
DTEND;TZID=Europe/Warsaw:20250507T184500
DTSTAMP:20260421T223952
CREATED:20250426T124856Z
LAST-MODIFIED:20250426T124856Z
UID:10000421-1746639000-1746643500@gardenshala.pl
SUMMARY:Joga dla początkujących
DESCRIPTION:Łagodne i płynne wejście w praktykę jogi z Gosią.
URL:https://gardenshala.pl/yoga/joga-dla-poczatkujacych-16/
LOCATION:Garden Shala\, Czołgistów 13\, Łódź\, 94-217\, Poland
END:VEVENT
BEGIN:VEVENT
DTSTART;TZID=Europe/Warsaw:20250507T190000
DTEND;TZID=Europe/Warsaw:20250507T203000
DTSTAMP:20260421T223952
CREATED:20250426T124118Z
LAST-MODIFIED:20250426T124118Z
UID:10000410-1746644400-1746649800@gardenshala.pl
SUMMARY:Joga 2.0 - kurs pogłębiający praktykę jogi
DESCRIPTION:Kurs pogłębiający praktykę jogi\nBend so don’t break – wygięcia\, mostek\, dropbacki\nInwestycja:\ncały kurs 450 zł\npojedyncze zajęcia: 80 zł\nProwadząca: Julia
URL:https://gardenshala.pl/yoga/joga-2-0-kurs-poglebiajacy-praktyke-jogi-7/
LOCATION:Garden Shala\, Czołgistów 13\, Łódź\, 94-217\, Poland
END:VEVENT
BEGIN:VEVENT
DTSTART;TZID=Europe/Helsinki:20250508T173000
DTEND;TZID=Europe/Helsinki:20250508T184500
DTSTAMP:20260421T223952
CREATED:20250426T124947Z
LAST-MODIFIED:20250426T124947Z
UID:10000422-1746725400-1746729900@gardenshala.pl
SUMMARY:Hatha Joga
DESCRIPTION:Statyczna praktyka pozycji jogi z elementami technik oddechowych i medytacji. \nJoga ogólna. \nProwadząca: Weronika
URL:https://gardenshala.pl/yoga/hatha-joga-22/
LOCATION:Garden Shala\, Czołgistów 13\, Łódź\, 94-217\, Poland
END:VEVENT
BEGIN:VEVENT
DTSTART;TZID=Europe/Helsinki:20250508T190000
DTEND;TZID=Europe/Helsinki:20250508T203000
DTSTAMP:20260421T223952
CREATED:20250426T125007Z
LAST-MODIFIED:20250426T125007Z
UID:10000423-1746730800-1746736200@gardenshala.pl
SUMMARY:Ashtanga dla początkujących
DESCRIPTION:Wprowadzenie do I serii Ashtanga Jogi \nProwadząca: Mariana
URL:https://gardenshala.pl/yoga/ashtanga-dla-poczatkujacych-24/
LOCATION:Garden Shala\, Czołgistów 13\, Łódź\, 94-217\, Poland
END:VEVENT
BEGIN:VEVENT
DTSTART;TZID=Europe/Warsaw:20250509T173000
DTEND;TZID=Europe/Warsaw:20250509T184500
DTSTAMP:20260421T223952
CREATED:20250426T131553Z
LAST-MODIFIED:20250426T131553Z
UID:10000439-1746811800-1746816300@gardenshala.pl
SUMMARY:Movement & Prana
DESCRIPTION:Trening oddechowy połączony z ruchem\nProwadząca: Ola
URL:https://gardenshala.pl/yoga/movement-prana-9/
LOCATION:Garden Shala\, Czołgistów 13\, Łódź\, 94-217\, Poland
END:VEVENT
BEGIN:VEVENT
DTSTART;TZID=Europe/Helsinki:20250509T185000
DTEND;TZID=Europe/Helsinki:20250509T202000
DTSTAMP:20260421T223952
CREATED:20250426T131609Z
LAST-MODIFIED:20250426T131609Z
UID:10000440-1746816600-1746822000@gardenshala.pl
SUMMARY:Ashtanga - wstęp do II serii
DESCRIPTION:Wprowadzenie do II serii Ashtanga Jogi \nProwadząca: Julia
URL:https://gardenshala.pl/yoga/ashtanga-wstep-do-ii-serii-10/
LOCATION:Garden Shala\, Czołgistów 13\, Łódź\, 94-217\, Poland
END:VEVENT
BEGIN:VEVENT
DTSTART;TZID=Europe/Helsinki:20250510T090000
DTEND;TZID=Europe/Helsinki:20250510T104500
DTSTAMP:20260421T223952
CREATED:20250426T131713Z
LAST-MODIFIED:20250426T131713Z
UID:10000443-1746867600-1746873900@gardenshala.pl
SUMMARY:Ashtanga Mysore
DESCRIPTION:Mysore – praktyka własna pod przewodnictwem nauczyciela \nProwadząca: Julia
URL:https://gardenshala.pl/yoga/ashtanga-mysore-24/
LOCATION:Garden Shala\, Czołgistów 13\, Łódź\, 94-217\, Poland
END:VEVENT
BEGIN:VEVENT
DTSTART;TZID=Europe/Helsinki:20250511T100000
DTEND;TZID=Europe/Helsinki:20250511T111500
DTSTAMP:20260421T223952
CREATED:20250426T131821Z
LAST-MODIFIED:20250426T131821Z
UID:10000445-1746957600-1746962100@gardenshala.pl
SUMMARY:Vinyasa Joga
DESCRIPTION:Energia i Pobudzenie \nPraktyka jogi mająca na celu rozbudzenie ciała i umysłu – czyli idealny sposób na rozpoczęcie niedzieli! \nProwadząca: Gosia Szczepańską
URL:https://gardenshala.pl/yoga/vinyasa-joga-14/
LOCATION:Garden Shala\, Czołgistów 13\, Łódź\, 94-217\, Poland
END:VEVENT
BEGIN:VEVENT
DTSTART;TZID=Europe/Warsaw:20250511T112500
DTEND;TZID=Europe/Warsaw:20250511T124000
DTSTAMP:20260421T223952
CREATED:20250426T132159Z
LAST-MODIFIED:20250426T132159Z
UID:10000449-1746962700-1746967200@gardenshala.pl
SUMMARY:Łagodna Vinyasa & Joga Nidra
DESCRIPTION:Łagodny\, płynny ruch połączony z oddechem. \nPraktyka zakończona głęboką relaksacją jogi nidry. \nProwadząca: Gosia Szczepańską
URL:https://gardenshala.pl/yoga/lagodna-vinyasa-joga-nidra-11/
LOCATION:Garden Shala\, Czołgistów 13\, Łódź\, 94-217\, Poland
END:VEVENT
BEGIN:VEVENT
DTSTART;TZID=Europe/Warsaw:20250512T173000
DTEND;TZID=Europe/Warsaw:20250512T184500
DTSTAMP:20260421T223952
CREATED:20250426T123345Z
LAST-MODIFIED:20250426T123345Z
UID:10000402-1747071000-1747075500@gardenshala.pl
SUMMARY:Joga dla początkujących
DESCRIPTION:Solidna podstawa do praktyki jogi\, prawidłowego wykonywania asan oraz pracy z oddechem. \nProwadząca: Ola Wietecha-Drobik
URL:https://gardenshala.pl/yoga/joga-dla-poczatkujacych-14/
LOCATION:Garden Shala\, Czołgistów 13\, Łódź\, 94-217\, Poland
END:VEVENT
BEGIN:VEVENT
DTSTART;TZID=Europe/Helsinki:20250512T185000
DTEND;TZID=Europe/Helsinki:20250512T202000
DTSTAMP:20260421T223952
CREATED:20250426T123416Z
LAST-MODIFIED:20250426T123416Z
UID:10000403-1747075800-1747081200@gardenshala.pl
SUMMARY:Hatha Joga
DESCRIPTION:Statyczna praktyka pozycji jogi z elementami technik oddechowych i medytacji. \nProwadząca: Ola
URL:https://gardenshala.pl/yoga/hatha-joga-19/
LOCATION:Garden Shala\, Czołgistów 13\, Łódź\, 94-217\, Poland
END:VEVENT
BEGIN:VEVENT
DTSTART;TZID=Europe/Helsinki:20250513T173000
DTEND;TZID=Europe/Helsinki:20250513T183000
DTSTAMP:20260421T223952
CREATED:20250426T124146Z
LAST-MODIFIED:20250426T124146Z
UID:10000411-1747157400-1747161000@gardenshala.pl
SUMMARY:Ashtanga dla początkujących
DESCRIPTION:Wprowadzenie do I serii Ashtanga Jogi \nProwadząca: Mariana
URL:https://gardenshala.pl/yoga/ashtanga-dla-poczatkujacych-20/
LOCATION:Garden Shala\, Czołgistów 13\, Łódź\, 94-217\, Poland
END:VEVENT
END:VCALENDAR