BEGIN:VCALENDAR
VERSION:2.0
PRODID:-//GARDEN SHALA - ECPv6.7.1//NONSGML v1.0//EN
CALSCALE:GREGORIAN
METHOD:PUBLISH
X-ORIGINAL-URL:https://gardenshala.pl
X-WR-CALDESC:Events for GARDEN SHALA
REFRESH-INTERVAL;VALUE=DURATION:PT1H
X-Robots-Tag:noindex
X-PUBLISHED-TTL:PT1H
BEGIN:VTIMEZONE
TZID:Europe/Warsaw
BEGIN:DAYLIGHT
TZOFFSETFROM:+0100
TZOFFSETTO:+0200
TZNAME:CEST
DTSTART:20250330T010000
END:DAYLIGHT
BEGIN:STANDARD
TZOFFSETFROM:+0200
TZOFFSETTO:+0100
TZNAME:CET
DTSTART:20251026T010000
END:STANDARD
TZID:Europe/Helsinki
BEGIN:DAYLIGHT
TZOFFSETFROM:+0200
TZOFFSETTO:+0300
TZNAME:EEST
DTSTART:20250330T010000
END:DAYLIGHT
BEGIN:STANDARD
TZOFFSETFROM:+0300
TZOFFSETTO:+0200
TZNAME:EET
DTSTART:20251026T010000
END:STANDARD
END:VTIMEZONE
BEGIN:VEVENT
DTSTART;TZID=Europe/Warsaw:20250618T173000
DTEND;TZID=Europe/Warsaw:20250618T184500
DTSTAMP:20260421T174848
CREATED:20250526T091639Z
LAST-MODIFIED:20250526T091639Z
UID:10000497-1750267800-1750272300@gardenshala.pl
SUMMARY:Joga dla początkujących
DESCRIPTION:Łagodne i płynne wejście w praktykę jogi z Gosią.
URL:https://gardenshala.pl/yoga/joga-dla-poczatkujacych-26/
LOCATION:Garden Shala\, Czołgistów 13\, Łódź\, 94-217\, Poland
END:VEVENT
BEGIN:VEVENT
DTSTART;TZID=Europe/Warsaw:20250618T190000
DTEND;TZID=Europe/Warsaw:20250618T203000
DTSTAMP:20260421T174848
CREATED:20250526T162414Z
LAST-MODIFIED:20250526T162414Z
UID:10000531-1750273200-1750278600@gardenshala.pl
SUMMARY:Ashtanga Asana Lab
DESCRIPTION:Praktyka poświęcona poszczególnym asanom z I i II serii Ashtangi. \nOmówienie techniki\, wariantów i sposobów wprowadzenia ciała w pozycje. \nPodczas zajęć przewidziana jest także praca z oddechem (Pranayama) i praktyki uważności (medytacja). \nProwadząca: Julia
URL:https://gardenshala.pl/yoga/ashtanga-asana-lab-2/
LOCATION:Garden Shala\, Czołgistów 13\, Łódź\, 94-217\, Poland
END:VEVENT
BEGIN:VEVENT
DTSTART;TZID=Europe/Helsinki:20250619T100000
DTEND;TZID=Europe/Helsinki:20250619T111500
DTSTAMP:20260421T174848
CREATED:20250526T091724Z
LAST-MODIFIED:20250614T172919Z
UID:10000498-1750327200-1750331700@gardenshala.pl
SUMMARY:Hatha Joga
DESCRIPTION:Statyczna praktyka pozycji jogi z elementami technik oddechowych i medytacji. \nJoga ogólna. \nProwadząca: Weronika
URL:https://gardenshala.pl/yoga/hatha-joga-31/
LOCATION:Garden Shala\, Czołgistów 13\, Łódź\, 94-217\, Poland
END:VEVENT
BEGIN:VEVENT
DTSTART;TZID=Europe/Helsinki:20250619T113000
DTEND;TZID=Europe/Helsinki:20250619T130000
DTSTAMP:20260421T174848
CREATED:20250614T173033Z
LAST-MODIFIED:20250614T173140Z
UID:10000523-1750332600-1750338000@gardenshala.pl
SUMMARY:Ashtanga dla początkujących
DESCRIPTION:Wprowadzenie do I serii Ashtanga Jogi \nProwadząca: Mariana
URL:https://gardenshala.pl/yoga/ashtanga-dla-poczatkujacych-38/
LOCATION:Garden Shala\, Czołgistów 13\, Łódź\, 94-217\, Poland
END:VEVENT
BEGIN:VEVENT
DTSTART;TZID=Europe/Warsaw:20250620T173000
DTEND;TZID=Europe/Warsaw:20250620T184500
DTSTAMP:20260421T174848
CREATED:20250526T091815Z
LAST-MODIFIED:20250526T091815Z
UID:10000500-1750440600-1750445100@gardenshala.pl
SUMMARY:Movement & Prana
DESCRIPTION:Trening oddechowy połączony z ruchem\nProwadząca: Ola
URL:https://gardenshala.pl/yoga/movement-prana-15/
LOCATION:Garden Shala\, Czołgistów 13\, Łódź\, 94-217\, Poland
END:VEVENT
BEGIN:VEVENT
DTSTART;TZID=Europe/Helsinki:20250620T185000
DTEND;TZID=Europe/Helsinki:20250620T202000
DTSTAMP:20260421T174848
CREATED:20250526T091836Z
LAST-MODIFIED:20250526T091836Z
UID:10000501-1750445400-1750450800@gardenshala.pl
SUMMARY:Ashtanga - wstęp do II serii
DESCRIPTION:Wprowadzenie do II serii Ashtanga Jogi \nProwadząca: Julia
URL:https://gardenshala.pl/yoga/ashtanga-wstep-do-ii-serii-16/
LOCATION:Garden Shala\, Czołgistów 13\, Łódź\, 94-217\, Poland
END:VEVENT
BEGIN:VEVENT
DTSTART;TZID=Europe/Helsinki:20250621T090000
DTEND;TZID=Europe/Helsinki:20250621T104500
DTSTAMP:20260421T174848
CREATED:20250526T091909Z
LAST-MODIFIED:20250526T091909Z
UID:10000502-1750496400-1750502700@gardenshala.pl
SUMMARY:Ashtanga Mysore
DESCRIPTION:Mysore – praktyka własna pod przewodnictwem nauczyciela \nProwadząca: Julia
URL:https://gardenshala.pl/yoga/ashtanga-mysore-33/
LOCATION:Garden Shala\, Czołgistów 13\, Łódź\, 94-217\, Poland
END:VEVENT
BEGIN:VEVENT
DTSTART;TZID=Europe/Warsaw:20250621T110000
DTEND;TZID=Europe/Warsaw:20250621T133000
DTSTAMP:20260421T174848
CREATED:20250607T182815Z
LAST-MODIFIED:20250607T182815Z
UID:10000534-1750503600-1750512600@gardenshala.pl
SUMMARY:Międzynarodowy Dzień Jogi - Taniec Smoka
DESCRIPTION:Sekwencja Smoka wraz z legendą \nPraktyka jogi\, oddechu i medytacji \nProwadzące: \nAleksandra Wietecha i Julia Zabost \nkoszt: 140 zł (50% kwoty płatne przy zapisie\, gwarancja rezerwacji miejsca)
URL:https://gardenshala.pl/yoga/miedzynarodowy-dzien-jogi-taniec-smoka/
LOCATION:Garden Shala\, Czołgistów 13\, Łódź\, 94-217\, Poland
END:VEVENT
BEGIN:VEVENT
DTSTART;TZID=Europe/Helsinki:20250622T100000
DTEND;TZID=Europe/Helsinki:20250622T111500
DTSTAMP:20260421T174848
CREATED:20250526T091940Z
LAST-MODIFIED:20250526T091940Z
UID:10000503-1750586400-1750590900@gardenshala.pl
SUMMARY:Vinyasa Joga
DESCRIPTION:Energia i Pobudzenie \nPraktyka jogi mająca na celu rozbudzenie ciała i umysłu – czyli idealny sposób na rozpoczęcie niedzieli! \nProwadząca: Gosia Szczepańska
URL:https://gardenshala.pl/yoga/vinyasa-joga-20/
LOCATION:Garden Shala\, Czołgistów 13\, Łódź\, 94-217\, Poland
END:VEVENT
BEGIN:VEVENT
DTSTART;TZID=Europe/Warsaw:20250622T113000
DTEND;TZID=Europe/Warsaw:20250622T124500
DTSTAMP:20260421T174848
CREATED:20250526T092004Z
LAST-MODIFIED:20250619T080127Z
UID:10000504-1750591800-1750596300@gardenshala.pl
SUMMARY:Łagodna Vinyasa & Joga Nidra
DESCRIPTION:Łagodny\, płynny ruch połączony z oddechem. \nPraktyka zakończona głęboką relaksacją jogi nidry. \nProwadząca: Gosia Szczepańską
URL:https://gardenshala.pl/yoga/lagodna-vinyasa-joga-nidra-17/
LOCATION:Garden Shala\, Czołgistów 13\, Łódź\, 94-217\, Poland
END:VEVENT
BEGIN:VEVENT
DTSTART;TZID=Europe/Warsaw:20250623T173000
DTEND;TZID=Europe/Warsaw:20250623T184500
DTSTAMP:20260421T174848
CREATED:20250526T160123Z
LAST-MODIFIED:20250526T160123Z
UID:10000505-1750699800-1750704300@gardenshala.pl
SUMMARY:Joga dla początkujących
DESCRIPTION:Solidna podstawa do praktyki jogi\, prawidłowego wykonywania asan oraz pracy z oddechem. \nProwadząca: Ola Wietecha-Drobik
URL:https://gardenshala.pl/yoga/joga-dla-poczatkujacych-27/
LOCATION:Garden Shala\, Czołgistów 13\, Łódź\, 94-217\, Poland
END:VEVENT
BEGIN:VEVENT
DTSTART;TZID=Europe/Helsinki:20250623T185000
DTEND;TZID=Europe/Helsinki:20250623T202000
DTSTAMP:20260421T174848
CREATED:20250526T160143Z
LAST-MODIFIED:20250526T160143Z
UID:10000506-1750704600-1750710000@gardenshala.pl
SUMMARY:Hatha Joga
DESCRIPTION:Statyczna praktyka pozycji jogi z elementami technik oddechowych i medytacji. \nProwadząca: Ola
URL:https://gardenshala.pl/yoga/hatha-joga-32/
LOCATION:Garden Shala\, Czołgistów 13\, Łódź\, 94-217\, Poland
END:VEVENT
BEGIN:VEVENT
DTSTART;TZID=Europe/Helsinki:20250624T173000
DTEND;TZID=Europe/Helsinki:20250624T183000
DTSTAMP:20260421T174848
CREATED:20250526T160215Z
LAST-MODIFIED:20250526T160215Z
UID:10000507-1750786200-1750789800@gardenshala.pl
SUMMARY:Ashtanga dla początkujących
DESCRIPTION:Wprowadzenie do I serii Ashtanga Jogi \nProwadząca: Agnieszka
URL:https://gardenshala.pl/yoga/ashtanga-dla-poczatkujacych-34/
LOCATION:Garden Shala\, Czołgistów 13\, Łódź\, 94-217\, Poland
END:VEVENT
BEGIN:VEVENT
DTSTART;TZID=Europe/Helsinki:20250624T184500
DTEND;TZID=Europe/Helsinki:20250624T201500
DTSTAMP:20260421T174848
CREATED:20250526T160245Z
LAST-MODIFIED:20250526T160245Z
UID:10000508-1750790700-1750796100@gardenshala.pl
SUMMARY:Ashtanga Mysore
DESCRIPTION:Mysore – praktyka własna Ashtanga Jogi pod przewodnictwem nauczyciela. \nProwadząca: Agnieszka
URL:https://gardenshala.pl/yoga/ashtanga-mysore-34/
LOCATION:Garden Shala\, Czołgistów 13\, Łódź\, 94-217\, Poland
END:VEVENT
BEGIN:VEVENT
DTSTART;TZID=Europe/Warsaw:20250625T173000
DTEND;TZID=Europe/Warsaw:20250625T184500
DTSTAMP:20260421T174848
CREATED:20250526T160304Z
LAST-MODIFIED:20250526T160304Z
UID:10000509-1750872600-1750877100@gardenshala.pl
SUMMARY:Joga dla początkujących
DESCRIPTION:Łagodne i płynne wejście w praktykę jogi z Gosią.
URL:https://gardenshala.pl/yoga/joga-dla-poczatkujacych-28/
LOCATION:Garden Shala\, Czołgistów 13\, Łódź\, 94-217\, Poland
END:VEVENT
BEGIN:VEVENT
DTSTART;TZID=Europe/Warsaw:20250625T190000
DTEND;TZID=Europe/Warsaw:20250625T203000
DTSTAMP:20260421T174848
CREATED:20250526T162459Z
LAST-MODIFIED:20250526T162459Z
UID:10000532-1750878000-1750883400@gardenshala.pl
SUMMARY:Ashtanga Asana Lab
DESCRIPTION:Praktyka poświęcona poszczególnym asanom z I i II serii Ashtangi. \nOmówienie techniki\, wariantów i sposobów wprowadzenia ciała w pozycje. \nPodczas zajęć przewidziana jest także praca z oddechem (Pranayama) i praktyki uważności (medytacja). \nProwadząca: Julia
URL:https://gardenshala.pl/yoga/ashtanga-asana-lab-3/
LOCATION:Garden Shala\, Czołgistów 13\, Łódź\, 94-217\, Poland
END:VEVENT
BEGIN:VEVENT
DTSTART;TZID=Europe/Helsinki:20250626T173000
DTEND;TZID=Europe/Helsinki:20250626T184500
DTSTAMP:20260421T174848
CREATED:20250526T160924Z
LAST-MODIFIED:20250526T160924Z
UID:10000510-1750959000-1750963500@gardenshala.pl
SUMMARY:Hatha Joga
DESCRIPTION:Statyczna praktyka pozycji jogi z elementami technik oddechowych i medytacji. \nJoga ogólna. \nProwadząca: Weronika
URL:https://gardenshala.pl/yoga/hatha-joga-33/
LOCATION:Garden Shala\, Czołgistów 13\, Łódź\, 94-217\, Poland
END:VEVENT
BEGIN:VEVENT
DTSTART;TZID=Europe/Helsinki:20250626T190000
DTEND;TZID=Europe/Helsinki:20250626T203000
DTSTAMP:20260421T174848
CREATED:20250526T160941Z
LAST-MODIFIED:20250526T160941Z
UID:10000511-1750964400-1750969800@gardenshala.pl
SUMMARY:Ashtanga dla początkujących
DESCRIPTION:Wprowadzenie do I serii Ashtanga Jogi \nProwadząca: Mariana
URL:https://gardenshala.pl/yoga/ashtanga-dla-poczatkujacych-35/
LOCATION:Garden Shala\, Czołgistów 13\, Łódź\, 94-217\, Poland
END:VEVENT
BEGIN:VEVENT
DTSTART;TZID=Europe/Warsaw:20250627T173000
DTEND;TZID=Europe/Warsaw:20250627T184500
DTSTAMP:20260421T174848
CREATED:20250526T161017Z
LAST-MODIFIED:20250526T161017Z
UID:10000512-1751045400-1751049900@gardenshala.pl
SUMMARY:Movement & Prana
DESCRIPTION:Trening oddechowy połączony z ruchem\nProwadząca: Ola
URL:https://gardenshala.pl/yoga/movement-prana-16/
LOCATION:Garden Shala\, Czołgistów 13\, Łódź\, 94-217\, Poland
END:VEVENT
BEGIN:VEVENT
DTSTART;TZID=Europe/Helsinki:20250627T185000
DTEND;TZID=Europe/Helsinki:20250627T202000
DTSTAMP:20260421T174848
CREATED:20250526T161036Z
LAST-MODIFIED:20250526T161036Z
UID:10000513-1751050200-1751055600@gardenshala.pl
SUMMARY:Ashtanga - wstęp do II serii
DESCRIPTION:Wprowadzenie do II serii Ashtanga Jogi \nProwadząca: Julia
URL:https://gardenshala.pl/yoga/ashtanga-wstep-do-ii-serii-17/
LOCATION:Garden Shala\, Czołgistów 13\, Łódź\, 94-217\, Poland
END:VEVENT
BEGIN:VEVENT
DTSTART;TZID=Europe/Helsinki:20250628T090000
DTEND;TZID=Europe/Helsinki:20250628T104500
DTSTAMP:20260421T174848
CREATED:20250526T161110Z
LAST-MODIFIED:20250526T161110Z
UID:10000514-1751101200-1751107500@gardenshala.pl
SUMMARY:Ashtanga Mysore
DESCRIPTION:Mysore – praktyka własna pod przewodnictwem nauczyciela \nProwadząca: Julia
URL:https://gardenshala.pl/yoga/ashtanga-mysore-35/
LOCATION:Garden Shala\, Czołgistów 13\, Łódź\, 94-217\, Poland
END:VEVENT
BEGIN:VEVENT
DTSTART;TZID=Europe/Helsinki:20250629T100000
DTEND;TZID=Europe/Helsinki:20250629T111500
DTSTAMP:20260421T174848
CREATED:20250526T161140Z
LAST-MODIFIED:20250526T161140Z
UID:10000515-1751191200-1751195700@gardenshala.pl
SUMMARY:Vinyasa Joga
DESCRIPTION:Energia i Pobudzenie \nPraktyka jogi mająca na celu rozbudzenie ciała i umysłu – czyli idealny sposób na rozpoczęcie niedzieli! \nProwadząca: Gosia Szczepańska
URL:https://gardenshala.pl/yoga/vinyasa-joga-21/
LOCATION:Garden Shala\, Czołgistów 13\, Łódź\, 94-217\, Poland
END:VEVENT
BEGIN:VEVENT
DTSTART;TZID=Europe/Warsaw:20250629T113000
DTEND;TZID=Europe/Warsaw:20250629T124500
DTSTAMP:20260421T174848
CREATED:20250526T161208Z
LAST-MODIFIED:20250619T080157Z
UID:10000516-1751196600-1751201100@gardenshala.pl
SUMMARY:Łagodna Vinyasa & Joga Nidra
DESCRIPTION:Łagodny\, płynny ruch połączony z oddechem. \nPraktyka zakończona głęboką relaksacją jogi nidry. \nProwadząca: Gosia Szczepańską
URL:https://gardenshala.pl/yoga/lagodna-vinyasa-joga-nidra-18/
LOCATION:Garden Shala\, Czołgistów 13\, Łódź\, 94-217\, Poland
END:VEVENT
BEGIN:VEVENT
DTSTART;TZID=Europe/Warsaw:20250630T173000
DTEND;TZID=Europe/Warsaw:20250630T184500
DTSTAMP:20260421T174848
CREATED:20250526T161240Z
LAST-MODIFIED:20250526T161240Z
UID:10000517-1751304600-1751309100@gardenshala.pl
SUMMARY:Joga dla początkujących
DESCRIPTION:Solidna podstawa do praktyki jogi\, prawidłowego wykonywania asan oraz pracy z oddechem. \nProwadząca: Ola Wietecha-Drobik
URL:https://gardenshala.pl/yoga/joga-dla-poczatkujacych-29/
LOCATION:Garden Shala\, Czołgistów 13\, Łódź\, 94-217\, Poland
END:VEVENT
BEGIN:VEVENT
DTSTART;TZID=Europe/Helsinki:20250630T185000
DTEND;TZID=Europe/Helsinki:20250630T202000
DTSTAMP:20260421T174848
CREATED:20250526T161258Z
LAST-MODIFIED:20250526T161258Z
UID:10000518-1751309400-1751314800@gardenshala.pl
SUMMARY:Hatha Joga
DESCRIPTION:Statyczna praktyka pozycji jogi z elementami technik oddechowych i medytacji. \nProwadząca: Ola
URL:https://gardenshala.pl/yoga/hatha-joga-34/
LOCATION:Garden Shala\, Czołgistów 13\, Łódź\, 94-217\, Poland
END:VEVENT
BEGIN:VEVENT
DTSTART;TZID=Europe/Helsinki:20250701T173000
DTEND;TZID=Europe/Helsinki:20250701T183000
DTSTAMP:20260421T174848
CREATED:20250526T161337Z
LAST-MODIFIED:20250526T161337Z
UID:10000519-1751391000-1751394600@gardenshala.pl
SUMMARY:Ashtanga dla początkujących
DESCRIPTION:Wprowadzenie do I serii Ashtanga Jogi \nProwadząca: Agnieszka
URL:https://gardenshala.pl/yoga/ashtanga-dla-poczatkujacych-36/
LOCATION:Garden Shala\, Czołgistów 13\, Łódź\, 94-217\, Poland
END:VEVENT
BEGIN:VEVENT
DTSTART;TZID=Europe/Helsinki:20250701T184500
DTEND;TZID=Europe/Helsinki:20250701T201500
DTSTAMP:20260421T174848
CREATED:20250526T161357Z
LAST-MODIFIED:20250526T161357Z
UID:10000520-1751395500-1751400900@gardenshala.pl
SUMMARY:Ashtanga Mysore
DESCRIPTION:Mysore – praktyka własna Ashtanga Jogi pod przewodnictwem nauczyciela. \nProwadząca: Agnieszka
URL:https://gardenshala.pl/yoga/ashtanga-mysore-36/
LOCATION:Garden Shala\, Czołgistów 13\, Łódź\, 94-217\, Poland
END:VEVENT
BEGIN:VEVENT
DTSTART;TZID=Europe/Warsaw:20250702T173000
DTEND;TZID=Europe/Warsaw:20250702T184500
DTSTAMP:20260421T174848
CREATED:20250526T161430Z
LAST-MODIFIED:20250526T161430Z
UID:10000521-1751477400-1751481900@gardenshala.pl
SUMMARY:Joga dla początkujących
DESCRIPTION:Łagodne i płynne wejście w praktykę jogi z Gosią.
URL:https://gardenshala.pl/yoga/joga-dla-poczatkujacych-30/
LOCATION:Garden Shala\, Czołgistów 13\, Łódź\, 94-217\, Poland
END:VEVENT
BEGIN:VEVENT
DTSTART;TZID=Europe/Warsaw:20250702T190000
DTEND;TZID=Europe/Warsaw:20250702T203000
DTSTAMP:20260421T174848
CREATED:20250526T162540Z
LAST-MODIFIED:20250526T162540Z
UID:10000533-1751482800-1751488200@gardenshala.pl
SUMMARY:Ashtanga Asana Lab
DESCRIPTION:Praktyka poświęcona poszczególnym asanom z I i II serii Ashtangi. \nOmówienie techniki\, wariantów i sposobów wprowadzenia ciała w pozycje. \nPodczas zajęć przewidziana jest także praca z oddechem (Pranayama) i praktyki uważności (medytacja). \nProwadząca: Julia
URL:https://gardenshala.pl/yoga/ashtanga-asana-lab-4/
LOCATION:Garden Shala\, Czołgistów 13\, Łódź\, 94-217\, Poland
END:VEVENT
BEGIN:VEVENT
DTSTART;TZID=Europe/Helsinki:20250703T173000
DTEND;TZID=Europe/Helsinki:20250703T184500
DTSTAMP:20260421T174848
CREATED:20250526T161502Z
LAST-MODIFIED:20250526T161502Z
UID:10000522-1751563800-1751568300@gardenshala.pl
SUMMARY:Hatha Joga
DESCRIPTION:Statyczna praktyka pozycji jogi z elementami technik oddechowych i medytacji. \nJoga ogólna. \nProwadząca: Weronika
URL:https://gardenshala.pl/yoga/hatha-joga-35/
LOCATION:Garden Shala\, Czołgistów 13\, Łódź\, 94-217\, Poland
END:VEVENT
END:VCALENDAR