BEGIN:VCALENDAR
VERSION:2.0
PRODID:-//GARDEN SHALA - ECPv6.7.1//NONSGML v1.0//EN
CALSCALE:GREGORIAN
METHOD:PUBLISH
X-ORIGINAL-URL:https://gardenshala.pl
X-WR-CALDESC:Events for GARDEN SHALA
REFRESH-INTERVAL;VALUE=DURATION:PT1H
X-Robots-Tag:noindex
X-PUBLISHED-TTL:PT1H
BEGIN:VTIMEZONE
TZID:Europe/Helsinki
BEGIN:DAYLIGHT
TZOFFSETFROM:+0200
TZOFFSETTO:+0300
TZNAME:EEST
DTSTART:20250330T010000
END:DAYLIGHT
BEGIN:STANDARD
TZOFFSETFROM:+0300
TZOFFSETTO:+0200
TZNAME:EET
DTSTART:20251026T010000
END:STANDARD
TZID:Europe/Warsaw
BEGIN:DAYLIGHT
TZOFFSETFROM:+0100
TZOFFSETTO:+0200
TZNAME:CEST
DTSTART:20250330T010000
END:DAYLIGHT
BEGIN:STANDARD
TZOFFSETFROM:+0200
TZOFFSETTO:+0100
TZNAME:CET
DTSTART:20251026T010000
END:STANDARD
END:VTIMEZONE
BEGIN:VEVENT
DTSTART;TZID=Europe/Helsinki:20250717T173000
DTEND;TZID=Europe/Helsinki:20250717T184500
DTSTAMP:20260421T152756
CREATED:20250626T110916Z
LAST-MODIFIED:20250626T110916Z
UID:10000564-1752773400-1752777900@gardenshala.pl
SUMMARY:Hatha Joga
DESCRIPTION:Statyczna praktyka pozycji jogi z elementami technik oddechowych i medytacji. \nJoga ogólna. \nProwadząca: Weronika
URL:https://gardenshala.pl/yoga/hatha-joga-41/
LOCATION:Garden Shala\, Czołgistów 13\, Łódź\, 94-217\, Poland
END:VEVENT
BEGIN:VEVENT
DTSTART;TZID=Europe/Helsinki:20250717T190000
DTEND;TZID=Europe/Helsinki:20250717T203000
DTSTAMP:20260421T152756
CREATED:20250626T110938Z
LAST-MODIFIED:20250626T110938Z
UID:10000565-1752778800-1752784200@gardenshala.pl
SUMMARY:Ashtanga dla początkujących
DESCRIPTION:Wprowadzenie do I serii Ashtanga Jogi \nProwadząca: Mariana
URL:https://gardenshala.pl/yoga/ashtanga-dla-poczatkujacych-44/
LOCATION:Garden Shala\, Czołgistów 13\, Łódź\, 94-217\, Poland
END:VEVENT
BEGIN:VEVENT
DTSTART;TZID=Europe/Warsaw:20250718T173000
DTEND;TZID=Europe/Warsaw:20250718T184500
DTSTAMP:20260421T152756
CREATED:20250626T111351Z
LAST-MODIFIED:20250626T111351Z
UID:10000574-1752859800-1752864300@gardenshala.pl
SUMMARY:Movement & Prana
DESCRIPTION:Trening oddechowy połączony z ruchem\nProwadząca: Ola
URL:https://gardenshala.pl/yoga/movement-prana-19/
LOCATION:Garden Shala\, Czołgistów 13\, Łódź\, 94-217\, Poland
END:VEVENT
BEGIN:VEVENT
DTSTART;TZID=Europe/Helsinki:20250718T185000
DTEND;TZID=Europe/Helsinki:20250718T202000
DTSTAMP:20260421T152756
CREATED:20250626T111444Z
LAST-MODIFIED:20250626T111444Z
UID:10000577-1752864600-1752870000@gardenshala.pl
SUMMARY:Ashtanga - wstęp do II serii
DESCRIPTION:Wprowadzenie do II serii Ashtanga Jogi \nProwadząca: Julia
URL:https://gardenshala.pl/yoga/ashtanga-wstep-do-ii-serii-20/
LOCATION:Garden Shala\, Czołgistów 13\, Łódź\, 94-217\, Poland
END:VEVENT
BEGIN:VEVENT
DTSTART;TZID=Europe/Helsinki:20250719T090000
DTEND;TZID=Europe/Helsinki:20250719T104500
DTSTAMP:20260421T152756
CREATED:20250626T111228Z
LAST-MODIFIED:20250626T111228Z
UID:10000570-1752915600-1752921900@gardenshala.pl
SUMMARY:Ashtanga Mysore
DESCRIPTION:Mysore – praktyka własna pod przewodnictwem nauczyciela \nProwadząca: Mariana
URL:https://gardenshala.pl/yoga/ashtanga-mysore-43/
LOCATION:Garden Shala\, Czołgistów 13\, Łódź\, 94-217\, Poland
END:VEVENT
BEGIN:VEVENT
DTSTART;TZID=Europe/Helsinki:20250720T100000
DTEND;TZID=Europe/Helsinki:20250720T111500
DTSTAMP:20260421T152756
CREATED:20250626T111835Z
LAST-MODIFIED:20250626T111835Z
UID:10000585-1753005600-1753010100@gardenshala.pl
SUMMARY:Vinyasa Joga
DESCRIPTION:Energia i Pobudzenie \nPraktyka jogi mająca na celu rozbudzenie ciała i umysłu – czyli idealny sposób na rozpoczęcie niedzieli! \nProwadząca: Gosia Szczepańska
URL:https://gardenshala.pl/yoga/vinyasa-joga-24/
LOCATION:Garden Shala\, Czołgistów 13\, Łódź\, 94-217\, Poland
END:VEVENT
BEGIN:VEVENT
DTSTART;TZID=Europe/Warsaw:20250720T113000
DTEND;TZID=Europe/Warsaw:20250720T124500
DTSTAMP:20260421T152756
CREATED:20250626T111904Z
LAST-MODIFIED:20250626T111904Z
UID:10000586-1753011000-1753015500@gardenshala.pl
SUMMARY:Łagodna Vinyasa & Joga Nidra
DESCRIPTION:Łagodny\, płynny ruch połączony z oddechem. \nPraktyka zakończona głęboką relaksacją jogi nidry. \nProwadząca: Gosia Szczepańską
URL:https://gardenshala.pl/yoga/lagodna-vinyasa-joga-nidra-21/
LOCATION:Garden Shala\, Czołgistów 13\, Łódź\, 94-217\, Poland
END:VEVENT
BEGIN:VEVENT
DTSTART;TZID=Europe/Warsaw:20250720T170000
DTEND;TZID=Europe/Warsaw:20250720T183000
DTSTAMP:20260421T152756
CREATED:20250718T120025Z
LAST-MODIFIED:20250718T120025Z
UID:10000629-1753030800-1753036200@gardenshala.pl
SUMMARY:Kobiece Spotkanie z Gosią - wspólny krąg\, rozmowa
DESCRIPTION:Dołącz do kobiecego grona pełnego akceptacji i otwartości. \nDaj przestrzeń temu\, co w Tobie\, by wybrzmiało. \nInwestycja: 30 zł \nMałgorzata Szczepańską
URL:https://gardenshala.pl/yoga/kobiece-spotkanie-z-gosia-wspolny-krag-rozmowa/
LOCATION:Garden Shala\, Czołgistów 13\, Łódź\, 94-217\, Poland
END:VEVENT
BEGIN:VEVENT
DTSTART;TZID=Europe/Warsaw:20250721T173000
DTEND;TZID=Europe/Warsaw:20250721T184500
DTSTAMP:20260421T152756
CREATED:20250626T105744Z
LAST-MODIFIED:20250626T105744Z
UID:10000540-1753119000-1753123500@gardenshala.pl
SUMMARY:Joga dla początkujących
DESCRIPTION:Solidna podstawa do praktyki jogi\, prawidłowego wykonywania asan oraz pracy z oddechem. \nProwadząca: Ola Wietecha-Drobik
URL:https://gardenshala.pl/yoga/joga-dla-poczatkujacych-33/
LOCATION:Garden Shala\, Czołgistów 13\, Łódź\, 94-217\, Poland
END:VEVENT
BEGIN:VEVENT
DTSTART;TZID=Europe/Helsinki:20250721T185000
DTEND;TZID=Europe/Helsinki:20250721T202000
DTSTAMP:20260421T152756
CREATED:20250626T105809Z
LAST-MODIFIED:20250626T105809Z
UID:10000541-1753123800-1753129200@gardenshala.pl
SUMMARY:Hatha Joga
DESCRIPTION:Statyczna praktyka pozycji jogi z elementami technik oddechowych i medytacji. \nProwadząca: Ola
URL:https://gardenshala.pl/yoga/hatha-joga-38/
LOCATION:Garden Shala\, Czołgistów 13\, Łódź\, 94-217\, Poland
END:VEVENT
BEGIN:VEVENT
DTSTART;TZID=Europe/Helsinki:20250722T173000
DTEND;TZID=Europe/Helsinki:20250722T183000
DTSTAMP:20260421T152756
CREATED:20250626T110221Z
LAST-MODIFIED:20250626T110221Z
UID:10000548-1753205400-1753209000@gardenshala.pl
SUMMARY:Ashtanga dla początkujących
DESCRIPTION:Wprowadzenie do I serii Ashtanga Jogi \nProwadząca: Julia
URL:https://gardenshala.pl/yoga/ashtanga-dla-poczatkujacych-41/
LOCATION:Garden Shala\, Czołgistów 13\, Łódź\, 94-217\, Poland
END:VEVENT
BEGIN:VEVENT
DTSTART;TZID=Europe/Helsinki:20250722T184500
DTEND;TZID=Europe/Helsinki:20250722T201500
DTSTAMP:20260421T152756
CREATED:20250626T110136Z
LAST-MODIFIED:20250626T110202Z
UID:10000547-1753209900-1753215300@gardenshala.pl
SUMMARY:Ashtanga Mysore
DESCRIPTION:Mysore – praktyka własna Ashtanga Jogi pod przewodnictwem nauczyciela. \nProwadząca: Julia
URL:https://gardenshala.pl/yoga/ashtanga-mysore-39/
LOCATION:Garden Shala\, Czołgistów 13\, Łódź\, 94-217\, Poland
END:VEVENT
BEGIN:VEVENT
DTSTART;TZID=Europe/Warsaw:20250723T173000
DTEND;TZID=Europe/Warsaw:20250723T184500
DTSTAMP:20260421T152756
CREATED:20250626T110629Z
LAST-MODIFIED:20250626T110629Z
UID:10000558-1753291800-1753296300@gardenshala.pl
SUMMARY:Joga dla początkujących
DESCRIPTION:Łagodne i płynne wejście w praktykę jogi z Gosią.
URL:https://gardenshala.pl/yoga/joga-dla-poczatkujacych-37/
LOCATION:Garden Shala\, Czołgistów 13\, Łódź\, 94-217\, Poland
END:VEVENT
BEGIN:VEVENT
DTSTART;TZID=Europe/Warsaw:20250723T190000
DTEND;TZID=Europe/Warsaw:20250723T203000
DTSTAMP:20260421T152756
CREATED:20250626T110658Z
LAST-MODIFIED:20250626T110658Z
UID:10000559-1753297200-1753302600@gardenshala.pl
SUMMARY:Ashtanga Asana Lab
DESCRIPTION:Praktyka poświęcona poszczególnym asanom z I i II serii Ashtangi. \nOmówienie techniki\, wariantów i sposobów wprowadzenia ciała w pozycje. \nPodczas zajęć przewidziana jest także praca z oddechem (Pranayama) i praktyki uważności (medytacja). \nProwadząca: Julia
URL:https://gardenshala.pl/yoga/ashtanga-asana-lab-7/
LOCATION:Garden Shala\, Czołgistów 13\, Łódź\, 94-217\, Poland
END:VEVENT
BEGIN:VEVENT
DTSTART;TZID=Europe/Helsinki:20250724T173000
DTEND;TZID=Europe/Helsinki:20250724T184500
DTSTAMP:20260421T152756
CREATED:20250626T111006Z
LAST-MODIFIED:20250626T111006Z
UID:10000566-1753378200-1753382700@gardenshala.pl
SUMMARY:Hatha Joga
DESCRIPTION:Statyczna praktyka pozycji jogi z elementami technik oddechowych i medytacji. \nJoga ogólna. \nProwadząca: Weronika
URL:https://gardenshala.pl/yoga/hatha-joga-42/
LOCATION:Garden Shala\, Czołgistów 13\, Łódź\, 94-217\, Poland
END:VEVENT
BEGIN:VEVENT
DTSTART;TZID=Europe/Helsinki:20250724T190000
DTEND;TZID=Europe/Helsinki:20250724T203000
DTSTAMP:20260421T152756
CREATED:20250626T111037Z
LAST-MODIFIED:20250626T111037Z
UID:10000567-1753383600-1753389000@gardenshala.pl
SUMMARY:Ashtanga dla początkujących
DESCRIPTION:Wprowadzenie do I serii Ashtanga Jogi \nProwadząca: Mariana
URL:https://gardenshala.pl/yoga/ashtanga-dla-poczatkujacych-45/
LOCATION:Garden Shala\, Czołgistów 13\, Łódź\, 94-217\, Poland
END:VEVENT
BEGIN:VEVENT
DTSTART;TZID=Europe/Warsaw:20250725T173000
DTEND;TZID=Europe/Warsaw:20250725T184500
DTSTAMP:20260421T152756
CREATED:20250626T111458Z
LAST-MODIFIED:20250626T111458Z
UID:10000576-1753464600-1753469100@gardenshala.pl
SUMMARY:Movement & Prana
DESCRIPTION:Trening oddechowy połączony z ruchem\nProwadząca: Ola
URL:https://gardenshala.pl/yoga/movement-prana-20/
LOCATION:Garden Shala\, Czołgistów 13\, Łódź\, 94-217\, Poland
END:VEVENT
BEGIN:VEVENT
DTSTART;TZID=Europe/Helsinki:20250725T185000
DTEND;TZID=Europe/Helsinki:20250725T202000
DTSTAMP:20260421T152756
CREATED:20250626T111656Z
LAST-MODIFIED:20250626T111656Z
UID:10000581-1753469400-1753474800@gardenshala.pl
SUMMARY:Ashtanga - wstęp do II serii
DESCRIPTION:Wprowadzenie do II serii Ashtanga Jogi \nProwadząca: Julia
URL:https://gardenshala.pl/yoga/ashtanga-wstep-do-ii-serii-22/
LOCATION:Garden Shala\, Czołgistów 13\, Łódź\, 94-217\, Poland
END:VEVENT
BEGIN:VEVENT
DTSTART;TZID=Europe/Helsinki:20250726T090000
DTEND;TZID=Europe/Helsinki:20250726T104500
DTSTAMP:20260421T152756
CREATED:20250626T111244Z
LAST-MODIFIED:20250626T111244Z
UID:10000571-1753520400-1753526700@gardenshala.pl
SUMMARY:Ashtanga Mysore
DESCRIPTION:Mysore – praktyka własna pod przewodnictwem nauczyciela \nProwadząca: Julia
URL:https://gardenshala.pl/yoga/ashtanga-mysore-44/
LOCATION:Garden Shala\, Czołgistów 13\, Łódź\, 94-217\, Poland
END:VEVENT
BEGIN:VEVENT
DTSTART;TZID=Europe/Helsinki:20250727T100000
DTEND;TZID=Europe/Helsinki:20250727T111500
DTSTAMP:20260421T152756
CREATED:20250626T111920Z
LAST-MODIFIED:20250626T111920Z
UID:10000587-1753610400-1753614900@gardenshala.pl
SUMMARY:Vinyasa Joga
DESCRIPTION:Energia i Pobudzenie \nPraktyka jogi mająca na celu rozbudzenie ciała i umysłu – czyli idealny sposób na rozpoczęcie niedzieli! \nProwadząca: Gosia Szczepańska
URL:https://gardenshala.pl/yoga/vinyasa-joga-25/
LOCATION:Garden Shala\, Czołgistów 13\, Łódź\, 94-217\, Poland
END:VEVENT
BEGIN:VEVENT
DTSTART;TZID=Europe/Warsaw:20250727T113000
DTEND;TZID=Europe/Warsaw:20250727T124500
DTSTAMP:20260421T152756
CREATED:20250626T111947Z
LAST-MODIFIED:20250626T111947Z
UID:10000588-1753615800-1753620300@gardenshala.pl
SUMMARY:Łagodna Vinyasa & Joga Nidra
DESCRIPTION:Łagodny\, płynny ruch połączony z oddechem. \nPraktyka zakończona głęboką relaksacją jogi nidry. \nProwadząca: Gosia Szczepańską
URL:https://gardenshala.pl/yoga/lagodna-vinyasa-joga-nidra-22/
LOCATION:Garden Shala\, Czołgistów 13\, Łódź\, 94-217\, Poland
END:VEVENT
BEGIN:VEVENT
DTSTART;TZID=Europe/Warsaw:20250727T190000
DTEND;TZID=Europe/Warsaw:20250727T201500
DTSTAMP:20260421T152756
CREATED:20250627T133547Z
LAST-MODIFIED:20250627T133547Z
UID:10000606-1753642800-1753647300@gardenshala.pl
SUMMARY:Moc Wibracji vol. 3
DESCRIPTION:Zapraszamy na wakacyjny koncert mis tybetańskich – podróż w kierunku wewnętrznemu spokoju.\nKoncert zapewni Ci głęboki relaks\, uwolnienie od napięć\, a także redukcję stresu! \nPrzyjdź i poczuj Moc Wibracji w swoim ciele!\nProwadząca: Agnieszka Kauer\nInwestycja: 80 zł
URL:https://gardenshala.pl/yoga/moc-wibracji-vol-3/
LOCATION:Garden Shala\, Czołgistów 13\, Łódź\, 94-217\, Poland
END:VEVENT
BEGIN:VEVENT
DTSTART;TZID=Europe/Warsaw:20250728T173000
DTEND;TZID=Europe/Warsaw:20250728T184500
DTSTAMP:20260421T152756
CREATED:20250626T105852Z
LAST-MODIFIED:20250626T105852Z
UID:10000542-1753723800-1753728300@gardenshala.pl
SUMMARY:Joga dla początkujących
DESCRIPTION:Solidna podstawa do praktyki jogi\, prawidłowego wykonywania asan oraz pracy z oddechem. \nProwadząca: Ola Wietecha-Drobik
URL:https://gardenshala.pl/yoga/joga-dla-poczatkujacych-34/
LOCATION:Garden Shala\, Czołgistów 13\, Łódź\, 94-217\, Poland
END:VEVENT
BEGIN:VEVENT
DTSTART;TZID=Europe/Helsinki:20250728T185000
DTEND;TZID=Europe/Helsinki:20250728T202000
DTSTAMP:20260421T152756
CREATED:20250626T105917Z
LAST-MODIFIED:20250626T105917Z
UID:10000543-1753728600-1753734000@gardenshala.pl
SUMMARY:Hatha Joga
DESCRIPTION:Statyczna praktyka pozycji jogi z elementami technik oddechowych i medytacji. \nProwadząca: Ola
URL:https://gardenshala.pl/yoga/hatha-joga-39/
LOCATION:Garden Shala\, Czołgistów 13\, Łódź\, 94-217\, Poland
END:VEVENT
BEGIN:VEVENT
DTSTART;TZID=Europe/Helsinki:20250729T173000
DTEND;TZID=Europe/Helsinki:20250729T183000
DTSTAMP:20260421T152756
CREATED:20250626T110248Z
LAST-MODIFIED:20250626T110248Z
UID:10000550-1753810200-1753813800@gardenshala.pl
SUMMARY:Ashtanga dla początkujących
DESCRIPTION:Wprowadzenie do I serii Ashtanga Jogi \nProwadząca: Julia
URL:https://gardenshala.pl/yoga/ashtanga-dla-poczatkujacych-42/
LOCATION:Garden Shala\, Czołgistów 13\, Łódź\, 94-217\, Poland
END:VEVENT
BEGIN:VEVENT
DTSTART;TZID=Europe/Helsinki:20250729T184500
DTEND;TZID=Europe/Helsinki:20250729T201500
DTSTAMP:20260421T152756
CREATED:20250626T110305Z
LAST-MODIFIED:20250626T110305Z
UID:10000551-1753814700-1753820100@gardenshala.pl
SUMMARY:Ashtanga Mysore
DESCRIPTION:Mysore – praktyka własna Ashtanga Jogi pod przewodnictwem nauczyciela. \nProwadząca: Julia
URL:https://gardenshala.pl/yoga/ashtanga-mysore-40/
LOCATION:Garden Shala\, Czołgistów 13\, Łódź\, 94-217\, Poland
END:VEVENT
BEGIN:VEVENT
DTSTART;TZID=Europe/Warsaw:20250730T173000
DTEND;TZID=Europe/Warsaw:20250730T184500
DTSTAMP:20260421T152756
CREATED:20250626T110724Z
LAST-MODIFIED:20250626T110724Z
UID:10000560-1753896600-1753901100@gardenshala.pl
SUMMARY:Joga dla początkujących
DESCRIPTION:Łagodne i płynne wejście w praktykę jogi z Gosią.
URL:https://gardenshala.pl/yoga/joga-dla-poczatkujacych-38/
LOCATION:Garden Shala\, Czołgistów 13\, Łódź\, 94-217\, Poland
END:VEVENT
BEGIN:VEVENT
DTSTART;TZID=Europe/Warsaw:20250730T190000
DTEND;TZID=Europe/Warsaw:20250730T203000
DTSTAMP:20260421T152756
CREATED:20250626T110756Z
LAST-MODIFIED:20250626T110756Z
UID:10000561-1753902000-1753907400@gardenshala.pl
SUMMARY:Ashtanga Asana Lab
DESCRIPTION:Praktyka poświęcona poszczególnym asanom z I i II serii Ashtangi. \nOmówienie techniki\, wariantów i sposobów wprowadzenia ciała w pozycje. \nPodczas zajęć przewidziana jest także praca z oddechem (Pranayama) i praktyki uważności (medytacja). \nProwadząca: Julia
URL:https://gardenshala.pl/yoga/ashtanga-asana-lab-8/
LOCATION:Garden Shala\, Czołgistów 13\, Łódź\, 94-217\, Poland
END:VEVENT
BEGIN:VEVENT
DTSTART;TZID=Europe/Helsinki:20250731T173000
DTEND;TZID=Europe/Helsinki:20250731T184500
DTSTAMP:20260421T152756
CREATED:20250626T111112Z
LAST-MODIFIED:20250626T111112Z
UID:10000568-1753983000-1753987500@gardenshala.pl
SUMMARY:Hatha Joga
DESCRIPTION:Statyczna praktyka pozycji jogi z elementami technik oddechowych i medytacji. \nJoga ogólna. \nProwadząca: Weronika
URL:https://gardenshala.pl/yoga/hatha-joga-43/
LOCATION:Garden Shala\, Czołgistów 13\, Łódź\, 94-217\, Poland
END:VEVENT
BEGIN:VEVENT
DTSTART;TZID=Europe/Helsinki:20250731T190000
DTEND;TZID=Europe/Helsinki:20250731T203000
DTSTAMP:20260421T152756
CREATED:20250626T111140Z
LAST-MODIFIED:20250626T111140Z
UID:10000569-1753988400-1753993800@gardenshala.pl
SUMMARY:Ashtanga dla początkujących
DESCRIPTION:Wprowadzenie do I serii Ashtanga Jogi \nProwadząca: Mariana
URL:https://gardenshala.pl/yoga/ashtanga-dla-poczatkujacych-46/
LOCATION:Garden Shala\, Czołgistów 13\, Łódź\, 94-217\, Poland
END:VEVENT
END:VCALENDAR