BEGIN:VCALENDAR
VERSION:2.0
PRODID:-//GARDEN SHALA - ECPv6.7.1//NONSGML v1.0//EN
CALSCALE:GREGORIAN
METHOD:PUBLISH
X-ORIGINAL-URL:https://gardenshala.pl
X-WR-CALDESC:Events for GARDEN SHALA
REFRESH-INTERVAL;VALUE=DURATION:PT1H
X-Robots-Tag:noindex
X-PUBLISHED-TTL:PT1H
BEGIN:VTIMEZONE
TZID:Europe/Helsinki
BEGIN:DAYLIGHT
TZOFFSETFROM:+0200
TZOFFSETTO:+0300
TZNAME:EEST
DTSTART:20250330T010000
END:DAYLIGHT
BEGIN:STANDARD
TZOFFSETFROM:+0300
TZOFFSETTO:+0200
TZNAME:EET
DTSTART:20251026T010000
END:STANDARD
TZID:Europe/Warsaw
BEGIN:DAYLIGHT
TZOFFSETFROM:+0100
TZOFFSETTO:+0200
TZNAME:CEST
DTSTART:20250330T010000
END:DAYLIGHT
BEGIN:STANDARD
TZOFFSETFROM:+0200
TZOFFSETTO:+0100
TZNAME:CET
DTSTART:20251026T010000
END:STANDARD
END:VTIMEZONE
BEGIN:VEVENT
DTSTART;TZID=Europe/Helsinki:20250819T173000
DTEND;TZID=Europe/Helsinki:20250819T183000
DTSTAMP:20260421T175639
CREATED:20250801T092727Z
LAST-MODIFIED:20250801T092727Z
UID:10000640-1755624600-1755628200@gardenshala.pl
SUMMARY:Ashtanga dla początkujących
DESCRIPTION:Wprowadzenie do I serii Ashtanga Jogi \nProwadząca: Julia
URL:https://gardenshala.pl/yoga/ashtanga-dla-poczatkujacych-50/
LOCATION:Garden Shala\, Czołgistów 13\, Łódź\, 94-217\, Poland
END:VEVENT
BEGIN:VEVENT
DTSTART;TZID=Europe/Helsinki:20250819T184500
DTEND;TZID=Europe/Helsinki:20250819T201500
DTSTAMP:20260421T175639
CREATED:20250801T092755Z
LAST-MODIFIED:20250801T092755Z
UID:10000641-1755629100-1755634500@gardenshala.pl
SUMMARY:Ashtanga Mysore
DESCRIPTION:Mysore – praktyka własna Ashtanga Jogi pod przewodnictwem nauczyciela. \nProwadząca: Julia
URL:https://gardenshala.pl/yoga/ashtanga-mysore-49/
LOCATION:Garden Shala\, Czołgistów 13\, Łódź\, 94-217\, Poland
END:VEVENT
BEGIN:VEVENT
DTSTART;TZID=Europe/Warsaw:20250820T173000
DTEND;TZID=Europe/Warsaw:20250820T184500
DTSTAMP:20260421T175639
CREATED:20250801T102518Z
LAST-MODIFIED:20250801T102518Z
UID:10000650-1755711000-1755715500@gardenshala.pl
SUMMARY:Joga dla początkujących
DESCRIPTION:Łagodne i płynne wejście w praktykę jogi z Gosią.
URL:https://gardenshala.pl/yoga/joga-dla-poczatkujacych-46/
LOCATION:Garden Shala\, Czołgistów 13\, Łódź\, 94-217\, Poland
END:VEVENT
BEGIN:VEVENT
DTSTART;TZID=Europe/Warsaw:20250820T190000
DTEND;TZID=Europe/Warsaw:20250820T203000
DTSTAMP:20260421T175639
CREATED:20250801T093141Z
LAST-MODIFIED:20250801T102447Z
UID:10000646-1755716400-1755721800@gardenshala.pl
SUMMARY:Ashtanga Asana Lab
DESCRIPTION:Praktyka poświęcona poszczególnym asanom z I i II serii Ashtangi. \nOmówienie techniki\, wariantów i sposobów wprowadzenia ciała w pozycje. \nPodczas zajęć przewidziana jest także praca z oddechem (Pranayama) i praktyki uważności (medytacja). \nProwadząca: Julia
URL:https://gardenshala.pl/yoga/ashtanga-asana-lab-10/
LOCATION:Garden Shala\, Czołgistów 13\, Łódź\, 94-217\, Poland
END:VEVENT
BEGIN:VEVENT
DTSTART;TZID=Europe/Helsinki:20250821T173000
DTEND;TZID=Europe/Helsinki:20250821T184500
DTSTAMP:20260421T175639
CREATED:20250801T102926Z
LAST-MODIFIED:20250801T102926Z
UID:10000657-1755797400-1755801900@gardenshala.pl
SUMMARY:Hatha Joga
DESCRIPTION:Statyczna praktyka pozycji jogi z elementami technik oddechowych i medytacji. \nJoga ogólna. \nProwadząca: Weronika
URL:https://gardenshala.pl/yoga/hatha-joga-50/
LOCATION:Garden Shala\, Czołgistów 13\, Łódź\, 94-217\, Poland
END:VEVENT
BEGIN:VEVENT
DTSTART;TZID=Europe/Helsinki:20250821T190000
DTEND;TZID=Europe/Helsinki:20250821T203000
DTSTAMP:20260421T175639
CREATED:20250801T102943Z
LAST-MODIFIED:20250801T102943Z
UID:10000658-1755802800-1755808200@gardenshala.pl
SUMMARY:Ashtanga dla początkujących
DESCRIPTION:Wprowadzenie do I serii Ashtanga Jogi \nProwadząca: Mariana
URL:https://gardenshala.pl/yoga/ashtanga-dla-poczatkujacych-53/
LOCATION:Garden Shala\, Czołgistów 13\, Łódź\, 94-217\, Poland
END:VEVENT
BEGIN:VEVENT
DTSTART;TZID=Europe/Warsaw:20250822T173000
DTEND;TZID=Europe/Warsaw:20250822T184500
DTSTAMP:20260421T175639
CREATED:20250801T103228Z
LAST-MODIFIED:20250801T103228Z
UID:10000663-1755883800-1755888300@gardenshala.pl
SUMMARY:Movement & Prana
DESCRIPTION:Trening oddechowy połączony z ruchem\nProwadząca: Ola
URL:https://gardenshala.pl/yoga/movement-prana-24/
LOCATION:Garden Shala\, Czołgistów 13\, Łódź\, 94-217\, Poland
END:VEVENT
BEGIN:VEVENT
DTSTART;TZID=Europe/Helsinki:20250822T185000
DTEND;TZID=Europe/Helsinki:20250822T202000
DTSTAMP:20260421T175639
CREATED:20250801T103152Z
LAST-MODIFIED:20250801T103152Z
UID:10000662-1755888600-1755894000@gardenshala.pl
SUMMARY:Ashtanga - wstęp do II serii
DESCRIPTION:Wprowadzenie do II serii Ashtanga Jogi \nProwadząca: Julia
URL:https://gardenshala.pl/yoga/ashtanga-wstep-do-ii-serii-26/
LOCATION:Garden Shala\, Czołgistów 13\, Łódź\, 94-217\, Poland
END:VEVENT
BEGIN:VEVENT
DTSTART;TZID=Europe/Helsinki:20250823T090000
DTEND;TZID=Europe/Helsinki:20250823T104500
DTSTAMP:20260421T175640
CREATED:20250801T103447Z
LAST-MODIFIED:20250810T090914Z
UID:10000667-1755939600-1755945900@gardenshala.pl
SUMMARY:Ashtanga Mysore
DESCRIPTION:Mysore – praktyka własna pod przewodnictwem nauczyciela \nProwadząca: Julia
URL:https://gardenshala.pl/yoga/ashtanga-mysore-54/
LOCATION:Garden Shala\, Czołgistów 13\, Łódź\, 94-217\, Poland
END:VEVENT
BEGIN:VEVENT
DTSTART;TZID=Europe/Helsinki:20250824T100000
DTEND;TZID=Europe/Helsinki:20250824T111500
DTSTAMP:20260421T175640
CREATED:20250801T103741Z
LAST-MODIFIED:20250801T103741Z
UID:10000671-1756029600-1756034100@gardenshala.pl
SUMMARY:Vinyasa Joga
DESCRIPTION:Energia i Pobudzenie \nPraktyka jogi mająca na celu rozbudzenie ciała i umysłu – czyli idealny sposób na rozpoczęcie niedzieli! \nProwadząca: Mariana
URL:https://gardenshala.pl/yoga/vinyasa-joga-29/
LOCATION:Garden Shala\, Czołgistów 13\, Łódź\, 94-217\, Poland
END:VEVENT
BEGIN:VEVENT
DTSTART;TZID=Europe/Warsaw:20250824T113000
DTEND;TZID=Europe/Warsaw:20250824T124500
DTSTAMP:20260421T175640
CREATED:20250801T103811Z
LAST-MODIFIED:20250801T103811Z
UID:10000672-1756035000-1756039500@gardenshala.pl
SUMMARY:Łagodna Vinyasa & Joga Nidra
DESCRIPTION:Łagodny\, płynny ruch połączony z oddechem. \nPraktyka zakończona głęboką relaksacją jogi nidry. \nProwadząca: Mariana
URL:https://gardenshala.pl/yoga/lagodna-vinyasa-joga-nidra-26/
LOCATION:Garden Shala\, Czołgistów 13\, Łódź\, 94-217\, Poland
END:VEVENT
BEGIN:VEVENT
DTSTART;TZID=Europe/Warsaw:20250825T173000
DTEND;TZID=Europe/Warsaw:20250825T184500
DTSTAMP:20260421T175640
CREATED:20250801T092505Z
LAST-MODIFIED:20250801T092505Z
UID:10000634-1756143000-1756147500@gardenshala.pl
SUMMARY:Joga dla początkujących
DESCRIPTION:Solidna podstawa do praktyki jogi\, prawidłowego wykonywania asan oraz pracy z oddechem. \nProwadząca: Ola Wietecha-Drobik
URL:https://gardenshala.pl/yoga/joga-dla-poczatkujacych-43/
LOCATION:Garden Shala\, Czołgistów 13\, Łódź\, 94-217\, Poland
END:VEVENT
BEGIN:VEVENT
DTSTART;TZID=Europe/Helsinki:20250825T185000
DTEND;TZID=Europe/Helsinki:20250825T202000
DTSTAMP:20260421T175640
CREATED:20250626T112320Z
LAST-MODIFIED:20250801T102724Z
UID:10000594-1756147800-1756153200@gardenshala.pl
SUMMARY:Hatha Joga
DESCRIPTION:Statyczna praktyka pozycji jogi z elementami technik oddechowych i medytacji. \nProwadząca: Ola
URL:https://gardenshala.pl/yoga/hatha-joga-44/
LOCATION:Garden Shala\, Czołgistów 13\, Łódź\, 94-217\, Poland
END:VEVENT
BEGIN:VEVENT
DTSTART;TZID=Europe/Helsinki:20250826T173000
DTEND;TZID=Europe/Helsinki:20250826T183000
DTSTAMP:20260421T175640
CREATED:20250801T092855Z
LAST-MODIFIED:20250801T092855Z
UID:10000643-1756229400-1756233000@gardenshala.pl
SUMMARY:Ashtanga dla początkujących
DESCRIPTION:Wprowadzenie do I serii Ashtanga Jogi \nProwadząca: Julia
URL:https://gardenshala.pl/yoga/ashtanga-dla-poczatkujacych-51/
LOCATION:Garden Shala\, Czołgistów 13\, Łódź\, 94-217\, Poland
END:VEVENT
BEGIN:VEVENT
DTSTART;TZID=Europe/Helsinki:20250826T184500
DTEND;TZID=Europe/Helsinki:20250826T201500
DTSTAMP:20260421T175640
CREATED:20250801T092921Z
LAST-MODIFIED:20250801T092921Z
UID:10000644-1756233900-1756239300@gardenshala.pl
SUMMARY:Ashtanga Mysore
DESCRIPTION:Mysore – praktyka własna Ashtanga Jogi pod przewodnictwem nauczyciela. \nProwadząca: Julia
URL:https://gardenshala.pl/yoga/ashtanga-mysore-51/
LOCATION:Garden Shala\, Czołgistów 13\, Łódź\, 94-217\, Poland
END:VEVENT
BEGIN:VEVENT
DTSTART;TZID=Europe/Warsaw:20250827T173000
DTEND;TZID=Europe/Warsaw:20250827T184500
DTSTAMP:20260421T175640
CREATED:20250801T102626Z
LAST-MODIFIED:20250801T102626Z
UID:10000652-1756315800-1756320300@gardenshala.pl
SUMMARY:Joga dla początkujących
DESCRIPTION:Łagodne i płynne wejście w praktykę jogi z Gosią.
URL:https://gardenshala.pl/yoga/joga-dla-poczatkujacych-47/
LOCATION:Garden Shala\, Czołgistów 13\, Łódź\, 94-217\, Poland
END:VEVENT
BEGIN:VEVENT
DTSTART;TZID=Europe/Warsaw:20250827T190000
DTEND;TZID=Europe/Warsaw:20250827T203000
DTSTAMP:20260421T175640
CREATED:20250801T102610Z
LAST-MODIFIED:20250801T102610Z
UID:10000651-1756321200-1756326600@gardenshala.pl
SUMMARY:Ashtanga Asana Lab
DESCRIPTION:Praktyka poświęcona poszczególnym asanom z I i II serii Ashtangi. \nOmówienie techniki\, wariantów i sposobów wprowadzenia ciała w pozycje. \nPodczas zajęć przewidziana jest także praca z oddechem (Pranayama) i praktyki uważności (medytacja). \nProwadząca: Julia
URL:https://gardenshala.pl/yoga/ashtanga-asana-lab-11/
LOCATION:Garden Shala\, Czołgistów 13\, Łódź\, 94-217\, Poland
END:VEVENT
BEGIN:VEVENT
DTSTART;TZID=Europe/Helsinki:20250828T173000
DTEND;TZID=Europe/Helsinki:20250828T184500
DTSTAMP:20260421T175640
CREATED:20250801T103015Z
LAST-MODIFIED:20250801T103015Z
UID:10000659-1756402200-1756406700@gardenshala.pl
SUMMARY:Hatha Joga
DESCRIPTION:Statyczna praktyka pozycji jogi z elementami technik oddechowych i medytacji. \nJoga ogólna. \nProwadząca: Weronika
URL:https://gardenshala.pl/yoga/hatha-joga-51/
LOCATION:Garden Shala\, Czołgistów 13\, Łódź\, 94-217\, Poland
END:VEVENT
BEGIN:VEVENT
DTSTART;TZID=Europe/Helsinki:20250828T190000
DTEND;TZID=Europe/Helsinki:20250828T203000
DTSTAMP:20260421T175640
CREATED:20250801T103033Z
LAST-MODIFIED:20250801T103033Z
UID:10000660-1756407600-1756413000@gardenshala.pl
SUMMARY:Ashtanga dla początkujących
DESCRIPTION:Wprowadzenie do I serii Ashtanga Jogi \nProwadząca: Mariana
URL:https://gardenshala.pl/yoga/ashtanga-dla-poczatkujacych-54/
LOCATION:Garden Shala\, Czołgistów 13\, Łódź\, 94-217\, Poland
END:VEVENT
BEGIN:VEVENT
DTSTART;TZID=Europe/Warsaw:20250829T173000
DTEND;TZID=Europe/Warsaw:20250829T184500
DTSTAMP:20260421T175640
CREATED:20250801T103356Z
LAST-MODIFIED:20250801T103356Z
UID:10000665-1756488600-1756493100@gardenshala.pl
SUMMARY:Movement & Prana
DESCRIPTION:Trening oddechowy połączony z ruchem\nProwadząca: Ola
URL:https://gardenshala.pl/yoga/movement-prana-25/
LOCATION:Garden Shala\, Czołgistów 13\, Łódź\, 94-217\, Poland
END:VEVENT
BEGIN:VEVENT
DTSTART;TZID=Europe/Helsinki:20250829T185000
DTEND;TZID=Europe/Helsinki:20250829T202000
DTSTAMP:20260421T175640
CREATED:20250801T103246Z
LAST-MODIFIED:20250801T103246Z
UID:10000664-1756493400-1756498800@gardenshala.pl
SUMMARY:Ashtanga - wstęp do II serii
DESCRIPTION:Wprowadzenie do II serii Ashtanga Jogi \nProwadząca: Julia
URL:https://gardenshala.pl/yoga/ashtanga-wstep-do-ii-serii-27/
LOCATION:Garden Shala\, Czołgistów 13\, Łódź\, 94-217\, Poland
END:VEVENT
BEGIN:VEVENT
DTSTART;TZID=Europe/Helsinki:20250830T090000
DTEND;TZID=Europe/Helsinki:20250830T104500
DTSTAMP:20260421T175640
CREATED:20250801T103522Z
LAST-MODIFIED:20250801T103522Z
UID:10000668-1756544400-1756550700@gardenshala.pl
SUMMARY:Ashtanga Mysore
DESCRIPTION:Mysore – praktyka własna pod przewodnictwem nauczyciela \nProwadząca: Mariana
URL:https://gardenshala.pl/yoga/ashtanga-mysore-55/
LOCATION:Garden Shala\, Czołgistów 13\, Łódź\, 94-217\, Poland
END:VEVENT
BEGIN:VEVENT
DTSTART;TZID=Europe/Helsinki:20250831T100000
DTEND;TZID=Europe/Helsinki:20250831T111500
DTSTAMP:20260421T175640
CREATED:20250801T103906Z
LAST-MODIFIED:20250801T103906Z
UID:10000673-1756634400-1756638900@gardenshala.pl
SUMMARY:Vinyasa Joga
DESCRIPTION:Energia i Pobudzenie \nPraktyka jogi mająca na celu rozbudzenie ciała i umysłu – czyli idealny sposób na rozpoczęcie niedzieli! \nProwadząca: Gosia Szczepańska
URL:https://gardenshala.pl/yoga/vinyasa-joga-30/
LOCATION:Garden Shala\, Czołgistów 13\, Łódź\, 94-217\, Poland
END:VEVENT
BEGIN:VEVENT
DTSTART;TZID=Europe/Warsaw:20250831T113000
DTEND;TZID=Europe/Warsaw:20250831T124500
DTSTAMP:20260421T175640
CREATED:20250801T104007Z
LAST-MODIFIED:20250801T104007Z
UID:10000675-1756639800-1756644300@gardenshala.pl
SUMMARY:Łagodna Vinyasa & Joga Nidra
DESCRIPTION:Łagodny\, płynny ruch połączony z oddechem. \nPraktyka zakończona głęboką relaksacją jogi nidry. \nProwadząca: Gosia Szczepańska
URL:https://gardenshala.pl/yoga/lagodna-vinyasa-joga-nidra-27/
LOCATION:Garden Shala\, Czołgistów 13\, Łódź\, 94-217\, Poland
END:VEVENT
BEGIN:VEVENT
DTSTART;TZID=Europe/Warsaw:20250901T173000
DTEND;TZID=Europe/Warsaw:20250901T184500
DTSTAMP:20260421T175640
CREATED:20250801T092549Z
LAST-MODIFIED:20250801T092549Z
UID:10000636-1756747800-1756752300@gardenshala.pl
SUMMARY:Joga dla początkujących
DESCRIPTION:Solidna podstawa do praktyki jogi\, prawidłowego wykonywania asan oraz pracy z oddechem. \nProwadząca: Ola Wietecha-Drobik
URL:https://gardenshala.pl/yoga/joga-dla-poczatkujacych-44/
LOCATION:Garden Shala\, Czołgistów 13\, Łódź\, 94-217\, Poland
END:VEVENT
BEGIN:VEVENT
DTSTART;TZID=Europe/Helsinki:20250901T185000
DTEND;TZID=Europe/Helsinki:20250901T202000
DTSTAMP:20260421T175640
CREATED:20250801T092604Z
LAST-MODIFIED:20250801T092604Z
UID:10000637-1756752600-1756758000@gardenshala.pl
SUMMARY:Hatha Joga
DESCRIPTION:Statyczna praktyka pozycji jogi z elementami technik oddechowych i medytacji. \nProwadząca: Ola
URL:https://gardenshala.pl/yoga/hatha-joga-48/
LOCATION:Garden Shala\, Czołgistów 13\, Łódź\, 94-217\, Poland
END:VEVENT
BEGIN:VEVENT
DTSTART;TZID=Europe/Warsaw:20250901T203000
DTEND;TZID=Europe/Warsaw:20250901T214500
DTSTAMP:20260421T175640
CREATED:20250802T150118Z
LAST-MODIFIED:20250810T091713Z
UID:10000688-1756758600-1756763100@gardenshala.pl
SUMMARY:Yin Joga
DESCRIPTION:Joga podczas której pozostajemy dłużej w pozycji\, praca na powięzi i tkankach głębokich. \nDla poszukujących zatrzymania i odpuszczenia. W pozycjach pozostajemy 3-7 minut. \nProwadząca: Patrycja
URL:https://gardenshala.pl/yoga/yin-joga/
LOCATION:Garden Shala\, Czołgistów 13\, Łódź\, 94-217\, Poland
END:VEVENT
BEGIN:VEVENT
DTSTART;TZID=Europe/Warsaw:20250902T173000
DTEND;TZID=Europe/Warsaw:20250902T184500
DTSTAMP:20260421T175640
CREATED:20250703T175804Z
LAST-MODIFIED:20250703T175804Z
UID:10000612-1756834200-1756838700@gardenshala.pl
SUMMARY:Ashtanga Intro - kurs Ashtanga Vinyasa Jogi od podstaw
DESCRIPTION:Kurs wprowadzający do praktyki Ashtanga Vinyasa Jogi \nZ Julią Zabost \nEarly Bird: 350 zł (do 15.08) \n450 zł (po 15.08)
URL:https://gardenshala.pl/yoga/ashtanga-intro-kurs-ashtanga-vinyasa-jogi-od-podstaw/
LOCATION:Garden Shala\, Czołgistów 13\, Łódź\, 94-217\, Poland
END:VEVENT
BEGIN:VEVENT
DTSTART;TZID=Europe/Helsinki:20250902T185000
DTEND;TZID=Europe/Helsinki:20250902T202000
DTSTAMP:20260421T175640
CREATED:20250801T104326Z
LAST-MODIFIED:20250801T104326Z
UID:10000677-1756839000-1756844400@gardenshala.pl
SUMMARY:Ashtanga Mysore
DESCRIPTION:Mysore – praktyka własna Ashtanga Jogi pod przewodnictwem nauczyciela. \nProwadząca: Julia
URL:https://gardenshala.pl/yoga/ashtanga-mysore-56/
LOCATION:Garden Shala\, Czołgistów 13\, Łódź\, 94-217\, Poland
END:VEVENT
BEGIN:VEVENT
DTSTART;TZID=Europe/Warsaw:20250903T173000
DTEND;TZID=Europe/Warsaw:20250903T184500
DTSTAMP:20260421T175640
CREATED:20250801T104408Z
LAST-MODIFIED:20250801T104408Z
UID:10000678-1756920600-1756925100@gardenshala.pl
SUMMARY:Joga dla początkujących
DESCRIPTION:Łagodne i płynne wejście w praktykę jogi z Gosią.
URL:https://gardenshala.pl/yoga/joga-dla-poczatkujacych-49/
LOCATION:Garden Shala\, Czołgistów 13\, Łódź\, 94-217\, Poland
END:VEVENT
END:VCALENDAR