BEGIN:VCALENDAR
VERSION:2.0
PRODID:-//GARDEN SHALA - ECPv6.7.1//NONSGML v1.0//EN
CALSCALE:GREGORIAN
METHOD:PUBLISH
X-ORIGINAL-URL:https://gardenshala.pl
X-WR-CALDESC:Events for GARDEN SHALA
REFRESH-INTERVAL;VALUE=DURATION:PT1H
X-Robots-Tag:noindex
X-PUBLISHED-TTL:PT1H
BEGIN:VTIMEZONE
TZID:Europe/Warsaw
BEGIN:DAYLIGHT
TZOFFSETFROM:+0100
TZOFFSETTO:+0200
TZNAME:CEST
DTSTART:20250330T010000
END:DAYLIGHT
BEGIN:STANDARD
TZOFFSETFROM:+0200
TZOFFSETTO:+0100
TZNAME:CET
DTSTART:20251026T010000
END:STANDARD
TZID:Europe/Helsinki
BEGIN:DAYLIGHT
TZOFFSETFROM:+0200
TZOFFSETTO:+0300
TZNAME:EEST
DTSTART:20250330T010000
END:DAYLIGHT
BEGIN:STANDARD
TZOFFSETFROM:+0300
TZOFFSETTO:+0200
TZNAME:EET
DTSTART:20251026T010000
END:STANDARD
END:VTIMEZONE
BEGIN:VEVENT
DTSTART;TZID=Europe/Warsaw:20250930T173000
DTEND;TZID=Europe/Warsaw:20250930T184500
DTSTAMP:20260421T111847
CREATED:20250703T175954Z
LAST-MODIFIED:20250703T175954Z
UID:10000616-1759253400-1759257900@gardenshala.pl
SUMMARY:Ashtanga Intro - kurs Ashtanga Vinyasa Jogi od podstaw
DESCRIPTION:Kurs wprowadzający do praktyki Ashtanga Vinyasa Jogi \nZ Julią Zabost \nEarly Bird: 350 zł (do 15.08) \n450 zł (po 15.08)
URL:https://gardenshala.pl/yoga/ashtanga-intro-kurs-ashtanga-vinyasa-jogi-od-podstaw-5/
LOCATION:Garden Shala\, Czołgistów 13\, Łódź\, 94-217\, Poland
END:VEVENT
BEGIN:VEVENT
DTSTART;TZID=Europe/Helsinki:20250930T185000
DTEND;TZID=Europe/Helsinki:20250930T202000
DTSTAMP:20260421T111847
CREATED:20250827T082121Z
LAST-MODIFIED:20250827T082121Z
UID:10000714-1759258200-1759263600@gardenshala.pl
SUMMARY:Ashtanga Mysore
DESCRIPTION:Mysore – praktyka własna Ashtanga Jogi pod przewodnictwem nauczyciela. \nProwadząca: Julia
URL:https://gardenshala.pl/yoga/ashtanga-mysore-62/
LOCATION:Garden Shala\, Czołgistów 13\, Łódź\, 94-217\, Poland
END:VEVENT
BEGIN:VEVENT
DTSTART;TZID=Europe/Warsaw:20251001T173000
DTEND;TZID=Europe/Warsaw:20251001T184500
DTSTAMP:20260421T111847
CREATED:20250827T083003Z
LAST-MODIFIED:20250827T083003Z
UID:10000732-1759339800-1759344300@gardenshala.pl
SUMMARY:Joga dla początkujących
DESCRIPTION:Łagodne i płynne wejście w praktykę jogi z Gosią.
URL:https://gardenshala.pl/yoga/joga-dla-poczatkujacych-57/
LOCATION:Garden Shala\, Czołgistów 13\, Łódź\, 94-217\, Poland
END:VEVENT
BEGIN:VEVENT
DTSTART;TZID=Europe/Warsaw:20251001T190000
DTEND;TZID=Europe/Warsaw:20251001T201500
DTSTAMP:20260421T111847
CREATED:20250930T140223Z
LAST-MODIFIED:20251001T120918Z
UID:10000805-1759345200-1759349700@gardenshala.pl
SUMMARY:Ashtanga Asana Lab
DESCRIPTION:Praktyka poświęcona poszczególnym asanom z I i II serii Ashtangi. \nOmówienie techniki\, wariantów i sposobów wprowadzenia ciała w pozycje. \nPodczas zajęć przewidziana jest także praca z oddechem (Pranayama) i praktyki uważności (medytacja). \nProwadząca: Julia
URL:https://gardenshala.pl/yoga/ashtanga-asana-lab-17/
LOCATION:Garden Shala\, Czołgistów 13\, Łódź\, 94-217\, Poland
END:VEVENT
BEGIN:VEVENT
DTSTART;TZID=Europe/Helsinki:20251002T173000
DTEND;TZID=Europe/Helsinki:20251002T184500
DTSTAMP:20260421T111847
CREATED:20250827T110245Z
LAST-MODIFIED:20250827T110245Z
UID:10000744-1759426200-1759430700@gardenshala.pl
SUMMARY:Hatha Joga
DESCRIPTION:Statyczna praktyka pozycji jogi z elementami technik oddechowych i medytacji. \nJoga ogólna. \nProwadząca: Weronika
URL:https://gardenshala.pl/yoga/hatha-joga-61/
LOCATION:Garden Shala\, Czołgistów 13\, Łódź\, 94-217\, Poland
END:VEVENT
BEGIN:VEVENT
DTSTART;TZID=Europe/Helsinki:20251002T190000
DTEND;TZID=Europe/Helsinki:20251002T203000
DTSTAMP:20260421T111847
CREATED:20250929T180209Z
LAST-MODIFIED:20250929T180209Z
UID:10000793-1759431600-1759437000@gardenshala.pl
SUMMARY:Ashtanga dla początkujących
DESCRIPTION:Wprowadzenie do I serii Ashtanga Jogi \nProwadząca: Mariana
URL:https://gardenshala.pl/yoga/ashtanga-dla-poczatkujacych-64/
LOCATION:Garden Shala\, Czołgistów 13\, Łódź\, 94-217\, Poland
END:VEVENT
BEGIN:VEVENT
DTSTART;TZID=Europe/Warsaw:20251003T173000
DTEND;TZID=Europe/Warsaw:20251003T184500
DTSTAMP:20260421T111847
CREATED:20250827T110329Z
LAST-MODIFIED:20250827T110329Z
UID:10000746-1759512600-1759517100@gardenshala.pl
SUMMARY:Movement & Prana
DESCRIPTION:Trening oddechowy połączony z ruchem\nProwadząca: Ola
URL:https://gardenshala.pl/yoga/movement-prana-30/
LOCATION:Garden Shala\, Czołgistów 13\, Łódź\, 94-217\, Poland
END:VEVENT
BEGIN:VEVENT
DTSTART;TZID=Europe/Helsinki:20251003T185000
DTEND;TZID=Europe/Helsinki:20251003T202000
DTSTAMP:20260421T111847
CREATED:20250827T110344Z
LAST-MODIFIED:20250827T110344Z
UID:10000747-1759517400-1759522800@gardenshala.pl
SUMMARY:Ashtanga - wstęp do II serii
DESCRIPTION:Wprowadzenie do II serii Ashtanga Jogi \nProwadząca: Julia
URL:https://gardenshala.pl/yoga/ashtanga-wstep-do-ii-serii-32/
LOCATION:Garden Shala\, Czołgistów 13\, Łódź\, 94-217\, Poland
END:VEVENT
BEGIN:VEVENT
DTSTART;TZID=Europe/Helsinki:20251004T090000
DTEND;TZID=Europe/Helsinki:20251004T104500
DTSTAMP:20260421T111847
CREATED:20250827T110418Z
LAST-MODIFIED:20251001T120544Z
UID:10000748-1759568400-1759574700@gardenshala.pl
SUMMARY:Ashtanga Mysore
DESCRIPTION:Mysore – praktyka własna pod przewodnictwem nauczyciela \nProwadząca: Julia
URL:https://gardenshala.pl/yoga/ashtanga-mysore-64/
LOCATION:Garden Shala\, Czołgistów 13\, Łódź\, 94-217\, Poland
END:VEVENT
BEGIN:VEVENT
DTSTART;TZID=Europe/Helsinki:20251005T100000
DTEND;TZID=Europe/Helsinki:20251005T111500
DTSTAMP:20260421T111847
CREATED:20250904T153237Z
LAST-MODIFIED:20250909T074727Z
UID:10000749-1759658400-1759662900@gardenshala.pl
SUMMARY:Vinyasa Joga
DESCRIPTION:Energia i Pobudzenie \nPraktyka jogi mająca na celu rozbudzenie ciała i umysłu – czyli idealny sposób na rozpoczęcie niedzieli! \nProwadząca: Gosia
URL:https://gardenshala.pl/yoga/vinyasa-joga-35/
LOCATION:Garden Shala\, Czołgistów 13\, Łódź\, 94-217\, Poland
END:VEVENT
BEGIN:VEVENT
DTSTART;TZID=Europe/Warsaw:20251005T113000
DTEND;TZID=Europe/Warsaw:20251005T124500
DTSTAMP:20260421T111847
CREATED:20250904T153324Z
LAST-MODIFIED:20250904T153324Z
UID:10000750-1759663800-1759668300@gardenshala.pl
SUMMARY:Łagodna Vinyasa & Joga Nidra
DESCRIPTION:Łagodny\, płynny ruch połączony z oddechem. \nPraktyka zakończona głęboką relaksacją jogi nidry. \nProwadząca: Gosia Szczepańska
URL:https://gardenshala.pl/yoga/lagodna-vinyasa-joga-nidra-32/
LOCATION:Garden Shala\, Czołgistów 13\, Łódź\, 94-217\, Poland
END:VEVENT
BEGIN:VEVENT
DTSTART;TZID=Europe/Warsaw:20251006T173000
DTEND;TZID=Europe/Warsaw:20251006T184500
DTSTAMP:20260421T111847
CREATED:20250904T153436Z
LAST-MODIFIED:20250921T105258Z
UID:10000751-1759771800-1759776300@gardenshala.pl
SUMMARY:Joga dla początkujących
DESCRIPTION:Solidna podstawa do praktyki jogi\, prawidłowego wykonywania asan oraz pracy z oddechem. \nProwadząca: Weronika
URL:https://gardenshala.pl/yoga/joga-dla-poczatkujacych-58/
LOCATION:Garden Shala\, Czołgistów 13\, Łódź\, 94-217\, Poland
END:VEVENT
BEGIN:VEVENT
DTSTART;TZID=Europe/Helsinki:20251006T185000
DTEND;TZID=Europe/Helsinki:20251006T202000
DTSTAMP:20260421T111847
CREATED:20250904T153454Z
LAST-MODIFIED:20250904T153454Z
UID:10000752-1759776600-1759782000@gardenshala.pl
SUMMARY:Hatha Joga
DESCRIPTION:Statyczna praktyka pozycji jogi z elementami technik oddechowych i medytacji. \nProwadząca: Ola
URL:https://gardenshala.pl/yoga/hatha-joga-62/
LOCATION:Garden Shala\, Czołgistów 13\, Łódź\, 94-217\, Poland
END:VEVENT
BEGIN:VEVENT
DTSTART;TZID=Europe/Warsaw:20251006T203000
DTEND;TZID=Europe/Warsaw:20251006T214500
DTSTAMP:20260421T111847
CREATED:20250921T103344Z
LAST-MODIFIED:20250921T103344Z
UID:10000759-1759782600-1759787100@gardenshala.pl
SUMMARY:Yin Joga
DESCRIPTION:Joga podczas której pozostajemy dłużej w pozycji\, praca na powięzi i tkankach głębokich. \nDla poszukujących zatrzymania i odpuszczenia. W pozycjach pozostajemy 3-7 minut. \nProwadząca: Patrycja
URL:https://gardenshala.pl/yoga/yin-joga-6/
LOCATION:Garden Shala\, Czołgistów 13\, Łódź\, 94-217\, Poland
END:VEVENT
BEGIN:VEVENT
DTSTART;TZID=Europe/Warsaw:20251007T173000
DTEND;TZID=Europe/Warsaw:20251007T184500
DTSTAMP:20260421T111847
CREATED:20250703T180040Z
LAST-MODIFIED:20250703T180040Z
UID:10000617-1759858200-1759862700@gardenshala.pl
SUMMARY:Ashtanga Intro - kurs Ashtanga Vinyasa Jogi od podstaw
DESCRIPTION:Kurs wprowadzający do praktyki Ashtanga Vinyasa Jogi \nZ Julią Zabost \nEarly Bird: 350 zł (do 15.08) \n450 zł (po 15.08)
URL:https://gardenshala.pl/yoga/ashtanga-intro-kurs-ashtanga-vinyasa-jogi-od-podstaw-6/
LOCATION:Garden Shala\, Czołgistów 13\, Łódź\, 94-217\, Poland
END:VEVENT
BEGIN:VEVENT
DTSTART;TZID=Europe/Helsinki:20251007T185000
DTEND;TZID=Europe/Helsinki:20251007T202000
DTSTAMP:20260421T111847
CREATED:20251006T061050Z
LAST-MODIFIED:20251006T061050Z
UID:10000811-1759863000-1759868400@gardenshala.pl
SUMMARY:Ashtanga Mysore
DESCRIPTION:Mysore – praktyka własna Ashtanga Jogi pod przewodnictwem nauczyciela. \nProwadząca: Julia
URL:https://gardenshala.pl/yoga/ashtanga-mysore-72/
LOCATION:Garden Shala\, Czołgistów 13\, Łódź\, 94-217\, Poland
END:VEVENT
BEGIN:VEVENT
DTSTART;TZID=Europe/Warsaw:20251008T173000
DTEND;TZID=Europe/Warsaw:20251008T184500
DTSTAMP:20260421T111847
CREATED:20250904T153620Z
LAST-MODIFIED:20250904T153620Z
UID:10000754-1759944600-1759949100@gardenshala.pl
SUMMARY:Joga dla początkujących
DESCRIPTION:Łagodne i płynne wejście w praktykę jogi z Gosią.
URL:https://gardenshala.pl/yoga/joga-dla-poczatkujacych-59/
LOCATION:Garden Shala\, Czołgistów 13\, Łódź\, 94-217\, Poland
END:VEVENT
BEGIN:VEVENT
DTSTART;TZID=Europe/Warsaw:20251008T190000
DTEND;TZID=Europe/Warsaw:20251008T201500
DTSTAMP:20260421T111847
CREATED:20250930T140333Z
LAST-MODIFIED:20251001T120810Z
UID:10000807-1759950000-1759954500@gardenshala.pl
SUMMARY:Ashtanga Asana Lab
DESCRIPTION:Praktyka poświęcona poszczególnym asanom z I i II serii Ashtangi. \nOmówienie techniki\, wariantów i sposobów wprowadzenia ciała w pozycje. \nPodczas zajęć przewidziana jest także praca z oddechem (Pranayama) i praktyki uważności (medytacja). \nProwadząca: Julia
URL:https://gardenshala.pl/yoga/ashtanga-asana-lab-18/
LOCATION:Garden Shala\, Czołgistów 13\, Łódź\, 94-217\, Poland
END:VEVENT
BEGIN:VEVENT
DTSTART;TZID=Europe/Helsinki:20251009T173000
DTEND;TZID=Europe/Helsinki:20251009T184500
DTSTAMP:20260421T111847
CREATED:20251006T144252Z
LAST-MODIFIED:20251006T144252Z
UID:10000796-1760031000-1760035500@gardenshala.pl
SUMMARY:Hatha Joga
DESCRIPTION:Hatha Joga metodą Iyengara \nJoga ogólna. \nProwadząca: Tomek
URL:https://gardenshala.pl/yoga/hatha-joga-70/
LOCATION:Garden Shala\, Czołgistów 13\, Łódź\, 94-217\, Poland
END:VEVENT
BEGIN:VEVENT
DTSTART;TZID=Europe/Helsinki:20251009T190000
DTEND;TZID=Europe/Helsinki:20251009T203000
DTSTAMP:20260421T111847
CREATED:20250929T175622Z
LAST-MODIFIED:20250929T175622Z
UID:10000790-1760036400-1760041800@gardenshala.pl
SUMMARY:Ashtanga dla początkujących
DESCRIPTION:Wprowadzenie do I serii Ashtanga Jogi \nProwadząca: Mariana
URL:https://gardenshala.pl/yoga/ashtanga-dla-poczatkujacych-62/
LOCATION:Garden Shala\, Czołgistów 13\, Łódź\, 94-217\, Poland
END:VEVENT
BEGIN:VEVENT
DTSTART;TZID=Europe/Warsaw:20251010T180000
DTEND;TZID=Europe/Warsaw:20251010T193000
DTSTAMP:20260421T111847
CREATED:20250628T084308Z
LAST-MODIFIED:20250628T084533Z
UID:10000607-1760119200-1760124600@gardenshala.pl
SUMMARY:Warsztaty z Karoliną Sumińską
DESCRIPTION:Breathwork \n 
URL:https://gardenshala.pl/yoga/warsztaty-z-karolina-suminska/
LOCATION:Garden Shala\, Czołgistów 13\, Łódź\, 94-217\, Poland
END:VEVENT
BEGIN:VEVENT
DTSTART;TZID=Europe/Warsaw:20251011T090000
DTEND;TZID=Europe/Warsaw:20251011T110000
DTSTAMP:20260421T111847
CREATED:20250628T084437Z
LAST-MODIFIED:20250628T084437Z
UID:10000608-1760173200-1760180400@gardenshala.pl
SUMMARY:Mysore z Karoliną Sumińską
DESCRIPTION:Mysore \nKoszt: 60 zł
URL:https://gardenshala.pl/yoga/mysore-z-karolina-suminska/
LOCATION:Garden Shala\, Czołgistów 13\, Łódź\, 94-217\, Poland
END:VEVENT
BEGIN:VEVENT
DTSTART;TZID=Europe/Warsaw:20251011T113000
DTEND;TZID=Europe/Warsaw:20251011T133000
DTSTAMP:20260421T111847
CREATED:20250628T084705Z
LAST-MODIFIED:20250628T084742Z
UID:10000610-1760182200-1760189400@gardenshala.pl
SUMMARY:Warsztaty z Karoliną Sumińską
DESCRIPTION:Oddech\, Praną\, Energia życiowa \n 
URL:https://gardenshala.pl/yoga/warsztaty-z-karolina-suminska-2/
LOCATION:Garden Shala\, Czołgistów 13\, Łódź\, 94-217\, Poland
END:VEVENT
BEGIN:VEVENT
DTSTART;TZID=Europe/Warsaw:20251012T090000
DTEND;TZID=Europe/Warsaw:20251012T110000
DTSTAMP:20260421T111847
CREATED:20250628T084603Z
LAST-MODIFIED:20250628T084603Z
UID:10000609-1760259600-1760266800@gardenshala.pl
SUMMARY:Mysore z Karoliną Sumińską
DESCRIPTION:Mysore \nKoszt: 60 zł
URL:https://gardenshala.pl/yoga/mysore-z-karolina-suminska-2/
LOCATION:Garden Shala\, Czołgistów 13\, Łódź\, 94-217\, Poland
END:VEVENT
BEGIN:VEVENT
DTSTART;TZID=Europe/Warsaw:20251012T113000
DTEND;TZID=Europe/Warsaw:20251012T133000
DTSTAMP:20260421T111847
CREATED:20250628T085136Z
LAST-MODIFIED:20250628T085136Z
UID:10000611-1760268600-1760275800@gardenshala.pl
SUMMARY:Warsztaty z Karoliną Sumińską
DESCRIPTION:Ajurweda – przewodnik po życiu i na macie \n 
URL:https://gardenshala.pl/yoga/warsztaty-z-karolina-suminska-3/
LOCATION:Garden Shala\, Czołgistów 13\, Łódź\, 94-217\, Poland
END:VEVENT
BEGIN:VEVENT
DTSTART;TZID=Europe/Warsaw:20251013T173000
DTEND;TZID=Europe/Warsaw:20251013T184500
DTSTAMP:20260421T111847
CREATED:20250921T103757Z
LAST-MODIFIED:20250921T104933Z
UID:10000766-1760376600-1760381100@gardenshala.pl
SUMMARY:Joga dla początkujących
DESCRIPTION:Solidna podstawa do praktyki jogi\, prawidłowego wykonywania asan oraz pracy z oddechem. \nProwadząca: Weronika
URL:https://gardenshala.pl/yoga/joga-dla-poczatkujacych-63/
LOCATION:Garden Shala\, Czołgistów 13\, Łódź\, 94-217\, Poland
END:VEVENT
BEGIN:VEVENT
DTSTART;TZID=Europe/Helsinki:20251013T185000
DTEND;TZID=Europe/Helsinki:20251013T202000
DTSTAMP:20260421T111847
CREATED:20250921T103816Z
LAST-MODIFIED:20250921T103816Z
UID:10000767-1760381400-1760386800@gardenshala.pl
SUMMARY:Hatha Joga
DESCRIPTION:Statyczna praktyka pozycji jogi z elementami technik oddechowych i medytacji. \nProwadząca: Ola
URL:https://gardenshala.pl/yoga/hatha-joga-63/
LOCATION:Garden Shala\, Czołgistów 13\, Łódź\, 94-217\, Poland
END:VEVENT
BEGIN:VEVENT
DTSTART;TZID=Europe/Warsaw:20251013T203000
DTEND;TZID=Europe/Warsaw:20251013T214500
DTSTAMP:20260421T111847
CREATED:20250921T103853Z
LAST-MODIFIED:20250921T103853Z
UID:10000768-1760387400-1760391900@gardenshala.pl
SUMMARY:Yin Joga
DESCRIPTION:Joga podczas której pozostajemy dłużej w pozycji\, praca na powięzi i tkankach głębokich. \nDla poszukujących zatrzymania i odpuszczenia. W pozycjach pozostajemy 3-7 minut. \nProwadząca: Patrycja
URL:https://gardenshala.pl/yoga/yin-joga-7/
LOCATION:Garden Shala\, Czołgistów 13\, Łódź\, 94-217\, Poland
END:VEVENT
BEGIN:VEVENT
DTSTART;TZID=Europe/Warsaw:20251014T173000
DTEND;TZID=Europe/Warsaw:20251014T184500
DTSTAMP:20260421T111847
CREATED:20250703T180107Z
LAST-MODIFIED:20250703T180107Z
UID:10000618-1760463000-1760467500@gardenshala.pl
SUMMARY:Ashtanga Intro - kurs Ashtanga Vinyasa Jogi od podstaw
DESCRIPTION:Kurs wprowadzający do praktyki Ashtanga Vinyasa Jogi \nZ Julią Zabost \nEarly Bird: 350 zł (do 15.08) \n450 zł (po 15.08)
URL:https://gardenshala.pl/yoga/ashtanga-intro-kurs-ashtanga-vinyasa-jogi-od-podstaw-7/
LOCATION:Garden Shala\, Czołgistów 13\, Łódź\, 94-217\, Poland
END:VEVENT
BEGIN:VEVENT
DTSTART;TZID=Europe/Helsinki:20251014T185000
DTEND;TZID=Europe/Helsinki:20251014T202000
DTSTAMP:20260421T111847
CREATED:20250921T103411Z
LAST-MODIFIED:20250921T103411Z
UID:10000760-1760467800-1760473200@gardenshala.pl
SUMMARY:Ashtanga Mysore
DESCRIPTION:Mysore – praktyka własna Ashtanga Jogi pod przewodnictwem nauczyciela. \nProwadząca: Julia
URL:https://gardenshala.pl/yoga/ashtanga-mysore-66/
LOCATION:Garden Shala\, Czołgistów 13\, Łódź\, 94-217\, Poland
END:VEVENT
END:VCALENDAR