BEGIN:VCALENDAR
VERSION:2.0
PRODID:-//GARDEN SHALA - ECPv6.7.1//NONSGML v1.0//EN
CALSCALE:GREGORIAN
METHOD:PUBLISH
X-ORIGINAL-URL:https://gardenshala.pl
X-WR-CALDESC:Events for GARDEN SHALA
REFRESH-INTERVAL;VALUE=DURATION:PT1H
X-Robots-Tag:noindex
X-PUBLISHED-TTL:PT1H
BEGIN:VTIMEZONE
TZID:Europe/Warsaw
BEGIN:DAYLIGHT
TZOFFSETFROM:+0100
TZOFFSETTO:+0200
TZNAME:CEST
DTSTART:20260329T010000
END:DAYLIGHT
BEGIN:STANDARD
TZOFFSETFROM:+0200
TZOFFSETTO:+0100
TZNAME:CET
DTSTART:20261025T010000
END:STANDARD
TZID:Europe/Helsinki
BEGIN:DAYLIGHT
TZOFFSETFROM:+0200
TZOFFSETTO:+0300
TZNAME:EEST
DTSTART:20260329T010000
END:DAYLIGHT
BEGIN:STANDARD
TZOFFSETFROM:+0300
TZOFFSETTO:+0200
TZNAME:EET
DTSTART:20261025T010000
END:STANDARD
END:VTIMEZONE
BEGIN:VEVENT
DTSTART;TZID=Europe/Warsaw:20260227T080000
DTEND;TZID=Europe/Warsaw:20260227T091500
DTSTAMP:20260420T212331
CREATED:20260214T204656Z
LAST-MODIFIED:20260214T204656Z
UID:10001069-1772179200-1772183700@gardenshala.pl
SUMMARY:Zdrowy Kręgosłup
DESCRIPTION:Zajęcia Zdrowy Kręgosłup to połączenie jogi\, gimnastyki i świadomego ruchu\, stworzone z myślą o zdrowych plecach\, poprawie postawy i codziennym komforcie. \nProwadzący: Tomek
URL:https://gardenshala.pl/yoga/zdrowy-kregoslup-13/
LOCATION:Garden Shala\, Czołgistów 13\, Łódź\, 94-217\, Poland
END:VEVENT
BEGIN:VEVENT
DTSTART;TZID=Europe/Helsinki:20260227T185000
DTEND;TZID=Europe/Helsinki:20260227T202000
DTSTAMP:20260420T212331
CREATED:20260214T204636Z
LAST-MODIFIED:20260214T204636Z
UID:10001068-1772218200-1772223600@gardenshala.pl
SUMMARY:Ashtanga - wstęp do II serii
DESCRIPTION:Wprowadzenie do II serii Ashtanga Jogi \nProwadząca: Julia
URL:https://gardenshala.pl/yoga/ashtanga-wstep-do-ii-serii-53/
LOCATION:Garden Shala\, Czołgistów 13\, Łódź\, 94-217\, Poland
END:VEVENT
BEGIN:VEVENT
DTSTART;TZID=Europe/Helsinki:20260228T090000
DTEND;TZID=Europe/Helsinki:20260228T104500
DTSTAMP:20260420T212331
CREATED:20260214T204724Z
LAST-MODIFIED:20260214T204724Z
UID:10001070-1772269200-1772275500@gardenshala.pl
SUMMARY:Ashtanga Mysore
DESCRIPTION:Mysore – praktyka własna pod przewodnictwem nauczyciela \nProwadząca: Julia
URL:https://gardenshala.pl/yoga/ashtanga-mysore-106/
LOCATION:Garden Shala\, Czołgistów 13\, Łódź\, 94-217\, Poland
END:VEVENT
END:VCALENDAR