BEGIN:VCALENDAR
VERSION:2.0
PRODID:-//GARDEN SHALA - ECPv6.7.1//NONSGML v1.0//EN
CALSCALE:GREGORIAN
METHOD:PUBLISH
X-ORIGINAL-URL:https://gardenshala.pl
X-WR-CALDESC:Events for GARDEN SHALA
REFRESH-INTERVAL;VALUE=DURATION:PT1H
X-Robots-Tag:noindex
X-PUBLISHED-TTL:PT1H
BEGIN:VTIMEZONE
TZID:Europe/Helsinki
BEGIN:DAYLIGHT
TZOFFSETFROM:+0200
TZOFFSETTO:+0300
TZNAME:EEST
DTSTART:20240331T010000
END:DAYLIGHT
BEGIN:STANDARD
TZOFFSETFROM:+0300
TZOFFSETTO:+0200
TZNAME:EET
DTSTART:20241027T010000
END:STANDARD
BEGIN:DAYLIGHT
TZOFFSETFROM:+0200
TZOFFSETTO:+0300
TZNAME:EEST
DTSTART:20250330T010000
END:DAYLIGHT
BEGIN:STANDARD
TZOFFSETFROM:+0300
TZOFFSETTO:+0200
TZNAME:EET
DTSTART:20251026T010000
END:STANDARD
TZID:Europe/Warsaw
BEGIN:DAYLIGHT
TZOFFSETFROM:+0100
TZOFFSETTO:+0200
TZNAME:CEST
DTSTART:20240331T010000
END:DAYLIGHT
BEGIN:STANDARD
TZOFFSETFROM:+0200
TZOFFSETTO:+0100
TZNAME:CET
DTSTART:20241027T010000
END:STANDARD
END:VTIMEZONE
BEGIN:VEVENT
DTSTART;TZID=Europe/Helsinki:20250107T173000
DTEND;TZID=Europe/Helsinki:20250107T183000
DTSTAMP:20260421T135424
CREATED:20241214T174348Z
LAST-MODIFIED:20241214T174348Z
UID:10000155-1736271000-1736274600@gardenshala.pl
SUMMARY:ASHTANGA
DESCRIPTION:Wprowadzenie do I serii Ashtanga Jogi \nProwadząca: Agnieszka
URL:https://gardenshala.pl/yoga/ashtanga-71/
LOCATION:Garden Shala\, Czołgistów 13\, Łódź\, 94-217\, Poland
END:VEVENT
BEGIN:VEVENT
DTSTART;TZID=Europe/Helsinki:20250106T123000
DTEND;TZID=Europe/Helsinki:20250106T140000
DTSTAMP:20260421T135424
CREATED:20241214T174250Z
LAST-MODIFIED:20250103T200954Z
UID:10000154-1736166600-1736172000@gardenshala.pl
SUMMARY:HATHA
DESCRIPTION:Statyczna praktyka pozycji jogi z elementami technik oddechowych i medytacji. \nJoga ogólna \nProwadząca: Ola
URL:https://gardenshala.pl/yoga/hatha-30/
LOCATION:Garden Shala\, Czołgistów 13\, Łódź\, 94-217\, Poland
END:VEVENT
BEGIN:VEVENT
DTSTART;TZID=Europe/Helsinki:20250105T101000
DTEND;TZID=Europe/Helsinki:20250105T112500
DTSTAMP:20260421T135424
CREATED:20241214T175549Z
LAST-MODIFIED:20241214T175549Z
UID:10000166-1736071800-1736076300@gardenshala.pl
SUMMARY:VINYASA
DESCRIPTION:Energia i Pobudzenie \nPraktyka jogi mająca na celu rozbudzenie ciała i umysłu – czyli idealny sposób na rozpoczęcie niedzieli! \nProwadząca: Julia
URL:https://gardenshala.pl/yoga/vinyasa-27/
LOCATION:Garden Shala\, Czołgistów 13\, Łódź\, 94-217\, Poland
END:VEVENT
BEGIN:VEVENT
DTSTART;TZID=Europe/Helsinki:20250105T090000
DTEND;TZID=Europe/Helsinki:20250105T100000
DTSTAMP:20260421T135424
CREATED:20241214T175529Z
LAST-MODIFIED:20241214T175529Z
UID:10000165-1736067600-1736071200@gardenshala.pl
SUMMARY:MEDYTACJA & PRANA
DESCRIPTION:Praktyka mindfulness (uważności) i medytacji\, połączona wraz z technikami oddechowymi. \nProwadząca: Julia \n 
URL:https://gardenshala.pl/yoga/medytacja-prana-8/
LOCATION:Garden Shala\, Czołgistów 13\, Łódź\, 94-217\, Poland
END:VEVENT
BEGIN:VEVENT
DTSTART;TZID=Europe/Helsinki:20250104T090000
DTEND;TZID=Europe/Helsinki:20250104T104500
DTSTAMP:20260421T135424
CREATED:20241214T175354Z
LAST-MODIFIED:20241214T175354Z
UID:10000163-1735981200-1735987500@gardenshala.pl
SUMMARY:ASHTANGA
DESCRIPTION:Mysore – praktyka własna pod przewodnictwem nauczyciela \nProwadząca: Julia
URL:https://gardenshala.pl/yoga/ashtanga-75/
LOCATION:Garden Shala\, Czołgistów 13\, Łódź\, 94-217\, Poland
END:VEVENT
BEGIN:VEVENT
DTSTART;TZID=Europe/Helsinki:20250103T185000
DTEND;TZID=Europe/Helsinki:20250103T202000
DTSTAMP:20260421T135424
CREATED:20241214T174810Z
LAST-MODIFIED:20241214T174810Z
UID:10000160-1735930200-1735935600@gardenshala.pl
SUMMARY:ASHTANGA
DESCRIPTION:Wprowadzenie do II serii Ashtanga Jogi \nProwadząca: Julia
URL:https://gardenshala.pl/yoga/ashtanga-73/
LOCATION:Garden Shala\, Czołgistów 13\, Łódź\, 94-217\, Poland
END:VEVENT
BEGIN:VEVENT
DTSTART;TZID=Europe/Helsinki:20250103T173000
DTEND;TZID=Europe/Helsinki:20250103T184500
DTSTAMP:20260421T135424
CREATED:20241214T174740Z
LAST-MODIFIED:20241214T175004Z
UID:10000159-1735925400-1735929900@gardenshala.pl
SUMMARY:HATHA
DESCRIPTION:Statyczna praktyka pozycji jogi z elementami technik oddechowych i medytacji. \nJoga ogólna \nProwadząca: Ola
URL:https://gardenshala.pl/yoga/hatha-31/
LOCATION:Garden Shala\, Czołgistów 13\, Łódź\, 94-217\, Poland
END:VEVENT
BEGIN:VEVENT
DTSTART;TZID=Europe/Helsinki:20250102T185000
DTEND;TZID=Europe/Helsinki:20250102T200000
DTSTAMP:20260421T135424
CREATED:20241214T174924Z
LAST-MODIFIED:20241214T174924Z
UID:10000162-1735843800-1735848000@gardenshala.pl
SUMMARY:ASHTANGA
DESCRIPTION:Wprowadzenie do I serii Ashtanga Jogi \nProwadząca: Weronika
URL:https://gardenshala.pl/yoga/ashtanga-74/
LOCATION:Garden Shala\, Czołgistów 13\, Łódź\, 94-217\, Poland
END:VEVENT
BEGIN:VEVENT
DTSTART;TZID=Europe/Helsinki:20250102T173000
DTEND;TZID=Europe/Helsinki:20250102T184500
DTSTAMP:20260421T135424
CREATED:20241214T175655Z
LAST-MODIFIED:20241214T175655Z
UID:10000167-1735839000-1735843500@gardenshala.pl
SUMMARY:HATHA
DESCRIPTION:Statyczna praktyka pozycji jogi z elementami technik oddechowych i medytacji. \nJoga ogólna. \nProwadząca: Weronika
URL:https://gardenshala.pl/yoga/hatha-34/
LOCATION:Garden Shala\, Czołgistów 13\, Łódź\, 94-217\, Poland
END:VEVENT
BEGIN:VEVENT
DTSTART;TZID=Europe/Warsaw:20241231T110000
DTEND;TZID=Europe/Warsaw:20241231T130000
DTSTAMP:20260421T135424
CREATED:20241230T163138Z
LAST-MODIFIED:20241230T163138Z
UID:10000225-1735642800-1735650000@gardenshala.pl
SUMMARY:Joga\, pranayama\, relaks z Agnieszką
DESCRIPTION:Nie czekaj do Nowego Roku\, zadbaj o siebie już dzisiaj! \nJoga | Paranayama | Rozmówki o jodze | Kawa
URL:https://gardenshala.pl/yoga/joga-pranayama-relaks-z-agnieszka/
LOCATION:Garden Shala\, Czołgistów 13\, Łódź\, 94-217\, Poland
END:VEVENT
BEGIN:VEVENT
DTSTART;TZID=Europe/Helsinki:20241230T185000
DTEND;TZID=Europe/Helsinki:20241230T202000
DTSTAMP:20260421T135424
CREATED:20241212T102317Z
LAST-MODIFIED:20241212T102317Z
UID:10000152-1735584600-1735590000@gardenshala.pl
SUMMARY:HATHA
DESCRIPTION:Statyczna praktyka pozycji jogi z elementami technik oddechowych i medytacji. \nJoga ogólna \nProwadząca: Ola
URL:https://gardenshala.pl/yoga/hatha-28/
LOCATION:Garden Shala\, Czołgistów 13\, Łódź\, 94-217\, Poland
END:VEVENT
BEGIN:VEVENT
DTSTART;TZID=Europe/Helsinki:20241230T173000
DTEND;TZID=Europe/Helsinki:20241230T184500
DTSTAMP:20260421T135424
CREATED:20241212T102221Z
LAST-MODIFIED:20241212T102221Z
UID:10000151-1735579800-1735584300@gardenshala.pl
SUMMARY:VINYASA
DESCRIPTION:Płynna praktyka pozycji jogi (asan)\, ruch poączony z oddechem. \nMedytacja w ruchu. \nProwadząca: Ola
URL:https://gardenshala.pl/yoga/vinyasa-25/
LOCATION:Garden Shala\, Czołgistów 13\, Łódź\, 94-217\, Poland
END:VEVENT
BEGIN:VEVENT
DTSTART;TZID=Europe/Helsinki:20241229T101000
DTEND;TZID=Europe/Helsinki:20241229T112500
DTSTAMP:20260421T135424
CREATED:20241126T143913Z
LAST-MODIFIED:20241126T143913Z
UID:10000142-1735467000-1735471500@gardenshala.pl
SUMMARY:VINYASA
DESCRIPTION:Energia i Pobudzenie \nPraktyka jogi mająca na celu rozbudzenie ciała i umysłu – czyli idealny sposób na rozpoczęcie niedzieli! \nProwadząca: Julia
URL:https://gardenshala.pl/yoga/vinyasa-24/
LOCATION:Garden Shala\, Czołgistów 13\, Łódź\, 94-217\, Poland
END:VEVENT
BEGIN:VEVENT
DTSTART;TZID=Europe/Helsinki:20241229T090000
DTEND;TZID=Europe/Helsinki:20241229T100000
DTSTAMP:20260421T135424
CREATED:20241126T143850Z
LAST-MODIFIED:20241126T143850Z
UID:10000141-1735462800-1735466400@gardenshala.pl
SUMMARY:MEDYTACJA & PRANA
DESCRIPTION:Praktyka mindfulness (uważności) i medytacji\, połączona wraz z technikami oddechowymi. \nProwadząca: Julia \n 
URL:https://gardenshala.pl/yoga/medytacja-prana-6/
LOCATION:Garden Shala\, Czołgistów 13\, Łódź\, 94-217\, Poland
END:VEVENT
BEGIN:VEVENT
DTSTART;TZID=Europe/Helsinki:20241228T090000
DTEND;TZID=Europe/Helsinki:20241228T104500
DTSTAMP:20260421T135424
CREATED:20241126T143813Z
LAST-MODIFIED:20241126T143813Z
UID:10000140-1735376400-1735382700@gardenshala.pl
SUMMARY:ASHTANGA
DESCRIPTION:Mysore – praktyka własna pod przewodnictwem nauczyciela \nProwadząca: Julia
URL:https://gardenshala.pl/yoga/ashtanga-67/
LOCATION:Garden Shala\, Czołgistów 13\, Łódź\, 94-217\, Poland
END:VEVENT
BEGIN:VEVENT
DTSTART;TZID=Europe/Helsinki:20241227T185000
DTEND;TZID=Europe/Helsinki:20241227T202000
DTSTAMP:20260421T135424
CREATED:20241212T100238Z
LAST-MODIFIED:20241212T101833Z
UID:10000145-1735325400-1735330800@gardenshala.pl
SUMMARY:ASHTANGA
DESCRIPTION:Wprowadzenie do II serii Ashtanga Jogi \nProwadząca: Julia
URL:https://gardenshala.pl/yoga/ashtanga-68/
LOCATION:Garden Shala\, Czołgistów 13\, Łódź\, 94-217\, Poland
END:VEVENT
BEGIN:VEVENT
DTSTART;TZID=Europe/Helsinki:20241227T173000
DTEND;TZID=Europe/Helsinki:20241227T184500
DTSTAMP:20260421T135424
CREATED:20241212T100146Z
LAST-MODIFIED:20241212T100534Z
UID:10000144-1735320600-1735325100@gardenshala.pl
SUMMARY:HATHA
DESCRIPTION:Statyczna praktyka pozycji jogi z elementami technik oddechowych i medytacji. \nJoga ogólna \nProwadząca: Ola
URL:https://gardenshala.pl/yoga/hatha-26/
LOCATION:Garden Shala\, Czołgistów 13\, Łódź\, 94-217\, Poland
END:VEVENT
BEGIN:VEVENT
DTSTART;TZID=Europe/Helsinki:20241223T185000
DTEND;TZID=Europe/Helsinki:20241223T202000
DTSTAMP:20260421T135424
CREATED:20241126T143723Z
LAST-MODIFIED:20241126T143723Z
UID:10000139-1734979800-1734985200@gardenshala.pl
SUMMARY:HATHA
DESCRIPTION:Statyczna praktyka pozycji jogi z elementami technik oddechowych i medytacji. \nJoga ogólna \nProwadząca: Ola
URL:https://gardenshala.pl/yoga/hatha-25/
LOCATION:Garden Shala\, Czołgistów 13\, Łódź\, 94-217\, Poland
END:VEVENT
BEGIN:VEVENT
DTSTART;TZID=Europe/Helsinki:20241223T173000
DTEND;TZID=Europe/Helsinki:20241223T184500
DTSTAMP:20260421T135424
CREATED:20241126T143656Z
LAST-MODIFIED:20241126T143656Z
UID:10000138-1734975000-1734979500@gardenshala.pl
SUMMARY:VINYASA
DESCRIPTION:Płynna praktyka pozycji jogi (asan)\, ruch poączony z oddechem. \nMedytacja w ruchu. \nProwadząca: Ola
URL:https://gardenshala.pl/yoga/vinyasa-23/
LOCATION:Garden Shala\, Czołgistów 13\, Łódź\, 94-217\, Poland
END:VEVENT
BEGIN:VEVENT
DTSTART;TZID=Europe/Helsinki:20241222T101000
DTEND;TZID=Europe/Helsinki:20241222T112500
DTSTAMP:20260421T135424
CREATED:20241126T142509Z
LAST-MODIFIED:20241126T142509Z
UID:10000135-1734862200-1734866700@gardenshala.pl
SUMMARY:VINYASA
DESCRIPTION:Energia i Pobudzenie \nPraktyka jogi mająca na celu rozbudzenie ciała i umysłu – czyli idealny sposób na rozpoczęcie niedzieli! \nProwadząca: Julia
URL:https://gardenshala.pl/yoga/vinyasa-22/
LOCATION:Garden Shala\, Czołgistów 13\, Łódź\, 94-217\, Poland
END:VEVENT
BEGIN:VEVENT
DTSTART;TZID=Europe/Helsinki:20241222T090000
DTEND;TZID=Europe/Helsinki:20241222T100000
DTSTAMP:20260421T135424
CREATED:20241126T142454Z
LAST-MODIFIED:20241126T142454Z
UID:10000134-1734858000-1734861600@gardenshala.pl
SUMMARY:MEDYTACJA & PRANA
DESCRIPTION:Praktyka mindfulness (uważności) i medytacji\, połączona wraz z technikami oddechowymi. \nProwadząca: Julia \n 
URL:https://gardenshala.pl/yoga/medytacja-prana-5/
LOCATION:Garden Shala\, Czołgistów 13\, Łódź\, 94-217\, Poland
END:VEVENT
BEGIN:VEVENT
DTSTART;TZID=Europe/Helsinki:20241221T090000
DTEND;TZID=Europe/Helsinki:20241221T104500
DTSTAMP:20260421T135424
CREATED:20241126T142424Z
LAST-MODIFIED:20241126T142424Z
UID:10000133-1734771600-1734777900@gardenshala.pl
SUMMARY:ASHTANGA
DESCRIPTION:Mysore – praktyka własna pod przewodnictwem nauczyciela \nProwadząca: Julia
URL:https://gardenshala.pl/yoga/ashtanga-65/
LOCATION:Garden Shala\, Czołgistów 13\, Łódź\, 94-217\, Poland
END:VEVENT
BEGIN:VEVENT
DTSTART;TZID=Europe/Helsinki:20241220T185000
DTEND;TZID=Europe/Helsinki:20241220T202000
DTSTAMP:20260421T135424
CREATED:20241212T100345Z
LAST-MODIFIED:20241212T100345Z
UID:10000147-1734720600-1734726000@gardenshala.pl
SUMMARY:ASHTANGA
DESCRIPTION:Wprowadzenie do II serii Ashtanga Jogi \nProwadząca: Julia
URL:https://gardenshala.pl/yoga/ashtanga-69/
LOCATION:Garden Shala\, Czołgistów 13\, Łódź\, 94-217\, Poland
END:VEVENT
BEGIN:VEVENT
DTSTART;TZID=Europe/Helsinki:20241220T173000
DTEND;TZID=Europe/Helsinki:20241220T184500
DTSTAMP:20260421T135424
CREATED:20241212T100325Z
LAST-MODIFIED:20241212T100325Z
UID:10000146-1734715800-1734720300@gardenshala.pl
SUMMARY:HATHA
DESCRIPTION:Statyczna praktyka pozycji jogi z elementami technik oddechowych i medytacji. \nJoga ogólna \nProwadząca: Ola
URL:https://gardenshala.pl/yoga/hatha-27/
LOCATION:Garden Shala\, Czołgistów 13\, Łódź\, 94-217\, Poland
END:VEVENT
BEGIN:VEVENT
DTSTART;TZID=Europe/Helsinki:20241219T185000
DTEND;TZID=Europe/Helsinki:20241219T200000
DTSTAMP:20260421T135424
CREATED:20241216T150421Z
LAST-MODIFIED:20241216T150421Z
UID:10000174-1734634200-1734638400@gardenshala.pl
SUMMARY:ASHTANGA
DESCRIPTION:Wprowadzenie do I serii Ashtanga Jogi \nProwadząca: Weronika
URL:https://gardenshala.pl/yoga/ashtanga-91/
LOCATION:Garden Shala\, Czołgistów 13\, Łódź\, 94-217\, Poland
END:VEVENT
BEGIN:VEVENT
DTSTART;TZID=Europe/Helsinki:20241219T173000
DTEND;TZID=Europe/Helsinki:20241219T184500
DTSTAMP:20260421T135424
CREATED:20241214T175447Z
LAST-MODIFIED:20241214T175447Z
UID:10000164-1734629400-1734633900@gardenshala.pl
SUMMARY:HATHA
DESCRIPTION:Statyczna praktyka pozycji jogi z elementami technik oddechowych i medytacji. \nJoga ogólna. \nProwadząca: Weronika
URL:https://gardenshala.pl/yoga/hatha-33/
LOCATION:Garden Shala\, Czołgistów 13\, Łódź\, 94-217\, Poland
END:VEVENT
BEGIN:VEVENT
DTSTART;TZID=Europe/Helsinki:20241218T200500
DTEND;TZID=Europe/Helsinki:20241218T210500
DTSTAMP:20260421T135424
CREATED:20241126T142056Z
LAST-MODIFIED:20241126T142056Z
UID:10000129-1734552300-1734555900@gardenshala.pl
SUMMARY:MEDYTACJA & PRANA
DESCRIPTION:Praktyka mindfulness (uważności) i medytacji\, połączona wraz z technikami oddechowymi. \nProwadząca: Julia \n 
URL:https://gardenshala.pl/yoga/medytacja-prana-4/
LOCATION:Garden Shala\, Czołgistów 13\, Łódź\, 94-217\, Poland
END:VEVENT
BEGIN:VEVENT
DTSTART;TZID=Europe/Helsinki:20241218T183000
DTEND;TZID=Europe/Helsinki:20241218T200000
DTSTAMP:20260421T135424
CREATED:20241126T142257Z
LAST-MODIFIED:20241126T142257Z
UID:10000132-1734546600-1734552000@gardenshala.pl
SUMMARY:ASHTANGA - LED
DESCRIPTION:I seria Ashtanga Jogi – prowadzona \nZaprszamy wszystkie osoby znające pozyzcje stojące I serii. \nProwadząca: Julia
URL:https://gardenshala.pl/yoga/ashtanga-led-2/
LOCATION:Garden Shala\, Czołgistów 13\, Łódź\, 94-217\, Poland
END:VEVENT
BEGIN:VEVENT
DTSTART;TZID=Europe/Helsinki:20241217T184500
DTEND;TZID=Europe/Helsinki:20241217T201500
DTSTAMP:20260421T135424
CREATED:20241126T142001Z
LAST-MODIFIED:20241126T142001Z
UID:10000127-1734461100-1734466500@gardenshala.pl
SUMMARY:ASHTANGA
DESCRIPTION:Mysore – praktyka własna Ashtanga Jogi pod przewodnictwem nauczyciela. \nProwadząca: Agnieszka
URL:https://gardenshala.pl/yoga/ashtanga-63/
LOCATION:Garden Shala\, Czołgistów 13\, Łódź\, 94-217\, Poland
END:VEVENT
BEGIN:VEVENT
DTSTART;TZID=Europe/Helsinki:20241217T173000
DTEND;TZID=Europe/Helsinki:20241217T183000
DTSTAMP:20260421T135424
CREATED:20241126T141943Z
LAST-MODIFIED:20241126T141943Z
UID:10000126-1734456600-1734460200@gardenshala.pl
SUMMARY:ASHTANGA
DESCRIPTION:Wprowadzenie do I serii Ashtanga Jogi \nProwadząca: Agnieszka
URL:https://gardenshala.pl/yoga/ashtanga-62/
LOCATION:Garden Shala\, Czołgistów 13\, Łódź\, 94-217\, Poland
END:VEVENT
END:VCALENDAR