BEGIN:VCALENDAR
VERSION:2.0
PRODID:-//GARDEN SHALA - ECPv6.7.1//NONSGML v1.0//EN
CALSCALE:GREGORIAN
METHOD:PUBLISH
X-WR-CALNAME:GARDEN SHALA
X-ORIGINAL-URL:https://gardenshala.pl
X-WR-CALDESC:Events for GARDEN SHALA
REFRESH-INTERVAL;VALUE=DURATION:PT1H
X-Robots-Tag:noindex
X-PUBLISHED-TTL:PT1H
BEGIN:VTIMEZONE
TZID:Europe/Helsinki
BEGIN:DAYLIGHT
TZOFFSETFROM:+0200
TZOFFSETTO:+0300
TZNAME:EEST
DTSTART:20240331T010000
END:DAYLIGHT
BEGIN:STANDARD
TZOFFSETFROM:+0300
TZOFFSETTO:+0200
TZNAME:EET
DTSTART:20241027T010000
END:STANDARD
END:VTIMEZONE
BEGIN:VEVENT
DTSTART;TZID=Europe/Helsinki:20241001T173000
DTEND;TZID=Europe/Helsinki:20241001T184500
DTSTAMP:20260422T092322
CREATED:20241024T131338Z
LAST-MODIFIED:20241024T131641Z
UID:10000009-1727803800-1727808300@gardenshala.pl
SUMMARY:ASHTANGA
DESCRIPTION:Intro do I serii
URL:https://gardenshala.pl/yoga/ashtanga/
LOCATION:Garden Shala\, Czołgistów 13\, Łódź\, 94-217\, Poland
END:VEVENT
BEGIN:VEVENT
DTSTART;TZID=Europe/Helsinki:20241001T185000
DTEND;TZID=Europe/Helsinki:20241001T202000
DTSTAMP:20260422T092322
CREATED:20241024T132002Z
LAST-MODIFIED:20241024T132230Z
UID:10000014-1727808600-1727814000@gardenshala.pl
SUMMARY:ASHTANGA
DESCRIPTION:Mysore
URL:https://gardenshala.pl/yoga/ashtanga-6/
LOCATION:Garden Shala\, Czołgistów 13\, Łódź\, 94-217\, Poland
END:VEVENT
BEGIN:VEVENT
DTSTART;TZID=Europe/Helsinki:20241003T173000
DTEND;TZID=Europe/Helsinki:20241003T184500
DTSTAMP:20260422T092322
CREATED:20241024T132926Z
LAST-MODIFIED:20241024T132926Z
UID:10000020-1727976600-1727981100@gardenshala.pl
SUMMARY:HATHA
DESCRIPTION:Joga ogólna
URL:https://gardenshala.pl/yoga/hatha-5/
LOCATION:Garden Shala\, Czołgistów 13\, Łódź\, 94-217\, Poland
END:VEVENT
BEGIN:VEVENT
DTSTART;TZID=Europe/Helsinki:20241003T185000
DTEND;TZID=Europe/Helsinki:20241003T200500
DTSTAMP:20260422T092322
CREATED:20241024T133539Z
LAST-MODIFIED:20241024T133539Z
UID:10000025-1727981400-1727985900@gardenshala.pl
SUMMARY:ASHTANGA
DESCRIPTION:Intro do I serii
URL:https://gardenshala.pl/yoga/ashtanga-11/
LOCATION:Garden Shala\, Czołgistów 13\, Łódź\, 94-217\, Poland
END:VEVENT
BEGIN:VEVENT
DTSTART;TZID=Europe/Helsinki:20241004T173000
DTEND;TZID=Europe/Helsinki:20241004T184500
DTSTAMP:20260422T092322
CREATED:20241024T134429Z
LAST-MODIFIED:20241024T134429Z
UID:10000030-1728063000-1728067500@gardenshala.pl
SUMMARY:ASHTANGA
DESCRIPTION:Intro do I serii
URL:https://gardenshala.pl/yoga/ashtanga-16/
LOCATION:Garden Shala\, Czołgistów 13\, Łódź\, 94-217\, Poland
END:VEVENT
BEGIN:VEVENT
DTSTART;TZID=Europe/Helsinki:20241004T185000
DTEND;TZID=Europe/Helsinki:20241004T202000
DTSTAMP:20260422T092322
CREATED:20241024T134904Z
LAST-MODIFIED:20241024T134904Z
UID:10000035-1728067800-1728073200@gardenshala.pl
SUMMARY:ASHTANGA
DESCRIPTION:Intro do II serii
URL:https://gardenshala.pl/yoga/ashtanga-21/
LOCATION:Garden Shala\, Czołgistów 13\, Łódź\, 94-217\, Poland
END:VEVENT
BEGIN:VEVENT
DTSTART;TZID=Europe/Helsinki:20241005T090000
DTEND;TZID=Europe/Helsinki:20241005T104500
DTSTAMP:20260422T092322
CREATED:20241024T135401Z
LAST-MODIFIED:20241024T135401Z
UID:10000040-1728118800-1728125100@gardenshala.pl
SUMMARY:ASHTANGA
DESCRIPTION:Mysore
URL:https://gardenshala.pl/yoga/ashtanga-26/
LOCATION:Garden Shala\, Czołgistów 13\, Łódź\, 94-217\, Poland
END:VEVENT
BEGIN:VEVENT
DTSTART;TZID=Europe/Helsinki:20241005T113000
DTEND;TZID=Europe/Helsinki:20241005T130000
DTSTAMP:20260422T092322
CREATED:20241024T135816Z
LAST-MODIFIED:20241024T140834Z
UID:10000045-1728127800-1728133200@gardenshala.pl
SUMMARY:MASTER CLASS
DESCRIPTION:
URL:https://gardenshala.pl/yoga/master-class/
LOCATION:Garden Shala\, Czołgistów 13\, Łódź\, 94-217\, Poland
END:VEVENT
BEGIN:VEVENT
DTSTART;TZID=Europe/Helsinki:20241006T093000
DTEND;TZID=Europe/Helsinki:20241006T104500
DTSTAMP:20260422T092322
CREATED:20241024T140218Z
LAST-MODIFIED:20241024T140218Z
UID:10000050-1728207000-1728211500@gardenshala.pl
SUMMARY:VINYASA
DESCRIPTION:Energia i Pobudzenie
URL:https://gardenshala.pl/yoga/vinyasa-5/
LOCATION:Garden Shala\, Czołgistów 13\, Łódź\, 94-217\, Poland
END:VEVENT
END:VCALENDAR