BEGIN:VCALENDAR
VERSION:2.0
PRODID:-//GARDEN SHALA - ECPv6.7.1//NONSGML v1.0//EN
CALSCALE:GREGORIAN
METHOD:PUBLISH
X-ORIGINAL-URL:https://gardenshala.pl
X-WR-CALDESC:Events for GARDEN SHALA
REFRESH-INTERVAL;VALUE=DURATION:PT1H
X-Robots-Tag:noindex
X-PUBLISHED-TTL:PT1H
BEGIN:VTIMEZONE
TZID:Europe/Helsinki
BEGIN:DAYLIGHT
TZOFFSETFROM:+0200
TZOFFSETTO:+0300
TZNAME:EEST
DTSTART:20240331T010000
END:DAYLIGHT
BEGIN:STANDARD
TZOFFSETFROM:+0300
TZOFFSETTO:+0200
TZNAME:EET
DTSTART:20241027T010000
END:STANDARD
END:VTIMEZONE
BEGIN:VEVENT
DTSTART;TZID=Europe/Helsinki:20241007T173000
DTEND;TZID=Europe/Helsinki:20241007T184500
DTSTAMP:20260422T092540
CREATED:20241024T124934Z
LAST-MODIFIED:20241024T131626Z
UID:10000001-1728322200-1728326700@gardenshala.pl
SUMMARY:VINYASA
DESCRIPTION:
URL:https://gardenshala.pl/yoga/vinyasa/
LOCATION:Garden Shala\, Czołgistów 13\, Łódź\, 94-217\, Poland
END:VEVENT
BEGIN:VEVENT
DTSTART;TZID=Europe/Helsinki:20241007T185000
DTEND;TZID=Europe/Helsinki:20241007T202000
DTSTAMP:20260422T092540
CREATED:20241024T130642Z
LAST-MODIFIED:20241024T130642Z
UID:10000005-1728327000-1728332400@gardenshala.pl
SUMMARY:HATHA
DESCRIPTION:Joga ogólna
URL:https://gardenshala.pl/yoga/hatha/
LOCATION:Garden Shala\, Czołgistów 13\, Łódź\, 94-217\, Poland
END:VEVENT
BEGIN:VEVENT
DTSTART;TZID=Europe/Helsinki:20241008T173000
DTEND;TZID=Europe/Helsinki:20241008T184500
DTSTAMP:20260422T092540
CREATED:20241024T131704Z
LAST-MODIFIED:20241024T131704Z
UID:10000010-1728408600-1728413100@gardenshala.pl
SUMMARY:ASHTANGA
DESCRIPTION:Intro do I serii
URL:https://gardenshala.pl/yoga/ashtanga-2/
LOCATION:Garden Shala\, Czołgistów 13\, Łódź\, 94-217\, Poland
END:VEVENT
BEGIN:VEVENT
DTSTART;TZID=Europe/Helsinki:20241008T185000
DTEND;TZID=Europe/Helsinki:20241008T202000
DTSTAMP:20260422T092540
CREATED:20241024T132613Z
LAST-MODIFIED:20241024T132613Z
UID:10000016-1728413400-1728418800@gardenshala.pl
SUMMARY:ASHTANGA
DESCRIPTION:Mysore
URL:https://gardenshala.pl/yoga/ashtanga-7/
LOCATION:Garden Shala\, Czołgistów 13\, Łódź\, 94-217\, Poland
END:VEVENT
BEGIN:VEVENT
DTSTART;TZID=Europe/Helsinki:20241010T173000
DTEND;TZID=Europe/Helsinki:20241010T184500
DTSTAMP:20260422T092540
CREATED:20241024T133011Z
LAST-MODIFIED:20241024T133011Z
UID:10000021-1728581400-1728585900@gardenshala.pl
SUMMARY:HATHA
DESCRIPTION:Joga ogólna
URL:https://gardenshala.pl/yoga/hatha-6/
LOCATION:Garden Shala\, Czołgistów 13\, Łódź\, 94-217\, Poland
END:VEVENT
BEGIN:VEVENT
DTSTART;TZID=Europe/Helsinki:20241010T185000
DTEND;TZID=Europe/Helsinki:20241010T200500
DTSTAMP:20260422T092540
CREATED:20241024T133613Z
LAST-MODIFIED:20241024T133613Z
UID:10000026-1728586200-1728590700@gardenshala.pl
SUMMARY:ASHTANGA
DESCRIPTION:Intro do I serii
URL:https://gardenshala.pl/yoga/ashtanga-12/
LOCATION:Garden Shala\, Czołgistów 13\, Łódź\, 94-217\, Poland
END:VEVENT
BEGIN:VEVENT
DTSTART;TZID=Europe/Helsinki:20241011T173000
DTEND;TZID=Europe/Helsinki:20241011T184500
DTSTAMP:20260422T092540
CREATED:20241024T134455Z
LAST-MODIFIED:20241024T134455Z
UID:10000031-1728667800-1728672300@gardenshala.pl
SUMMARY:ASHTANGA
DESCRIPTION:Intro do I serii
URL:https://gardenshala.pl/yoga/ashtanga-17/
LOCATION:Garden Shala\, Czołgistów 13\, Łódź\, 94-217\, Poland
END:VEVENT
BEGIN:VEVENT
DTSTART;TZID=Europe/Helsinki:20241011T185000
DTEND;TZID=Europe/Helsinki:20241011T202000
DTSTAMP:20260422T092540
CREATED:20241024T135011Z
LAST-MODIFIED:20241024T135011Z
UID:10000036-1728672600-1728678000@gardenshala.pl
SUMMARY:ASHTANGA
DESCRIPTION:Intro do II serii
URL:https://gardenshala.pl/yoga/ashtanga-22/
LOCATION:Garden Shala\, Czołgistów 13\, Łódź\, 94-217\, Poland
END:VEVENT
BEGIN:VEVENT
DTSTART;TZID=Europe/Helsinki:20241012T090000
DTEND;TZID=Europe/Helsinki:20241012T104500
DTSTAMP:20260422T092540
CREATED:20241024T135439Z
LAST-MODIFIED:20241024T135439Z
UID:10000041-1728723600-1728729900@gardenshala.pl
SUMMARY:ASHTANGA
DESCRIPTION:Mysore
URL:https://gardenshala.pl/yoga/ashtanga-27/
LOCATION:Garden Shala\, Czołgistów 13\, Łódź\, 94-217\, Poland
END:VEVENT
BEGIN:VEVENT
DTSTART;TZID=Europe/Helsinki:20241012T113000
DTEND;TZID=Europe/Helsinki:20241012T130000
DTSTAMP:20260422T092540
CREATED:20241024T135912Z
LAST-MODIFIED:20241024T140847Z
UID:10000046-1728732600-1728738000@gardenshala.pl
SUMMARY:MASTER CLASS
DESCRIPTION:
URL:https://gardenshala.pl/yoga/master-class-2/
LOCATION:Garden Shala\, Czołgistów 13\, Łódź\, 94-217\, Poland
END:VEVENT
BEGIN:VEVENT
DTSTART;TZID=Europe/Helsinki:20241013T093000
DTEND;TZID=Europe/Helsinki:20241013T104500
DTSTAMP:20260422T092540
CREATED:20241024T140248Z
LAST-MODIFIED:20241024T140248Z
UID:10000051-1728811800-1728816300@gardenshala.pl
SUMMARY:VINYASA
DESCRIPTION:Energia i Pobudzenie
URL:https://gardenshala.pl/yoga/vinyasa-6/
LOCATION:Garden Shala\, Czołgistów 13\, Łódź\, 94-217\, Poland
END:VEVENT
END:VCALENDAR