BEGIN:VCALENDAR
VERSION:2.0
PRODID:-//GARDEN SHALA - ECPv6.7.1//NONSGML v1.0//EN
CALSCALE:GREGORIAN
METHOD:PUBLISH
X-WR-CALNAME:GARDEN SHALA
X-ORIGINAL-URL:https://gardenshala.pl
X-WR-CALDESC:Events for GARDEN SHALA
REFRESH-INTERVAL;VALUE=DURATION:PT1H
X-Robots-Tag:noindex
X-PUBLISHED-TTL:PT1H
BEGIN:VTIMEZONE
TZID:Europe/Helsinki
BEGIN:DAYLIGHT
TZOFFSETFROM:+0200
TZOFFSETTO:+0300
TZNAME:EEST
DTSTART:20240331T010000
END:DAYLIGHT
BEGIN:STANDARD
TZOFFSETFROM:+0300
TZOFFSETTO:+0200
TZNAME:EET
DTSTART:20241027T010000
END:STANDARD
END:VTIMEZONE
BEGIN:VEVENT
DTSTART;TZID=Europe/Helsinki:20241021T173000
DTEND;TZID=Europe/Helsinki:20241021T184500
DTSTAMP:20260422T092353
CREATED:20241024T130219Z
LAST-MODIFIED:20241024T131612Z
UID:10000003-1729531800-1729536300@gardenshala.pl
SUMMARY:VINYASA
DESCRIPTION:
URL:https://gardenshala.pl/yoga/vinyasa-3/
LOCATION:Garden Shala\, Czołgistów 13\, Łódź\, 94-217\, Poland
END:VEVENT
BEGIN:VEVENT
DTSTART;TZID=Europe/Helsinki:20241021T185000
DTEND;TZID=Europe/Helsinki:20241021T202000
DTSTAMP:20260422T092353
CREATED:20241024T131116Z
LAST-MODIFIED:20241024T131116Z
UID:10000007-1729536600-1729542000@gardenshala.pl
SUMMARY:HATHA
DESCRIPTION:Joga ogólna
URL:https://gardenshala.pl/yoga/hatha-3/
LOCATION:Garden Shala\, Czołgistów 13\, Łódź\, 94-217\, Poland
END:VEVENT
BEGIN:VEVENT
DTSTART;TZID=Europe/Helsinki:20241022T173000
DTEND;TZID=Europe/Helsinki:20241022T184500
DTSTAMP:20260422T092353
CREATED:20241024T131809Z
LAST-MODIFIED:20241024T131809Z
UID:10000012-1729618200-1729622700@gardenshala.pl
SUMMARY:ASHTANGA
DESCRIPTION:Intro do I serii
URL:https://gardenshala.pl/yoga/ashtanga-4/
LOCATION:Garden Shala\, Czołgistów 13\, Łódź\, 94-217\, Poland
END:VEVENT
BEGIN:VEVENT
DTSTART;TZID=Europe/Helsinki:20241022T185000
DTEND;TZID=Europe/Helsinki:20241022T202000
DTSTAMP:20260422T092353
CREATED:20241024T132733Z
LAST-MODIFIED:20241024T132733Z
UID:10000018-1729623000-1729628400@gardenshala.pl
SUMMARY:ASHTANGA
DESCRIPTION:Mysore
URL:https://gardenshala.pl/yoga/ashtanga-9/
LOCATION:Garden Shala\, Czołgistów 13\, Łódź\, 94-217\, Poland
END:VEVENT
BEGIN:VEVENT
DTSTART;TZID=Europe/Helsinki:20241024T173000
DTEND;TZID=Europe/Helsinki:20241024T184500
DTSTAMP:20260422T092353
CREATED:20241024T133207Z
LAST-MODIFIED:20241024T133207Z
UID:10000023-1729791000-1729795500@gardenshala.pl
SUMMARY:HATHA
DESCRIPTION:Joga ogólna
URL:https://gardenshala.pl/yoga/hatha-8/
LOCATION:Garden Shala\, Czołgistów 13\, Łódź\, 94-217\, Poland
END:VEVENT
BEGIN:VEVENT
DTSTART;TZID=Europe/Helsinki:20241024T185000
DTEND;TZID=Europe/Helsinki:20241024T200500
DTSTAMP:20260422T092353
CREATED:20241024T134030Z
LAST-MODIFIED:20241024T134030Z
UID:10000028-1729795800-1729800300@gardenshala.pl
SUMMARY:ASHTANGA
DESCRIPTION:Intro do I serii
URL:https://gardenshala.pl/yoga/ashtanga-14/
LOCATION:Garden Shala\, Czołgistów 13\, Łódź\, 94-217\, Poland
END:VEVENT
BEGIN:VEVENT
DTSTART;TZID=Europe/Helsinki:20241025T173000
DTEND;TZID=Europe/Helsinki:20241025T184500
DTSTAMP:20260422T092353
CREATED:20241024T134706Z
LAST-MODIFIED:20241024T134706Z
UID:10000033-1729877400-1729881900@gardenshala.pl
SUMMARY:ASHTANGA
DESCRIPTION:Intro do I serii
URL:https://gardenshala.pl/yoga/ashtanga-19/
LOCATION:Garden Shala\, Czołgistów 13\, Łódź\, 94-217\, Poland
END:VEVENT
BEGIN:VEVENT
DTSTART;TZID=Europe/Helsinki:20241025T185000
DTEND;TZID=Europe/Helsinki:20241025T202000
DTSTAMP:20260422T092353
CREATED:20241024T135131Z
LAST-MODIFIED:20241024T135131Z
UID:10000038-1729882200-1729887600@gardenshala.pl
SUMMARY:ASHTANGA
DESCRIPTION:Intro do II serii
URL:https://gardenshala.pl/yoga/ashtanga-24/
LOCATION:Garden Shala\, Czołgistów 13\, Łódź\, 94-217\, Poland
END:VEVENT
BEGIN:VEVENT
DTSTART;TZID=Europe/Helsinki:20241026T090000
DTEND;TZID=Europe/Helsinki:20241026T104500
DTSTAMP:20260422T092353
CREATED:20241024T135601Z
LAST-MODIFIED:20241024T135601Z
UID:10000043-1729933200-1729939500@gardenshala.pl
SUMMARY:ASHTANGA
DESCRIPTION:Mysore
URL:https://gardenshala.pl/yoga/ashtanga-29/
LOCATION:Garden Shala\, Czołgistów 13\, Łódź\, 94-217\, Poland
END:VEVENT
BEGIN:VEVENT
DTSTART;TZID=Europe/Helsinki:20241026T113000
DTEND;TZID=Europe/Helsinki:20241026T130000
DTSTAMP:20260422T092353
CREATED:20241024T140033Z
LAST-MODIFIED:20241024T140937Z
UID:10000048-1729942200-1729947600@gardenshala.pl
SUMMARY:MASTER CLASS
DESCRIPTION:
URL:https://gardenshala.pl/yoga/master-class-4/
LOCATION:Garden Shala\, Czołgistów 13\, Łódź\, 94-217\, Poland
END:VEVENT
BEGIN:VEVENT
DTSTART;TZID=Europe/Helsinki:20241027T093000
DTEND;TZID=Europe/Helsinki:20241027T104500
DTSTAMP:20260422T092353
CREATED:20241024T140409Z
LAST-MODIFIED:20241024T140409Z
UID:10000053-1730021400-1730025900@gardenshala.pl
SUMMARY:VINYASA
DESCRIPTION:Energia i Pobudzenie
URL:https://gardenshala.pl/yoga/vinyasa-8/
LOCATION:Garden Shala\, Czołgistów 13\, Łódź\, 94-217\, Poland
END:VEVENT
END:VCALENDAR