BEGIN:VCALENDAR
VERSION:2.0
PRODID:-//GARDEN SHALA - ECPv6.7.1//NONSGML v1.0//EN
CALSCALE:GREGORIAN
METHOD:PUBLISH
X-ORIGINAL-URL:https://gardenshala.pl
X-WR-CALDESC:Events for GARDEN SHALA
REFRESH-INTERVAL;VALUE=DURATION:PT1H
X-Robots-Tag:noindex
X-PUBLISHED-TTL:PT1H
BEGIN:VTIMEZONE
TZID:Europe/Helsinki
BEGIN:DAYLIGHT
TZOFFSETFROM:+0200
TZOFFSETTO:+0300
TZNAME:EEST
DTSTART:20240331T010000
END:DAYLIGHT
BEGIN:STANDARD
TZOFFSETFROM:+0300
TZOFFSETTO:+0200
TZNAME:EET
DTSTART:20241027T010000
END:STANDARD
END:VTIMEZONE
BEGIN:VEVENT
DTSTART;TZID=Europe/Helsinki:20241028T173000
DTEND;TZID=Europe/Helsinki:20241028T184500
DTSTAMP:20260422T092534
CREATED:20241024T130510Z
LAST-MODIFIED:20241024T131606Z
UID:10000004-1730136600-1730141100@gardenshala.pl
SUMMARY:VINYASA
DESCRIPTION:
URL:https://gardenshala.pl/yoga/vinyasa-4/
LOCATION:Garden Shala\, Czołgistów 13\, Łódź\, 94-217\, Poland
END:VEVENT
BEGIN:VEVENT
DTSTART;TZID=Europe/Helsinki:20241028T185000
DTEND;TZID=Europe/Helsinki:20241028T202000
DTSTAMP:20260422T092534
CREATED:20241024T131231Z
LAST-MODIFIED:20241024T131231Z
UID:10000008-1730141400-1730146800@gardenshala.pl
SUMMARY:HATHA
DESCRIPTION:Joga ogólna
URL:https://gardenshala.pl/yoga/hatha-4/
LOCATION:Garden Shala\, Czołgistów 13\, Łódź\, 94-217\, Poland
END:VEVENT
BEGIN:VEVENT
DTSTART;TZID=Europe/Helsinki:20241029T173000
DTEND;TZID=Europe/Helsinki:20241029T184500
DTSTAMP:20260422T092534
CREATED:20241024T131851Z
LAST-MODIFIED:20241024T131851Z
UID:10000013-1730223000-1730227500@gardenshala.pl
SUMMARY:ASHTANGA
DESCRIPTION:Intro do I serii
URL:https://gardenshala.pl/yoga/ashtanga-5/
LOCATION:Garden Shala\, Czołgistów 13\, Łódź\, 94-217\, Poland
END:VEVENT
BEGIN:VEVENT
DTSTART;TZID=Europe/Helsinki:20241029T185000
DTEND;TZID=Europe/Helsinki:20241029T202000
DTSTAMP:20260422T092534
CREATED:20241024T132823Z
LAST-MODIFIED:20241024T132823Z
UID:10000019-1730227800-1730233200@gardenshala.pl
SUMMARY:ASHTANGA
DESCRIPTION:Mysore
URL:https://gardenshala.pl/yoga/ashtanga-10/
LOCATION:Garden Shala\, Czołgistów 13\, Łódź\, 94-217\, Poland
END:VEVENT
BEGIN:VEVENT
DTSTART;TZID=Europe/Helsinki:20241031T173000
DTEND;TZID=Europe/Helsinki:20241031T184500
DTSTAMP:20260422T092534
CREATED:20241024T133258Z
LAST-MODIFIED:20241024T133319Z
UID:10000024-1730395800-1730400300@gardenshala.pl
SUMMARY:HATHA
DESCRIPTION:Joga ogólna
URL:https://gardenshala.pl/yoga/hatha-9/
LOCATION:Garden Shala\, Czołgistów 13\, Łódź\, 94-217\, Poland
END:VEVENT
BEGIN:VEVENT
DTSTART;TZID=Europe/Helsinki:20241031T185000
DTEND;TZID=Europe/Helsinki:20241031T200500
DTSTAMP:20260422T092534
CREATED:20241024T134156Z
LAST-MODIFIED:20241024T134156Z
UID:10000029-1730400600-1730405100@gardenshala.pl
SUMMARY:ASHTANGA
DESCRIPTION:Intro do I serii
URL:https://gardenshala.pl/yoga/ashtanga-15/
LOCATION:Garden Shala\, Czołgistów 13\, Łódź\, 94-217\, Poland
END:VEVENT
BEGIN:VEVENT
DTSTART;TZID=Europe/Helsinki:20241101T180000
DTEND;TZID=Europe/Helsinki:20241101T193000
DTSTAMP:20260422T092534
CREATED:20241024T135213Z
LAST-MODIFIED:20241031T103519Z
UID:10000056-1730484000-1730489400@gardenshala.pl
SUMMARY:PRANA & ASANA
DESCRIPTION:Praktyka asan i technik oddechowych\, zagłębienie w medytacji. \nWydłużona savasana i relaks\, przy świecach. \nProwadząca: Julia
URL:https://gardenshala.pl/yoga/ashtanga-25/
LOCATION:Garden Shala\, Czołgistów 13\, Łódź\, 94-217\, Poland
END:VEVENT
BEGIN:VEVENT
DTSTART;TZID=Europe/Helsinki:20241102T090000
DTEND;TZID=Europe/Helsinki:20241102T104500
DTSTAMP:20260422T092534
CREATED:20241024T135708Z
LAST-MODIFIED:20241024T135708Z
UID:10000044-1730538000-1730544300@gardenshala.pl
SUMMARY:ASHTANGA
DESCRIPTION:Mysore
URL:https://gardenshala.pl/yoga/ashtanga-30/
LOCATION:Garden Shala\, Czołgistów 13\, Łódź\, 94-217\, Poland
END:VEVENT
BEGIN:VEVENT
DTSTART;TZID=Europe/Helsinki:20241102T113000
DTEND;TZID=Europe/Helsinki:20241102T130000
DTSTAMP:20260422T092534
CREATED:20241024T140126Z
LAST-MODIFIED:20241024T141004Z
UID:10000049-1730547000-1730552400@gardenshala.pl
SUMMARY:MASTER CLASS
DESCRIPTION:
URL:https://gardenshala.pl/yoga/master-class-5/
LOCATION:Garden Shala\, Czołgistów 13\, Łódź\, 94-217\, Poland
END:VEVENT
BEGIN:VEVENT
DTSTART;TZID=Europe/Helsinki:20241103T093000
DTEND;TZID=Europe/Helsinki:20241103T104500
DTSTAMP:20260422T092534
CREATED:20241024T140518Z
LAST-MODIFIED:20241024T140518Z
UID:10000054-1730626200-1730630700@gardenshala.pl
SUMMARY:VINYASA
DESCRIPTION:Energia i Pobudzenie
URL:https://gardenshala.pl/yoga/vinyasa-9/
LOCATION:Garden Shala\, Czołgistów 13\, Łódź\, 94-217\, Poland
END:VEVENT
BEGIN:VEVENT
DTSTART;TZID=Europe/Helsinki:20241103T110000
DTEND;TZID=Europe/Helsinki:20241103T123000
DTSTAMP:20260422T092534
CREATED:20241031T104221Z
LAST-MODIFIED:20241031T104316Z
UID:10000057-1730631600-1730637000@gardenshala.pl
SUMMARY:ASHTANGA
DESCRIPTION:Intro do II serii \nProwadząca: Julia
URL:https://gardenshala.pl/yoga/ashtanga-31/
LOCATION:Garden Shala\, Czołgistów 13\, Łódź\, 94-217\, Poland
END:VEVENT
END:VCALENDAR