BEGIN:VCALENDAR
VERSION:2.0
PRODID:-//GARDEN SHALA - ECPv6.7.1//NONSGML v1.0//EN
CALSCALE:GREGORIAN
METHOD:PUBLISH
X-ORIGINAL-URL:https://gardenshala.pl
X-WR-CALDESC:Events for GARDEN SHALA
REFRESH-INTERVAL;VALUE=DURATION:PT1H
X-Robots-Tag:noindex
X-PUBLISHED-TTL:PT1H
BEGIN:VTIMEZONE
TZID:Europe/Helsinki
BEGIN:DAYLIGHT
TZOFFSETFROM:+0200
TZOFFSETTO:+0300
TZNAME:EEST
DTSTART:20240331T010000
END:DAYLIGHT
BEGIN:STANDARD
TZOFFSETFROM:+0300
TZOFFSETTO:+0200
TZNAME:EET
DTSTART:20241027T010000
END:STANDARD
END:VTIMEZONE
BEGIN:VEVENT
DTSTART;TZID=Europe/Helsinki:20241202T173000
DTEND;TZID=Europe/Helsinki:20241202T184500
DTSTAMP:20260422T080421
CREATED:20241126T133252Z
LAST-MODIFIED:20241126T133252Z
UID:10000103-1733160600-1733165100@gardenshala.pl
SUMMARY:VINYASA
DESCRIPTION:Płynna praktyka pozycji jogi (asan)\, ruch poączony z oddechem. \nMedytacja w ruchu. \nProwadząca: Ola
URL:https://gardenshala.pl/yoga/vinyasa-17/
LOCATION:Garden Shala\, Czołgistów 13\, Łódź\, 94-217\, Poland
END:VEVENT
BEGIN:VEVENT
DTSTART;TZID=Europe/Helsinki:20241202T185000
DTEND;TZID=Europe/Helsinki:20241202T202000
DTSTAMP:20260422T080421
CREATED:20241126T133518Z
LAST-MODIFIED:20241126T133518Z
UID:10000104-1733165400-1733170800@gardenshala.pl
SUMMARY:HATHA
DESCRIPTION:Statyczna praktyka pozycji jogi z elementami technik oddechowych i medytacji. \nJoga ogólna \nProwadząca: Ola
URL:https://gardenshala.pl/yoga/hatha-18/
LOCATION:Garden Shala\, Czołgistów 13\, Łódź\, 94-217\, Poland
END:VEVENT
BEGIN:VEVENT
DTSTART;TZID=Europe/Helsinki:20241203T173000
DTEND;TZID=Europe/Helsinki:20241203T183000
DTSTAMP:20260422T080421
CREATED:20241126T133748Z
LAST-MODIFIED:20241126T133748Z
UID:10000105-1733247000-1733250600@gardenshala.pl
SUMMARY:ASHTANGA
DESCRIPTION:Wprowadzenie do I serii Ashtanga Jogi \nProwadząca: Agnieszka
URL:https://gardenshala.pl/yoga/ashtanga-42/
LOCATION:Garden Shala\, Czołgistów 13\, Łódź\, 94-217\, Poland
END:VEVENT
BEGIN:VEVENT
DTSTART;TZID=Europe/Helsinki:20241203T184500
DTEND;TZID=Europe/Helsinki:20241203T201500
DTSTAMP:20260422T080421
CREATED:20241126T133908Z
LAST-MODIFIED:20241126T133908Z
UID:10000106-1733251500-1733256900@gardenshala.pl
SUMMARY:ASHTANGA
DESCRIPTION:Mysore – praktyka własna Ashtanga Jogi pod przewodnictwem nauczyciela. \nProwadząca: Agnieszka
URL:https://gardenshala.pl/yoga/ashtanga-55/
LOCATION:Garden Shala\, Czołgistów 13\, Łódź\, 94-217\, Poland
END:VEVENT
BEGIN:VEVENT
DTSTART;TZID=Europe/Helsinki:20241205T173000
DTEND;TZID=Europe/Helsinki:20241205T184500
DTSTAMP:20260422T080421
CREATED:20241126T134030Z
LAST-MODIFIED:20241126T134030Z
UID:10000107-1733419800-1733424300@gardenshala.pl
SUMMARY:HATHA
DESCRIPTION:Statyczna praktyka pozycji jogi z elementami technik oddechowych i medytacji. \nJoga ogólna. \nProwadząca: Weronika
URL:https://gardenshala.pl/yoga/hatha-19/
LOCATION:Garden Shala\, Czołgistów 13\, Łódź\, 94-217\, Poland
END:VEVENT
BEGIN:VEVENT
DTSTART;TZID=Europe/Helsinki:20241205T185000
DTEND;TZID=Europe/Helsinki:20241205T200000
DTSTAMP:20260422T080421
CREATED:20241126T134144Z
LAST-MODIFIED:20241126T134144Z
UID:10000108-1733424600-1733428800@gardenshala.pl
SUMMARY:ASHTANGA
DESCRIPTION:Wprowadzenie do I serii Ashtanga Jogi \nProwadząca: Weronika
URL:https://gardenshala.pl/yoga/ashtanga-56/
LOCATION:Garden Shala\, Czołgistów 13\, Łódź\, 94-217\, Poland
END:VEVENT
BEGIN:VEVENT
DTSTART;TZID=Europe/Helsinki:20241207T090000
DTEND;TZID=Europe/Helsinki:20241207T104500
DTSTAMP:20260422T080421
CREATED:20241126T134528Z
LAST-MODIFIED:20241126T134528Z
UID:10000110-1733562000-1733568300@gardenshala.pl
SUMMARY:ASHTANGA
DESCRIPTION:Mysore – praktyka własna pod przewodnictwem nauczyciela \nProwadząca: Julia
URL:https://gardenshala.pl/yoga/ashtanga-57/
LOCATION:Garden Shala\, Czołgistów 13\, Łódź\, 94-217\, Poland
END:VEVENT
BEGIN:VEVENT
DTSTART;TZID=Europe/Helsinki:20241208T090000
DTEND;TZID=Europe/Helsinki:20241208T100000
DTSTAMP:20260422T080421
CREATED:20241126T140902Z
LAST-MODIFIED:20241126T141000Z
UID:10000114-1733648400-1733652000@gardenshala.pl
SUMMARY:MEDYTACJA & PRANA
DESCRIPTION:Praktyka mindfulness (uważności) i medytacji\, połączona wraz z technikami oddechowymi. \nProwadząca: Julia \n 
URL:https://gardenshala.pl/yoga/medytacja-prana-2/
LOCATION:Garden Shala\, Czołgistów 13\, Łódź\, 94-217\, Poland
END:VEVENT
BEGIN:VEVENT
DTSTART;TZID=Europe/Helsinki:20241208T101000
DTEND;TZID=Europe/Helsinki:20241208T112500
DTSTAMP:20260422T080421
CREATED:20241126T135642Z
LAST-MODIFIED:20241126T135642Z
UID:10000111-1733652600-1733657100@gardenshala.pl
SUMMARY:VINYASA
DESCRIPTION:Energia i Pobudzenie \nPraktyka jogi mająca na celu rozbudzenie ciała i umysłu – czyli idealny sposób na rozpoczęcie niedzieli! \nProwadząca: Julia
URL:https://gardenshala.pl/yoga/vinyasa-18/
LOCATION:Garden Shala\, Czołgistów 13\, Łódź\, 94-217\, Poland
END:VEVENT
END:VCALENDAR