BEGIN:VCALENDAR
VERSION:2.0
PRODID:-//GARDEN SHALA - ECPv6.7.1//NONSGML v1.0//EN
CALSCALE:GREGORIAN
METHOD:PUBLISH
X-ORIGINAL-URL:https://gardenshala.pl
X-WR-CALDESC:Events for GARDEN SHALA
REFRESH-INTERVAL;VALUE=DURATION:PT1H
X-Robots-Tag:noindex
X-PUBLISHED-TTL:PT1H
BEGIN:VTIMEZONE
TZID:Europe/Helsinki
BEGIN:DAYLIGHT
TZOFFSETFROM:+0200
TZOFFSETTO:+0300
TZNAME:EEST
DTSTART:20250330T010000
END:DAYLIGHT
BEGIN:STANDARD
TZOFFSETFROM:+0300
TZOFFSETTO:+0200
TZNAME:EET
DTSTART:20251026T010000
END:STANDARD
END:VTIMEZONE
BEGIN:VEVENT
DTSTART;TZID=Europe/Helsinki:20250106T123000
DTEND;TZID=Europe/Helsinki:20250106T140000
DTSTAMP:20260422T033753
CREATED:20241214T174250Z
LAST-MODIFIED:20250103T200954Z
UID:10000154-1736166600-1736172000@gardenshala.pl
SUMMARY:HATHA
DESCRIPTION:Statyczna praktyka pozycji jogi z elementami technik oddechowych i medytacji. \nJoga ogólna \nProwadząca: Ola
URL:https://gardenshala.pl/yoga/hatha-30/
LOCATION:Garden Shala\, Czołgistów 13\, Łódź\, 94-217\, Poland
END:VEVENT
BEGIN:VEVENT
DTSTART;TZID=Europe/Helsinki:20250107T173000
DTEND;TZID=Europe/Helsinki:20250107T183000
DTSTAMP:20260422T033753
CREATED:20241214T174348Z
LAST-MODIFIED:20241214T174348Z
UID:10000155-1736271000-1736274600@gardenshala.pl
SUMMARY:ASHTANGA
DESCRIPTION:Wprowadzenie do I serii Ashtanga Jogi \nProwadząca: Agnieszka
URL:https://gardenshala.pl/yoga/ashtanga-71/
LOCATION:Garden Shala\, Czołgistów 13\, Łódź\, 94-217\, Poland
END:VEVENT
BEGIN:VEVENT
DTSTART;TZID=Europe/Helsinki:20250107T184500
DTEND;TZID=Europe/Helsinki:20250107T201500
DTSTAMP:20260422T033753
CREATED:20241214T174455Z
LAST-MODIFIED:20241214T174455Z
UID:10000156-1736275500-1736280900@gardenshala.pl
SUMMARY:ASHTANGA
DESCRIPTION:Mysore – praktyka własna Ashtanga Jogi pod przewodnictwem nauczyciela. \nProwadząca: Agnieszka
URL:https://gardenshala.pl/yoga/ashtanga-72/
LOCATION:Garden Shala\, Czołgistów 13\, Łódź\, 94-217\, Poland
END:VEVENT
BEGIN:VEVENT
DTSTART;TZID=Europe/Helsinki:20250108T183000
DTEND;TZID=Europe/Helsinki:20250108T200000
DTSTAMP:20260422T033753
CREATED:20241214T174607Z
LAST-MODIFIED:20241214T174607Z
UID:10000157-1736361000-1736366400@gardenshala.pl
SUMMARY:ASHTANGA - LED
DESCRIPTION:I seria Ashtanga Jogi – prowadzona \nZaprszamy wszystkie osoby znające pozyzcje stojące I serii. \nProwadząca: Julia
URL:https://gardenshala.pl/yoga/ashtanga-led-3/
LOCATION:Garden Shala\, Czołgistów 13\, Łódź\, 94-217\, Poland
END:VEVENT
BEGIN:VEVENT
DTSTART;TZID=Europe/Helsinki:20250108T200500
DTEND;TZID=Europe/Helsinki:20250108T210500
DTSTAMP:20260422T033753
CREATED:20241214T174553Z
LAST-MODIFIED:20241214T174553Z
UID:10000158-1736366700-1736370300@gardenshala.pl
SUMMARY:MEDYTACJA & PRANA
DESCRIPTION:Praktyka mindfulness (uważności) i medytacji\, połączona wraz z technikami oddechowymi. \nProwadząca: Julia \n 
URL:https://gardenshala.pl/yoga/medytacja-prana-7/
LOCATION:Garden Shala\, Czołgistów 13\, Łódź\, 94-217\, Poland
END:VEVENT
BEGIN:VEVENT
DTSTART;TZID=Europe/Helsinki:20250109T173000
DTEND;TZID=Europe/Helsinki:20250109T184500
DTSTAMP:20260422T033753
CREATED:20241126T142328Z
LAST-MODIFIED:20241214T175156Z
UID:10000130-1736443800-1736448300@gardenshala.pl
SUMMARY:HATHA
DESCRIPTION:Statyczna praktyka pozycji jogi z elementami technik oddechowych i medytacji. \nJoga ogólna. \nProwadząca: Weronika
URL:https://gardenshala.pl/yoga/hatha-23/
LOCATION:Garden Shala\, Czołgistów 13\, Łódź\, 94-217\, Poland
END:VEVENT
BEGIN:VEVENT
DTSTART;TZID=Europe/Helsinki:20250109T185000
DTEND;TZID=Europe/Helsinki:20250109T200000
DTSTAMP:20260422T033753
CREATED:20241214T180129Z
LAST-MODIFIED:20241214T180129Z
UID:10000173-1736448600-1736452800@gardenshala.pl
SUMMARY:ASHTANGA
DESCRIPTION:Wprowadzenie do I serii Ashtanga Jogi \nProwadząca: Weronika
URL:https://gardenshala.pl/yoga/ashtanga-78/
LOCATION:Garden Shala\, Czołgistów 13\, Łódź\, 94-217\, Poland
END:VEVENT
BEGIN:VEVENT
DTSTART;TZID=Europe/Helsinki:20250110T173000
DTEND;TZID=Europe/Helsinki:20250110T184500
DTSTAMP:20260422T033753
CREATED:20241214T175719Z
LAST-MODIFIED:20241214T175719Z
UID:10000168-1736530200-1736534700@gardenshala.pl
SUMMARY:HATHA
DESCRIPTION:Statyczna praktyka pozycji jogi z elementami technik oddechowych i medytacji. \nJoga ogólna \nProwadząca: Ola
URL:https://gardenshala.pl/yoga/hatha-35/
LOCATION:Garden Shala\, Czołgistów 13\, Łódź\, 94-217\, Poland
END:VEVENT
BEGIN:VEVENT
DTSTART;TZID=Europe/Helsinki:20250110T185000
DTEND;TZID=Europe/Helsinki:20250110T202000
DTSTAMP:20260422T033753
CREATED:20241214T175759Z
LAST-MODIFIED:20241214T175759Z
UID:10000169-1736535000-1736540400@gardenshala.pl
SUMMARY:ASHTANGA
DESCRIPTION:Wprowadzenie do II serii Ashtanga Jogi \nProwadząca: Julia
URL:https://gardenshala.pl/yoga/ashtanga-76/
LOCATION:Garden Shala\, Czołgistów 13\, Łódź\, 94-217\, Poland
END:VEVENT
BEGIN:VEVENT
DTSTART;TZID=Europe/Helsinki:20250111T090000
DTEND;TZID=Europe/Helsinki:20250111T104500
DTSTAMP:20260422T033753
CREATED:20241214T175826Z
LAST-MODIFIED:20241214T175826Z
UID:10000170-1736586000-1736592300@gardenshala.pl
SUMMARY:ASHTANGA
DESCRIPTION:Mysore – praktyka własna pod przewodnictwem nauczyciela \nProwadząca: Julia
URL:https://gardenshala.pl/yoga/ashtanga-77/
LOCATION:Garden Shala\, Czołgistów 13\, Łódź\, 94-217\, Poland
END:VEVENT
BEGIN:VEVENT
DTSTART;TZID=Europe/Helsinki:20250112T090000
DTEND;TZID=Europe/Helsinki:20250112T100000
DTSTAMP:20260422T033753
CREATED:20241214T175928Z
LAST-MODIFIED:20241214T175928Z
UID:10000171-1736672400-1736676000@gardenshala.pl
SUMMARY:MEDYTACJA & PRANA
DESCRIPTION:Praktyka mindfulness (uważności) i medytacji\, połączona wraz z technikami oddechowymi. \nProwadząca: Julia \n 
URL:https://gardenshala.pl/yoga/medytacja-prana-9/
LOCATION:Garden Shala\, Czołgistów 13\, Łódź\, 94-217\, Poland
END:VEVENT
BEGIN:VEVENT
DTSTART;TZID=Europe/Helsinki:20250112T101000
DTEND;TZID=Europe/Helsinki:20250112T112500
DTSTAMP:20260422T033753
CREATED:20241214T175934Z
LAST-MODIFIED:20241214T175934Z
UID:10000172-1736676600-1736681100@gardenshala.pl
SUMMARY:VINYASA
DESCRIPTION:Energia i Pobudzenie \nPraktyka jogi mająca na celu rozbudzenie ciała i umysłu – czyli idealny sposób na rozpoczęcie niedzieli! \nProwadząca: Julia
URL:https://gardenshala.pl/yoga/vinyasa-28/
LOCATION:Garden Shala\, Czołgistów 13\, Łódź\, 94-217\, Poland
END:VEVENT
END:VCALENDAR