BEGIN:VCALENDAR
VERSION:2.0
PRODID:-//GARDEN SHALA - ECPv6.7.1//NONSGML v1.0//EN
CALSCALE:GREGORIAN
METHOD:PUBLISH
X-WR-CALNAME:GARDEN SHALA
X-ORIGINAL-URL:https://gardenshala.pl
X-WR-CALDESC:Events for GARDEN SHALA
REFRESH-INTERVAL;VALUE=DURATION:PT1H
X-Robots-Tag:noindex
X-PUBLISHED-TTL:PT1H
BEGIN:VTIMEZONE
TZID:Europe/Warsaw
BEGIN:DAYLIGHT
TZOFFSETFROM:+0100
TZOFFSETTO:+0200
TZNAME:CEST
DTSTART:20250330T010000
END:DAYLIGHT
BEGIN:STANDARD
TZOFFSETFROM:+0200
TZOFFSETTO:+0100
TZNAME:CET
DTSTART:20251026T010000
END:STANDARD
TZID:Europe/Helsinki
BEGIN:DAYLIGHT
TZOFFSETFROM:+0200
TZOFFSETTO:+0300
TZNAME:EEST
DTSTART:20250330T010000
END:DAYLIGHT
BEGIN:STANDARD
TZOFFSETFROM:+0300
TZOFFSETTO:+0200
TZNAME:EET
DTSTART:20251026T010000
END:STANDARD
END:VTIMEZONE
BEGIN:VEVENT
DTSTART;TZID=Europe/Warsaw:20250210T173000
DTEND;TZID=Europe/Warsaw:20250210T184500
DTSTAMP:20260422T031743
CREATED:20250130T171127Z
LAST-MODIFIED:20250130T172658Z
UID:10000273-1739208600-1739213100@gardenshala.pl
SUMMARY:Joga dla początkujących
DESCRIPTION:Solidna podstawa do praktyki jogi\, prawidłowego wykonywania asan oraz pracy z oddechem.  \nProwadząca: Ola Wietecha-Drobik
URL:https://gardenshala.pl/yoga/joga-dla-poczatkujacych-2/
LOCATION:Garden Shala\, Czołgistów 13\, Łódź\, 94-217\, Poland
END:VEVENT
BEGIN:VEVENT
DTSTART;TZID=Europe/Helsinki:20250210T185000
DTEND;TZID=Europe/Helsinki:20250210T202000
DTSTAMP:20260422T031743
CREATED:20250130T172706Z
LAST-MODIFIED:20250130T172706Z
UID:10000259-1739213400-1739218800@gardenshala.pl
SUMMARY:Hatha Joga
DESCRIPTION:Statyczna praktyka pozycji jogi z elementami technik oddechowych i medytacji. \nJoga ogólna \nProwadząca: Ola
URL:https://gardenshala.pl/yoga/hatha-joga/
LOCATION:Garden Shala\, Czołgistów 13\, Łódź\, 94-217\, Poland
END:VEVENT
BEGIN:VEVENT
DTSTART;TZID=Europe/Helsinki:20250211T173000
DTEND;TZID=Europe/Helsinki:20250211T183000
DTSTAMP:20260422T031743
CREATED:20250123T190516Z
LAST-MODIFIED:20250130T180625Z
UID:10000234-1739295000-1739298600@gardenshala.pl
SUMMARY:Ashtanga dla początkujących
DESCRIPTION:Wprowadzenie do I serii Ashtanga Jogi \nProwadząca: Agnieszka
URL:https://gardenshala.pl/yoga/ashtanga-97/
LOCATION:Garden Shala\, Czołgistów 13\, Łódź\, 94-217\, Poland
END:VEVENT
BEGIN:VEVENT
DTSTART;TZID=Europe/Helsinki:20250211T184500
DTEND;TZID=Europe/Helsinki:20250211T201500
DTSTAMP:20260422T031743
CREATED:20250123T190609Z
LAST-MODIFIED:20250130T180635Z
UID:10000235-1739299500-1739304900@gardenshala.pl
SUMMARY:Ashtanga Mysore
DESCRIPTION:Mysore – praktyka własna Ashtanga Jogi pod przewodnictwem nauczyciela. \nProwadząca: Agnieszka
URL:https://gardenshala.pl/yoga/ashtanga-98/
LOCATION:Garden Shala\, Czołgistów 13\, Łódź\, 94-217\, Poland
END:VEVENT
BEGIN:VEVENT
DTSTART;TZID=Europe/Warsaw:20250212T171500
DTEND;TZID=Europe/Warsaw:20250212T183000
DTSTAMP:20260422T031743
CREATED:20241220T084135Z
LAST-MODIFIED:20241220T084135Z
UID:10000213-1739380500-1739385000@gardenshala.pl
SUMMARY:ODKRYJ ASHTANGĘ - kurs
DESCRIPTION:ODKRYJ ASHTANGĘ – 2-miesięczny kurs wprowadzający do Ashtanga jogi z Julią Zabost \nOdkryj świat ashtangi\, jej filozofię\, najważniejsze aspekty i zanurz się w ruchu połączonym z oddechem.
URL:https://gardenshala.pl/yoga/odkryj-ashtange-kurs-4/
LOCATION:Garden Shala\, Czołgistów 13\, Łódź\, 94-217\, Poland
END:VEVENT
BEGIN:VEVENT
DTSTART;TZID=Europe/Warsaw:20250212T184000
DTEND;TZID=Europe/Warsaw:20250212T195500
DTSTAMP:20260422T031743
CREATED:20250129T121246Z
LAST-MODIFIED:20250130T180645Z
UID:10000263-1739385600-1739390100@gardenshala.pl
SUMMARY:Vinyasa Joga
DESCRIPTION:Power Vinyasa \nDynamiczna praktyka asan – rozgrzewająca i wzmacniająca ciało\, przeplatana płynnymi przejściami.  \nProwadząca: Julia Zabost
URL:https://gardenshala.pl/yoga/power-vinyasa/
LOCATION:Garden Shala\, Czołgistów 13\, Łódź\, 94-217\, Poland
END:VEVENT
BEGIN:VEVENT
DTSTART;TZID=Europe/Helsinki:20250213T173000
DTEND;TZID=Europe/Helsinki:20250213T184500
DTSTAMP:20260422T031743
CREATED:20250129T114115Z
LAST-MODIFIED:20250130T180705Z
UID:10000241-1739467800-1739472300@gardenshala.pl
SUMMARY:Hatha Joga
DESCRIPTION:Statyczna praktyka pozycji jogi z elementami technik oddechowych i medytacji. \nJoga ogólna. \nProwadząca: Weronika
URL:https://gardenshala.pl/yoga/hatha-44/
LOCATION:Garden Shala\, Czołgistów 13\, Łódź\, 94-217\, Poland
END:VEVENT
BEGIN:VEVENT
DTSTART;TZID=Europe/Helsinki:20250213T185000
DTEND;TZID=Europe/Helsinki:20250213T200000
DTSTAMP:20260422T031743
CREATED:20250129T114208Z
LAST-MODIFIED:20250130T180727Z
UID:10000242-1739472600-1739476800@gardenshala.pl
SUMMARY:Ashtanga dla początkujących
DESCRIPTION:Wprowadzenie do I serii Ashtanga Jogi \nProwadząca: Weronika
URL:https://gardenshala.pl/yoga/ashtanga-102/
LOCATION:Garden Shala\, Czołgistów 13\, Łódź\, 94-217\, Poland
END:VEVENT
BEGIN:VEVENT
DTSTART;TZID=Europe/Helsinki:20250213T200500
DTEND;TZID=Europe/Helsinki:20250213T210500
DTSTAMP:20260422T031743
CREATED:20250129T122035Z
LAST-MODIFIED:20250130T181721Z
UID:10000269-1739477100-1739480700@gardenshala.pl
SUMMARY:Pranayama & Medytacja
DESCRIPTION:Praktyka mindfulness (uważności) i medytacji\, połączona wraz z technikami oddechowymi. \nProwadząca: Mariana Krulikovska
URL:https://gardenshala.pl/yoga/medytacja-pranayama-3/
LOCATION:Garden Shala\, Czołgistów 13\, Łódź\, 94-217\, Poland
END:VEVENT
BEGIN:VEVENT
DTSTART;TZID=Europe/Warsaw:20250214T173000
DTEND;TZID=Europe/Warsaw:20250214T184500
DTSTAMP:20260422T031743
CREATED:20241220T084612Z
LAST-MODIFIED:20241220T084612Z
UID:10000219-1739554200-1739558700@gardenshala.pl
SUMMARY:WSTĘP DO JOGI - Kurs
DESCRIPTION:WSTĘP DO JOGI \n2-miesięczny Kurs wprowadzający do jogi z Olą Wietechą-Drobik \nZagłąb się w filozofii jogi i wykorzystaj jej bogactwo w praktyce oraz życiu codziennym! \n 
URL:https://gardenshala.pl/yoga/wstep-do-jogi-kurs-5/
LOCATION:Garden Shala\, Czołgistów 13\, Łódź\, 94-217\, Poland
END:VEVENT
BEGIN:VEVENT
DTSTART;TZID=Europe/Helsinki:20250214T185000
DTEND;TZID=Europe/Helsinki:20250214T202000
DTSTAMP:20260422T031743
CREATED:20250123T190634Z
LAST-MODIFIED:20250130T180823Z
UID:10000236-1739559000-1739564400@gardenshala.pl
SUMMARY:Ashtanga - wstęp do II serii
DESCRIPTION:Wprowadzenie do II serii Ashtanga Jogi \nProwadząca: Julia
URL:https://gardenshala.pl/yoga/ashtanga-99/
LOCATION:Garden Shala\, Czołgistów 13\, Łódź\, 94-217\, Poland
END:VEVENT
BEGIN:VEVENT
DTSTART;TZID=Europe/Helsinki:20250215T090000
DTEND;TZID=Europe/Helsinki:20250215T104500
DTSTAMP:20260422T031743
CREATED:20250129T114427Z
LAST-MODIFIED:20250130T180831Z
UID:10000243-1739610000-1739616300@gardenshala.pl
SUMMARY:Ashtanga Mysore
DESCRIPTION:Mysore – praktyka własna pod przewodnictwem nauczyciela \nProwadząca: Julia
URL:https://gardenshala.pl/yoga/ashtanga-103/
LOCATION:Garden Shala\, Czołgistów 13\, Łódź\, 94-217\, Poland
END:VEVENT
BEGIN:VEVENT
DTSTART;TZID=Europe/Warsaw:20250215T170000
DTEND;TZID=Europe/Warsaw:20250215T200000
DTSTAMP:20260422T031743
CREATED:20250202T153238Z
LAST-MODIFIED:20250202T153238Z
UID:10000276-1739638800-1739649600@gardenshala.pl
SUMMARY:Joga Walentynkowa
DESCRIPTION:Wykład i dyskusja o czakrach oraz ich odniesieniu do życia codziennego\, partner joga – praktyka jogi w parach\, medytacja.\nProwadząca: Mariana Krulikovska
URL:https://gardenshala.pl/yoga/joga-walentynkowa/
LOCATION:Garden Shala\, Czołgistów 13\, Łódź\, 94-217\, Poland
END:VEVENT
BEGIN:VEVENT
DTSTART;TZID=Europe/Helsinki:20250216T100000
DTEND;TZID=Europe/Helsinki:20250216T111500
DTSTAMP:20260422T031743
CREATED:20250129T114652Z
LAST-MODIFIED:20250130T180900Z
UID:10000244-1739700000-1739704500@gardenshala.pl
SUMMARY:Vinyasa Joga
DESCRIPTION:Energia i Pobudzenie \nPraktyka jogi mająca na celu rozbudzenie ciała i umysłu – czyli idealny sposób na rozpoczęcie niedzieli! \nProwadząca: Julia
URL:https://gardenshala.pl/yoga/vinyasa-37/
LOCATION:Garden Shala\, Czołgistów 13\, Łódź\, 94-217\, Poland
END:VEVENT
BEGIN:VEVENT
DTSTART;TZID=Europe/Warsaw:20250216T112500
DTEND;TZID=Europe/Warsaw:20250216T124000
DTSTAMP:20260422T031743
CREATED:20250129T121436Z
LAST-MODIFIED:20250130T180912Z
UID:10000264-1739705100-1739709600@gardenshala.pl
SUMMARY:Łagodna Vinyasa & Joga Nidra
DESCRIPTION:Łagodny\, płynny ruch połączony z oddechem. \nPraktyka zakończona głęboką relaksacją jogi nidry. \nProwadząca: Julia Zabost
URL:https://gardenshala.pl/yoga/vinyasa-joga-nidra-3/
LOCATION:Garden Shala\, Czołgistów 13\, Łódź\, 94-217\, Poland
END:VEVENT
END:VCALENDAR