BEGIN:VCALENDAR
VERSION:2.0
PRODID:-//GARDEN SHALA - ECPv6.7.1//NONSGML v1.0//EN
CALSCALE:GREGORIAN
METHOD:PUBLISH
X-WR-CALNAME:GARDEN SHALA
X-ORIGINAL-URL:https://gardenshala.pl
X-WR-CALDESC:Events for GARDEN SHALA
REFRESH-INTERVAL;VALUE=DURATION:PT1H
X-Robots-Tag:noindex
X-PUBLISHED-TTL:PT1H
BEGIN:VTIMEZONE
TZID:Europe/Warsaw
BEGIN:DAYLIGHT
TZOFFSETFROM:+0100
TZOFFSETTO:+0200
TZNAME:CEST
DTSTART:20250330T010000
END:DAYLIGHT
BEGIN:STANDARD
TZOFFSETFROM:+0200
TZOFFSETTO:+0100
TZNAME:CET
DTSTART:20251026T010000
END:STANDARD
TZID:Europe/Helsinki
BEGIN:DAYLIGHT
TZOFFSETFROM:+0200
TZOFFSETTO:+0300
TZNAME:EEST
DTSTART:20250330T010000
END:DAYLIGHT
BEGIN:STANDARD
TZOFFSETFROM:+0300
TZOFFSETTO:+0200
TZNAME:EET
DTSTART:20251026T010000
END:STANDARD
END:VTIMEZONE
BEGIN:VEVENT
DTSTART;TZID=Europe/Warsaw:20250224T173000
DTEND;TZID=Europe/Warsaw:20250224T184500
DTSTAMP:20260421T223413
CREATED:20250130T171231Z
LAST-MODIFIED:20250130T181423Z
UID:10000275-1740418200-1740422700@gardenshala.pl
SUMMARY:Joga dla początkujących
DESCRIPTION:Solidna podstawa do praktyki jogi\, prawidłowego wykonywania asan oraz pracy z oddechem.  \nProwadząca: Ola Wietecha-Drobik
URL:https://gardenshala.pl/yoga/joga-dla-poczatkujacych-4/
LOCATION:Garden Shala\, Czołgistów 13\, Łódź\, 94-217\, Poland
END:VEVENT
BEGIN:VEVENT
DTSTART;TZID=Europe/Helsinki:20250224T185000
DTEND;TZID=Europe/Helsinki:20250224T202000
DTSTAMP:20260421T223413
CREATED:20250222T170958Z
LAST-MODIFIED:20250222T170958Z
UID:10000294-1740423000-1740428400@gardenshala.pl
SUMMARY:Hatha Joga
DESCRIPTION:Statyczna praktyka pozycji jogi z elementami technik oddechowych i medytacji. \nProwadząca: Ola
URL:https://gardenshala.pl/yoga/hatha-joga-3/
LOCATION:Garden Shala\, Czołgistów 13\, Łódź\, 94-217\, Poland
END:VEVENT
BEGIN:VEVENT
DTSTART;TZID=Europe/Helsinki:20250225T173000
DTEND;TZID=Europe/Helsinki:20250225T183000
DTSTAMP:20260421T223413
CREATED:20250222T170650Z
LAST-MODIFIED:20250222T170650Z
UID:10000288-1740504600-1740508200@gardenshala.pl
SUMMARY:Ashtanga dla początkujących
DESCRIPTION:Wprowadzenie do I serii Ashtanga Jogi \nProwadząca: Agnieszka
URL:https://gardenshala.pl/yoga/ashtanga-dla-poczatkujacych-2/
LOCATION:Garden Shala\, Czołgistów 13\, Łódź\, 94-217\, Poland
END:VEVENT
BEGIN:VEVENT
DTSTART;TZID=Europe/Helsinki:20250225T184500
DTEND;TZID=Europe/Helsinki:20250225T201500
DTSTAMP:20260421T223413
CREATED:20250129T115730Z
LAST-MODIFIED:20250130T181448Z
UID:10000255-1740509100-1740514500@gardenshala.pl
SUMMARY:Ashtanga Mysore
DESCRIPTION:Mysore – praktyka własna Ashtanga Jogi pod przewodnictwem nauczyciela. \nProwadząca: Agnieszka
URL:https://gardenshala.pl/yoga/ashtanga-110/
LOCATION:Garden Shala\, Czołgistów 13\, Łódź\, 94-217\, Poland
END:VEVENT
BEGIN:VEVENT
DTSTART;TZID=Europe/Warsaw:20250226T171500
DTEND;TZID=Europe/Warsaw:20250226T183000
DTSTAMP:20260421T223413
CREATED:20241220T084432Z
LAST-MODIFIED:20241220T084432Z
UID:10000215-1740590100-1740594600@gardenshala.pl
SUMMARY:ODKRYJ ASHTANGĘ - kurs
DESCRIPTION:ODKRYJ ASHTANGĘ – 2-miesięczny kurs wprowadzający do Ashtanga jogi z Julią Zabost \nOdkryj świat ashtangi\, jej filozofię\, najważniejsze aspekty i zanurz się w ruchu połączonym z oddechem.
URL:https://gardenshala.pl/yoga/odkryj-ashtange-kurs-6/
LOCATION:Garden Shala\, Czołgistów 13\, Łódź\, 94-217\, Poland
END:VEVENT
BEGIN:VEVENT
DTSTART;TZID=Europe/Warsaw:20250226T184000
DTEND;TZID=Europe/Warsaw:20250226T195500
DTSTAMP:20260421T223413
CREATED:20250129T121439Z
LAST-MODIFIED:20250130T181522Z
UID:10000265-1740595200-1740599700@gardenshala.pl
SUMMARY:Vinyasa Joga
DESCRIPTION:Power Vinyasa \nDynamiczna praktyka asan – rozgrzewająca i wzmacniająca ciało\, przeplatana płynnymi przejściami.  \nProwadząca: Julia Zabost
URL:https://gardenshala.pl/yoga/vinyasa-40/
LOCATION:Garden Shala\, Czołgistów 13\, Łódź\, 94-217\, Poland
END:VEVENT
BEGIN:VEVENT
DTSTART;TZID=Europe/Helsinki:20250227T173000
DTEND;TZID=Europe/Helsinki:20250227T184500
DTSTAMP:20260421T223413
CREATED:20250129T115840Z
LAST-MODIFIED:20250130T181545Z
UID:10000256-1740677400-1740681900@gardenshala.pl
SUMMARY:Hatha Joga
DESCRIPTION:Statyczna praktyka pozycji jogi z elementami technik oddechowych i medytacji. \nJoga ogólna. \nProwadząca: Weronika
URL:https://gardenshala.pl/yoga/hatha-48/
LOCATION:Garden Shala\, Czołgistów 13\, Łódź\, 94-217\, Poland
END:VEVENT
BEGIN:VEVENT
DTSTART;TZID=Europe/Helsinki:20250227T185000
DTEND;TZID=Europe/Helsinki:20250227T200000
DTSTAMP:20260421T223413
CREATED:20250129T115822Z
LAST-MODIFIED:20250219T195832Z
UID:10000257-1740682200-1740686400@gardenshala.pl
SUMMARY:Ashtanga dla początkujących
DESCRIPTION:Wprowadzenie do I serii Ashtanga Jogi \nProwadząca: Mariana
URL:https://gardenshala.pl/yoga/ashtanga-111/
LOCATION:Garden Shala\, Czołgistów 13\, Łódź\, 94-217\, Poland
END:VEVENT
BEGIN:VEVENT
DTSTART;TZID=Europe/Helsinki:20250227T200500
DTEND;TZID=Europe/Helsinki:20250227T210500
DTSTAMP:20260421T223413
CREATED:20250129T122201Z
LAST-MODIFIED:20250130T181627Z
UID:10000271-1740686700-1740690300@gardenshala.pl
SUMMARY:Pranayama & Medytacja
DESCRIPTION:Praktyka mindfulness (uważności) i medytacji\, połączona wraz z technikami oddechowymi. \nProwadząca: Mariana Krulikovska
URL:https://gardenshala.pl/yoga/medytacja-pranayama-4/
LOCATION:Garden Shala\, Czołgistów 13\, Łódź\, 94-217\, Poland
END:VEVENT
BEGIN:VEVENT
DTSTART;TZID=Europe/Warsaw:20250228T173000
DTEND;TZID=Europe/Warsaw:20250228T184500
DTSTAMP:20260421T223413
CREATED:20241220T084756Z
LAST-MODIFIED:20241220T084756Z
UID:10000221-1740763800-1740768300@gardenshala.pl
SUMMARY:WSTĘP DO JOGI - Kurs
DESCRIPTION:WSTĘP DO JOGI \n2-miesięczny Kurs wprowadzający do jogi z Olą Wietechą-Drobik \nZagłąb się w filozofii jogi i wykorzystaj jej bogactwo w praktyce oraz życiu codziennym! \n 
URL:https://gardenshala.pl/yoga/wstep-do-jogi-kurs-7/
LOCATION:Garden Shala\, Czołgistów 13\, Łódź\, 94-217\, Poland
END:VEVENT
BEGIN:VEVENT
DTSTART;TZID=Europe/Helsinki:20250228T185000
DTEND;TZID=Europe/Helsinki:20250228T202000
DTSTAMP:20260421T223413
CREATED:20250129T115902Z
LAST-MODIFIED:20250130T181639Z
UID:10000258-1740768600-1740774000@gardenshala.pl
SUMMARY:Ashtanga - wstęp do II serii
DESCRIPTION:Wprowadzenie do II serii Ashtanga Jogi \nProwadząca: Julia
URL:https://gardenshala.pl/yoga/ashtanga-112/
LOCATION:Garden Shala\, Czołgistów 13\, Łódź\, 94-217\, Poland
END:VEVENT
BEGIN:VEVENT
DTSTART;TZID=Europe/Helsinki:20250301T090000
DTEND;TZID=Europe/Helsinki:20250301T104500
DTSTAMP:20260421T223413
CREATED:20250222T170750Z
LAST-MODIFIED:20250222T170750Z
UID:10000290-1740819600-1740825900@gardenshala.pl
SUMMARY:Ashtanga Mysore
DESCRIPTION:Mysore – praktyka własna pod przewodnictwem nauczyciela \nProwadząca: Julia
URL:https://gardenshala.pl/yoga/ashtanga-mysore-2/
LOCATION:Garden Shala\, Czołgistów 13\, Łódź\, 94-217\, Poland
END:VEVENT
BEGIN:VEVENT
DTSTART;TZID=Europe/Helsinki:20250302T100000
DTEND;TZID=Europe/Helsinki:20250302T111500
DTSTAMP:20260421T223413
CREATED:20250222T170827Z
LAST-MODIFIED:20250222T170827Z
UID:10000291-1740909600-1740914100@gardenshala.pl
SUMMARY:Vinyasa Joga
DESCRIPTION:Energia i Pobudzenie \nPraktyka jogi mająca na celu rozbudzenie ciała i umysłu – czyli idealny sposób na rozpoczęcie niedzieli! \nProwadząca: Julia
URL:https://gardenshala.pl/yoga/vinyasa-joga-2/
LOCATION:Garden Shala\, Czołgistów 13\, Łódź\, 94-217\, Poland
END:VEVENT
BEGIN:VEVENT
DTSTART;TZID=Europe/Warsaw:20250302T112500
DTEND;TZID=Europe/Warsaw:20250302T124000
DTSTAMP:20260421T223413
CREATED:20250222T170848Z
LAST-MODIFIED:20250222T170848Z
UID:10000292-1740914700-1740919200@gardenshala.pl
SUMMARY:Łagodna Vinyasa & Joga Nidra
DESCRIPTION:Łagodny\, płynny ruch połączony z oddechem. \nPraktyka zakończona głęboką relaksacją jogi nidry. \nProwadząca: Julia Zabost
URL:https://gardenshala.pl/yoga/lagodna-vinyasa-joga-nidra/
LOCATION:Garden Shala\, Czołgistów 13\, Łódź\, 94-217\, Poland
END:VEVENT
END:VCALENDAR