BEGIN:VCALENDAR
VERSION:2.0
PRODID:-//GARDEN SHALA - ECPv6.7.1//NONSGML v1.0//EN
CALSCALE:GREGORIAN
METHOD:PUBLISH
X-ORIGINAL-URL:https://gardenshala.pl
X-WR-CALDESC:Events for GARDEN SHALA
REFRESH-INTERVAL;VALUE=DURATION:PT1H
X-Robots-Tag:noindex
X-PUBLISHED-TTL:PT1H
BEGIN:VTIMEZONE
TZID:Europe/Warsaw
BEGIN:DAYLIGHT
TZOFFSETFROM:+0100
TZOFFSETTO:+0200
TZNAME:CEST
DTSTART:20250330T010000
END:DAYLIGHT
BEGIN:STANDARD
TZOFFSETFROM:+0200
TZOFFSETTO:+0100
TZNAME:CET
DTSTART:20251026T010000
END:STANDARD
TZID:Europe/Helsinki
BEGIN:DAYLIGHT
TZOFFSETFROM:+0200
TZOFFSETTO:+0300
TZNAME:EEST
DTSTART:20250330T010000
END:DAYLIGHT
BEGIN:STANDARD
TZOFFSETFROM:+0300
TZOFFSETTO:+0200
TZNAME:EET
DTSTART:20251026T010000
END:STANDARD
END:VTIMEZONE
BEGIN:VEVENT
DTSTART;TZID=Europe/Warsaw:20250331T173000
DTEND;TZID=Europe/Warsaw:20250331T184500
DTSTAMP:20260422T001617
CREATED:20250222T175121Z
LAST-MODIFIED:20250222T175121Z
UID:10000332-1743442200-1743446700@gardenshala.pl
SUMMARY:Joga dla początkujących
DESCRIPTION:Solidna podstawa do praktyki jogi\, prawidłowego wykonywania asan oraz pracy z oddechem.  \nProwadząca: Ola Wietecha-Drobik
URL:https://gardenshala.pl/yoga/joga-dla-poczatkujacych-9/
LOCATION:Garden Shala\, Czołgistów 13\, Łódź\, 94-217\, Poland
END:VEVENT
BEGIN:VEVENT
DTSTART;TZID=Europe/Helsinki:20250331T185000
DTEND;TZID=Europe/Helsinki:20250331T202000
DTSTAMP:20260422T001617
CREATED:20250222T175311Z
LAST-MODIFIED:20250222T175311Z
UID:10000333-1743447000-1743452400@gardenshala.pl
SUMMARY:Hatha Joga
DESCRIPTION:Statyczna praktyka pozycji jogi z elementami technik oddechowych i medytacji. \nProwadząca: Ola
URL:https://gardenshala.pl/yoga/hatha-joga-10/
LOCATION:Garden Shala\, Czołgistów 13\, Łódź\, 94-217\, Poland
END:VEVENT
BEGIN:VEVENT
DTSTART;TZID=Europe/Helsinki:20250401T173000
DTEND;TZID=Europe/Helsinki:20250401T183000
DTSTAMP:20260422T001617
CREATED:20250324T121400Z
LAST-MODIFIED:20250324T121400Z
UID:10000342-1743528600-1743532200@gardenshala.pl
SUMMARY:Ashtanga dla początkujących
DESCRIPTION:Wprowadzenie do I serii Ashtanga Jogi \nProwadząca: Agnieszka
URL:https://gardenshala.pl/yoga/ashtanga-dla-poczatkujacych-9/
LOCATION:Garden Shala\, Czołgistów 13\, Łódź\, 94-217\, Poland
END:VEVENT
BEGIN:VEVENT
DTSTART;TZID=Europe/Helsinki:20250401T184500
DTEND;TZID=Europe/Helsinki:20250401T201500
DTSTAMP:20260422T001617
CREATED:20250324T121423Z
LAST-MODIFIED:20250324T121423Z
UID:10000343-1743533100-1743538500@gardenshala.pl
SUMMARY:Ashtanga Mysore
DESCRIPTION:Mysore – praktyka własna Ashtanga Jogi pod przewodnictwem nauczyciela. \nProwadząca: Agnieszka
URL:https://gardenshala.pl/yoga/ashtanga-mysore-10/
LOCATION:Garden Shala\, Czołgistów 13\, Łódź\, 94-217\, Poland
END:VEVENT
BEGIN:VEVENT
DTSTART;TZID=Europe/Warsaw:20250402T190000
DTEND;TZID=Europe/Warsaw:20250402T203000
DTSTAMP:20260422T001617
CREATED:20250324T124042Z
LAST-MODIFIED:20250324T124042Z
UID:10000364-1743620400-1743625800@gardenshala.pl
SUMMARY:Joga 2.0 - kurs pogłębiający praktykę jogi
DESCRIPTION:Kurs pogłębiający praktykę jogi\nIstota dłoni w praktyce jogi\nInwestycja:\ncały kurs 450 zł\npojedyncze zajęcia: 80 zł\nProwadząca: Julia
URL:https://gardenshala.pl/yoga/joga-2-0-kurs-poglebiajacy-praktyke-jogi-3/
LOCATION:Garden Shala\, Czołgistów 13\, Łódź\, 94-217\, Poland
END:VEVENT
BEGIN:VEVENT
DTSTART;TZID=Europe/Helsinki:20250403T173000
DTEND;TZID=Europe/Helsinki:20250403T184500
DTSTAMP:20260422T001617
CREATED:20250324T121527Z
LAST-MODIFIED:20250324T121527Z
UID:10000344-1743701400-1743705900@gardenshala.pl
SUMMARY:Hatha Joga
DESCRIPTION:Statyczna praktyka pozycji jogi z elementami technik oddechowych i medytacji. \nJoga ogólna. \nProwadząca: Weronika
URL:https://gardenshala.pl/yoga/hatha-joga-12/
LOCATION:Garden Shala\, Czołgistów 13\, Łódź\, 94-217\, Poland
END:VEVENT
BEGIN:VEVENT
DTSTART;TZID=Europe/Helsinki:20250403T190000
DTEND;TZID=Europe/Helsinki:20250403T203000
DTSTAMP:20260422T001617
CREATED:20250324T121634Z
LAST-MODIFIED:20250324T121634Z
UID:10000345-1743706800-1743712200@gardenshala.pl
SUMMARY:Ashtanga dla początkujących
DESCRIPTION:Wprowadzenie do I serii Ashtanga Jogi \nProwadząca: Mariana
URL:https://gardenshala.pl/yoga/ashtanga-dla-poczatkujacych-10/
LOCATION:Garden Shala\, Czołgistów 13\, Łódź\, 94-217\, Poland
END:VEVENT
BEGIN:VEVENT
DTSTART;TZID=Europe/Helsinki:20250403T204000
DTEND;TZID=Europe/Helsinki:20250403T214000
DTSTAMP:20260422T001617
CREATED:20250324T121732Z
LAST-MODIFIED:20250324T121732Z
UID:10000346-1743712800-1743716400@gardenshala.pl
SUMMARY:Pranayama & Medytacja
DESCRIPTION:Praktyka mindfulness (uważności) i medytacji\, połączona wraz z technikami oddechowymi. \nProwadząca: Mariana Krulikovska
URL:https://gardenshala.pl/yoga/pranayama-medytacja-6/
LOCATION:Garden Shala\, Czołgistów 13\, Łódź\, 94-217\, Poland
END:VEVENT
BEGIN:VEVENT
DTSTART;TZID=Europe/Warsaw:20250404T173000
DTEND;TZID=Europe/Warsaw:20250404T184500
DTSTAMP:20260422T001617
CREATED:20250324T121809Z
LAST-MODIFIED:20250324T121809Z
UID:10000347-1743787800-1743792300@gardenshala.pl
SUMMARY:Movement & Prana
DESCRIPTION:Trening oddechowy połączony z ruchem\nProwadząca: Ola
URL:https://gardenshala.pl/yoga/movement-prana-4/
LOCATION:Garden Shala\, Czołgistów 13\, Łódź\, 94-217\, Poland
END:VEVENT
BEGIN:VEVENT
DTSTART;TZID=Europe/Helsinki:20250404T185000
DTEND;TZID=Europe/Helsinki:20250404T202000
DTSTAMP:20260422T001617
CREATED:20250324T121842Z
LAST-MODIFIED:20250324T121842Z
UID:10000348-1743792600-1743798000@gardenshala.pl
SUMMARY:Ashtanga - wstęp do II serii
DESCRIPTION:Wprowadzenie do II serii Ashtanga Jogi \nProwadząca: Julia
URL:https://gardenshala.pl/yoga/ashtanga-wstep-do-ii-serii-5/
LOCATION:Garden Shala\, Czołgistów 13\, Łódź\, 94-217\, Poland
END:VEVENT
BEGIN:VEVENT
DTSTART;TZID=Europe/Helsinki:20250405T090000
DTEND;TZID=Europe/Helsinki:20250405T104500
DTSTAMP:20260422T001617
CREATED:20250324T121938Z
LAST-MODIFIED:20250324T121938Z
UID:10000349-1743843600-1743849900@gardenshala.pl
SUMMARY:Ashtanga Mysore
DESCRIPTION:Mysore – praktyka własna pod przewodnictwem nauczyciela \nProwadząca: Julia
URL:https://gardenshala.pl/yoga/ashtanga-mysore-11/
LOCATION:Garden Shala\, Czołgistów 13\, Łódź\, 94-217\, Poland
END:VEVENT
BEGIN:VEVENT
DTSTART;TZID=Europe/Helsinki:20250406T100000
DTEND;TZID=Europe/Helsinki:20250406T111500
DTSTAMP:20260422T001617
CREATED:20250324T122048Z
LAST-MODIFIED:20250324T122048Z
UID:10000350-1743933600-1743938100@gardenshala.pl
SUMMARY:Vinyasa Joga
DESCRIPTION:Energia i Pobudzenie \nPraktyka jogi mająca na celu rozbudzenie ciała i umysłu – czyli idealny sposób na rozpoczęcie niedzieli! \nProwadząca: Julia
URL:https://gardenshala.pl/yoga/vinyasa-joga-9/
LOCATION:Garden Shala\, Czołgistów 13\, Łódź\, 94-217\, Poland
END:VEVENT
BEGIN:VEVENT
DTSTART;TZID=Europe/Warsaw:20250406T112500
DTEND;TZID=Europe/Warsaw:20250406T124000
DTSTAMP:20260422T001617
CREATED:20250324T122114Z
LAST-MODIFIED:20250405T115756Z
UID:10000351-1743938700-1743943200@gardenshala.pl
SUMMARY:Łagodna Vinyasa & Joga Nidra
DESCRIPTION:Łagodny\, płynny ruch połączony z oddechem. \nPraktyka zakończona głęboką relaksacją jogi nidry. \nProwadząca: Julia Zabost
URL:https://gardenshala.pl/yoga/lagodna-vinyasa-joga-nidra-6/
LOCATION:Garden Shala\, Czołgistów 13\, Łódź\, 94-217\, Poland
END:VEVENT
END:VCALENDAR